BEGIN:VCALENDAR
VERSION:2.0
PRODID:-//Northampton BID - ECPv6.2.4//NONSGML v1.0//EN
CALSCALE:GREGORIAN
METHOD:PUBLISH
X-WR-CALNAME:Northampton BID
X-ORIGINAL-URL:https://www.discovernorthampton.co.uk
X-WR-CALDESC:Events for Northampton BID
REFRESH-INTERVAL;VALUE=DURATION:PT1H
X-Robots-Tag:noindex
X-PUBLISHED-TTL:PT1H
BEGIN:VTIMEZONE
TZID:Europe/London
BEGIN:DAYLIGHT
TZOFFSETFROM:+0000
TZOFFSETTO:+0100
TZNAME:BST
DTSTART:20250330T010000
END:DAYLIGHT
BEGIN:STANDARD
TZOFFSETFROM:+0100
TZOFFSETTO:+0000
TZNAME:GMT
DTSTART:20251026T010000
END:STANDARD
END:VTIMEZONE
BEGIN:VEVENT
DTSTART;TZID=Europe/London:20250723T200000
DTEND;TZID=Europe/London:20250723T200000
DTSTAMP:20260425T134111
CREATED:20250428T102138Z
LAST-MODIFIED:20250428T102138Z
UID:126097-1753300800-1753300800@www.discovernorthampton.co.uk
SUMMARY:Paul Sinha & Ian Stone - Edinburgh Previews - 23rd July
DESCRIPTION:Venue: Cheyne Walk Club\, 2 Cheyne Walk\, Northampton NN1 5PU \nDate: Wednesday 23rd July \nTimes: Doors 7:00pm Show 8:00pm \nPrice: £12 a ticket plus £1 booking fee. \nFeaturing: Paul Sinha & Ian Stone â€“ Work in progress shows
URL:https://www.discovernorthampton.co.uk/event/paul-sinha-ian-stone-edinburgh-previews-23rd-july/
LOCATION:Cheyne Walk Club\, 2 Cheyne Walk\, northampton\, Northamptonshire\, NN1 5PU\, United Kingdom
CATEGORIES:2025 Comedy Festival,Comedy Night
ATTACH;FMTTYPE=image/jpeg:https://www.discovernorthampton.co.uk/wp-content/uploads/2025/04/Cheyne23rdJuly.jpg
END:VEVENT
BEGIN:VEVENT
DTSTART;TZID=Europe/London:20250726T140000
DTEND;TZID=Europe/London:20250726T140000
DTSTAMP:20260425T134111
CREATED:20250428T102350Z
LAST-MODIFIED:20250723T094906Z
UID:126100-1753538400-1753538400@www.discovernorthampton.co.uk
SUMMARY:Daliso Chaponda & Rory O'Hanlon - Edinburgh Previews - 26th July
DESCRIPTION:Venue: Church Restaurant\, 67-83 Bridge St\, Northampton NN1 1PD \nDate: Saturday 26th July \nTimes: Doors 1:00pm Show 2:00pm \nPrice: £10 a ticket plus £1 booking fee. \nFeaturing: Daliso Chaponda & Rory O’Hanlon â€“ Work in progress shows
URL:https://www.discovernorthampton.co.uk/event/daliso-chaponda-rory-ohanlon-edinburgh-previews-26th-july/
LOCATION:The Black Prince\, 15 Abington Square\,\, Northampton\, Northants\, NN1 4AE\, United Kingdom
CATEGORIES:2025 Comedy Festival,Comedy Night
ATTACH;FMTTYPE=image/jpeg:https://www.discovernorthampton.co.uk/wp-content/uploads/2025/04/The-Church-26th-July.jpg
END:VEVENT
END:VCALENDAR