BEGIN:VCALENDAR
VERSION:2.0
PRODID:-//Northampton BID - ECPv6.2.4//NONSGML v1.0//EN
CALSCALE:GREGORIAN
METHOD:PUBLISH
X-WR-CALNAME:Northampton BID
X-ORIGINAL-URL:https://www.discovernorthampton.co.uk
X-WR-CALDESC:Events for Northampton BID
REFRESH-INTERVAL;VALUE=DURATION:PT1H
X-Robots-Tag:noindex
X-PUBLISHED-TTL:PT1H
BEGIN:VTIMEZONE
TZID:Europe/London
BEGIN:DAYLIGHT
TZOFFSETFROM:+0000
TZOFFSETTO:+0100
TZNAME:BST
DTSTART:20250330T010000
END:DAYLIGHT
BEGIN:STANDARD
TZOFFSETFROM:+0100
TZOFFSETTO:+0000
TZNAME:GMT
DTSTART:20251026T010000
END:STANDARD
END:VTIMEZONE
BEGIN:VEVENT
DTSTART;TZID=Europe/London:20251009T200000
DTEND;TZID=Europe/London:20251009T200000
DTSTAMP:20260423T040802
CREATED:20251009T151817Z
LAST-MODIFIED:20251009T151817Z
UID:131201-1760040000-1760040000@www.discovernorthampton.co.uk
SUMMARY:Comedy at the Charles Bradlaugh
DESCRIPTION:Venue: The Charles Bradlaugh 1\, Earl Street\, NN1 3AU. \nTimes: Doors 7pm â€“ Show 8pm \nFeaturing: Arthur Smith\, Kent Cameron\, Jessie Nixon\, Matt Stellingwerf \nPrice: £13 NO Booking Fee \nLine ups are subject to change.
URL:https://www.discovernorthampton.co.uk/event/comedy-at-the-charles-bradlaugh/
CATEGORIES:Comedy Night
ATTACH;FMTTYPE=image/jpeg:https://www.discovernorthampton.co.uk/wp-content/uploads/2025/10/Brad-Oct-2025.jpg
END:VEVENT
END:VCALENDAR