BEGIN:VCALENDAR
VERSION:2.0
PRODID:-//Northampton BID - ECPv6.2.4//NONSGML v1.0//EN
CALSCALE:GREGORIAN
METHOD:PUBLISH
X-ORIGINAL-URL:https://www.discovernorthampton.co.uk
X-WR-CALDESC:Events for Northampton BID
REFRESH-INTERVAL;VALUE=DURATION:PT1H
X-Robots-Tag:noindex
X-PUBLISHED-TTL:PT1H
BEGIN:VTIMEZONE
TZID:Europe/London
BEGIN:DAYLIGHT
TZOFFSETFROM:+0000
TZOFFSETTO:+0100
TZNAME:BST
DTSTART:20260329T010000
END:DAYLIGHT
BEGIN:STANDARD
TZOFFSETFROM:+0100
TZOFFSETTO:+0000
TZNAME:GMT
DTSTART:20261025T010000
END:STANDARD
END:VTIMEZONE
BEGIN:VEVENT
DTSTART;TZID=Europe/London:20260125T110000
DTEND;TZID=Europe/London:20260125T110000
DTSTAMP:20260420T095739
CREATED:20260121T170432Z
LAST-MODIFIED:20260121T170432Z
UID:133975-1769338800-1769338800@www.discovernorthampton.co.uk
SUMMARY:KPOP Fantasy
DESCRIPTION:EXTRA SHOW ADDED at 11.00am \nKPOP Fantasy is a high-energy theatrical celebration of the global phenomenon that is K-pop. \nBlending electrifying choreography with outstanding live vocals\, this immersive stage show brings the spectacle\, precision\, and passion of K-pop to life in a thrilling theatre experience. \nFeaturing powerful performances inspired by the biggest K-pop moments from music\, TV\, and film\, the show delivers non-stop energy\, bold visuals\, and slick choreography from start to finish. \nExpect explosive dance routines\, unforgettable musical moments\, and a vibrant atmosphere that captures everything fans love about K-pop. \nPerfect for devoted fans or K-pop newbies this show is a hit with all ages\, KPOP Fantasy is a vibrant\, feel-good production that celebrates the fantasy\, energy\, and global impact of K-pop in an exhilarating live theatre setting. \nThis production is an independent tribute and is in no way affiliated with\, endorsed by\, or associated with the original artists\, their estates\, or management.
URL:https://www.discovernorthampton.co.uk/event/kpop-fantasy/2026-01-25/
LOCATION:The Old Savoy – The home of The Deco Theatre\, Abington Square\, Northampton\, Northamptonshire\, NN1 4AE
CATEGORIES:Deco,Theatre
ATTACH;FMTTYPE=image/jpeg:https://www.discovernorthampton.co.uk/wp-content/uploads/2026/01/Kpop-Fantasy-Square-480x480-1.jpg
END:VEVENT
END:VCALENDAR