BEGIN:VCALENDAR
VERSION:2.0
PRODID:-//Northampton BID - ECPv6.2.4//NONSGML v1.0//EN
CALSCALE:GREGORIAN
METHOD:PUBLISH
X-WR-CALNAME:Northampton BID
X-ORIGINAL-URL:https://www.discovernorthampton.co.uk
X-WR-CALDESC:Events for Northampton BID
REFRESH-INTERVAL;VALUE=DURATION:PT1H
X-Robots-Tag:noindex
X-PUBLISHED-TTL:PT1H
BEGIN:VTIMEZONE
TZID:Europe/London
BEGIN:DAYLIGHT
TZOFFSETFROM:+0000
TZOFFSETTO:+0100
TZNAME:BST
DTSTART:20260329T010000
END:DAYLIGHT
BEGIN:STANDARD
TZOFFSETFROM:+0100
TZOFFSETTO:+0000
TZNAME:GMT
DTSTART:20261025T010000
END:STANDARD
END:VTIMEZONE
BEGIN:VEVENT
DTSTART;TZID=Europe/London:20260210T193000
DTEND;TZID=Europe/London:20260210T213000
DTSTAMP:20260420T134325
CREATED:20260121T170929Z
LAST-MODIFIED:20260121T170929Z
UID:133985-1770751800-1770759000@www.discovernorthampton.co.uk
SUMMARY:Adult Panto Tour Presents ‘Beauty & The Beast’
DESCRIPTION:Tale as old as time? Not this one! \nBeauty’s looking for love — but instead finds herself trapped in a castle with a beast with a very big… personality. Packed with outrageous innuendo\, dazzling drag\, and more sass than you can shake a candle stick at. This is a laugh-out-loud\, adults-only twist on the fairy tale you thought you knew. \nStarring from Drag Race UK S1 – CHERYL\, Canada’s Drag Race Season 2 Winner – ICESIS COUTURE\, Drag Race Season 7 – PAIGE THREE and Drag Race Season 7 – ELLE VOSQUE \nExpect saucy jokes\, outrageous antics\, and enough cheek to make even Mrs. Potty blush. Will Beauty break the spell before the last rose petal falls or will she end up the wildest of them all? \nLeave the kids at home and be our guest — this one’s strictly for the adults! \n\nPLEASE NOTE : The first two rows are premium seating and include a meet & greet with the cast prior to the show.
URL:https://www.discovernorthampton.co.uk/event/adult-panto-tour-presents-beauty-the-beast/
LOCATION:The Old Savoy – The home of The Deco Theatre\, Abington Square\, Northampton\, Northamptonshire\, NN1 4AE
CATEGORIES:Deco,Theatre
ATTACH;FMTTYPE=image/jpeg:https://www.discovernorthampton.co.uk/wp-content/uploads/2026/01/thumbnail_1_1-SQUARE-NO-BRANDING-batb-adult-480x480-1.jpg
ORGANIZER;CN="The Deco":MAILTO:Toni@stage-right.co.uk
END:VEVENT
END:VCALENDAR