BEGIN:VCALENDAR
VERSION:2.0
PRODID:-//Northampton BID - ECPv6.2.4//NONSGML v1.0//EN
CALSCALE:GREGORIAN
METHOD:PUBLISH
X-WR-CALNAME:Northampton BID
X-ORIGINAL-URL:https://www.discovernorthampton.co.uk
X-WR-CALDESC:Events for Northampton BID
REFRESH-INTERVAL;VALUE=DURATION:PT1H
X-Robots-Tag:noindex
X-PUBLISHED-TTL:PT1H
BEGIN:VTIMEZONE
TZID:Europe/London
BEGIN:DAYLIGHT
TZOFFSETFROM:+0000
TZOFFSETTO:+0100
TZNAME:BST
DTSTART:20260329T010000
END:DAYLIGHT
BEGIN:STANDARD
TZOFFSETFROM:+0100
TZOFFSETTO:+0000
TZNAME:GMT
DTSTART:20261025T010000
END:STANDARD
END:VTIMEZONE
BEGIN:VEVENT
DTSTART;TZID=Europe/London:20260212T193000
DTEND;TZID=Europe/London:20260212T213000
DTSTAMP:20260421T073239
CREATED:20260121T171048Z
LAST-MODIFIED:20260121T171048Z
UID:133988-1770924600-1770931800@www.discovernorthampton.co.uk
SUMMARY:Tony Stockwell – Psychic Medium
DESCRIPTION:Tony Stockwell – Psychic Medium\nRemarkably compelling\, amazingly detailed\, and always humorous \nThe popular star of TV’s Street Psychic\, Psychic Private Eyes and Psychic Academy\, Tony Stockwell has a long-established credibility as one of the top Intuitive Mediums. Tony demonstrates his belief that those who have passed can communicate with their loved ones with detailed messages frequently including names\, dates\, and locations and all delivered with emotion\, sensitivity\, and empathy. The evening may include psychometry\, photograph readings and psychic prediction. \nRecent legislative guidelines insist that any Evening of Mediumship should be billed ‘for entertainment purposes’. Tony certainly uses his natural wit\, showmanship\, and Cockney charisma to entertain but more important\, Mediumship has the potential to change someone’s life and instil in them a sense of peace\, comfort\, and purpose. \nWe hope that nobody can fail to come away untouched by the experience.
URL:https://www.discovernorthampton.co.uk/event/tony-stockwell-psychic-medium/
LOCATION:The Old Savoy – The home of The Deco Theatre\, Abington Square\, Northampton\, Northamptonshire\, NN1 4AE
CATEGORIES:Deco,Theatre
ATTACH;FMTTYPE=image/jpeg:https://www.discovernorthampton.co.uk/wp-content/uploads/2026/01/image003.jpg
ORGANIZER;CN="The Deco":MAILTO:Toni@stage-right.co.uk
END:VEVENT
END:VCALENDAR