BEGIN:VCALENDAR
VERSION:2.0
PRODID:-//Northampton BID - ECPv6.2.4//NONSGML v1.0//EN
CALSCALE:GREGORIAN
METHOD:PUBLISH
X-WR-CALNAME:Northampton BID
X-ORIGINAL-URL:https://www.discovernorthampton.co.uk
X-WR-CALDESC:Events for Northampton BID
REFRESH-INTERVAL;VALUE=DURATION:PT1H
X-Robots-Tag:noindex
X-PUBLISHED-TTL:PT1H
BEGIN:VTIMEZONE
TZID:Europe/London
BEGIN:DAYLIGHT
TZOFFSETFROM:+0000
TZOFFSETTO:+0100
TZNAME:BST
DTSTART:20260329T010000
END:DAYLIGHT
BEGIN:STANDARD
TZOFFSETFROM:+0100
TZOFFSETTO:+0000
TZNAME:GMT
DTSTART:20261025T010000
END:STANDARD
END:VTIMEZONE
BEGIN:VEVENT
DTSTART;TZID=Europe/London:20260214T190000
DTEND;TZID=Europe/London:20260214T190000
DTSTAMP:20260420T191913
CREATED:20260121T171404Z
LAST-MODIFIED:20260121T171404Z
UID:133994-1771095600-1771095600@www.discovernorthampton.co.uk
SUMMARY:Handbag Heaven Club Night
DESCRIPTION:Live on Stage \n“It’s a night of Old Skool disco! Where do people who used to tear up the dancefloors in the 60s/ 70s/ 80s or even 90s go to now if they want to dance? \nTo a Handbag Heaven Club Night at The Old Savoy! \nA riot of memories\, camp fun and iconic tunes hosted by Radio Northampton’s Bernie Keith\, it’s a return to the dance floors we grew up with. 4 hours of non-stop dancing at The Deco – Handbag Heaven Club Nights will be the place to bring it all back!” \nGet your tickets now. Doors at 7pm\, fun starts 7.30pm – Over 18’s only
URL:https://www.discovernorthampton.co.uk/event/handbag-heaven-club-night-9/
LOCATION:The Old Savoy – The home of The Deco Theatre\, Abington Square\, Northampton\, Northamptonshire\, NN1 4AE
CATEGORIES:Deco,Theatre
ORGANIZER;CN="The Deco":MAILTO:Toni@stage-right.co.uk
END:VEVENT
END:VCALENDAR