BEGIN:VCALENDAR
VERSION:2.0
PRODID:-//Northampton BID - ECPv6.2.4//NONSGML v1.0//EN
CALSCALE:GREGORIAN
METHOD:PUBLISH
X-ORIGINAL-URL:https://www.discovernorthampton.co.uk
X-WR-CALDESC:Events for Northampton BID
REFRESH-INTERVAL;VALUE=DURATION:PT1H
X-Robots-Tag:noindex
X-PUBLISHED-TTL:PT1H
BEGIN:VTIMEZONE
TZID:Europe/London
BEGIN:DAYLIGHT
TZOFFSETFROM:+0000
TZOFFSETTO:+0100
TZNAME:BST
DTSTART:20260329T010000
END:DAYLIGHT
BEGIN:STANDARD
TZOFFSETFROM:+0100
TZOFFSETTO:+0000
TZNAME:GMT
DTSTART:20261025T010000
END:STANDARD
END:VTIMEZONE
BEGIN:VEVENT
DTSTART;TZID=Europe/London:20260220T193000
DTEND;TZID=Europe/London:20260220T214500
DTSTAMP:20260421T014816
CREATED:20260121T172123Z
LAST-MODIFIED:20260121T172123Z
UID:134002-1771615800-1771623900@www.discovernorthampton.co.uk
SUMMARY:Money for Nothing
DESCRIPTION:Money For Nothing \n\nPLEASE NOTE DUE TO THE NATURE OF THIS SHOW THERE IS A STRONG POSSIBILITY THAT PEOPLE MAY STAND UP AND DANCE AROUND YOU AND IN FRONT OF YOU \n\n  \n\nEurope’s #1 Dire Straits Show Money For Nothing is a tribute to the Dire Straits like no other before. Prepare to be captivated by the authentic sounds of one of the most successful rock bands of all time. \nMoney For Nothing is a show of the highest quality. Meticulous attention is paid to every detail\, to faithfully recreate the distinct sound of Dire Straits in this unforgettable sonic spectacular. \nDuring their career Dire Straits sold over 120 million albums and spent over a thousand weeks on the UK charts\, ranking fifth all- \ntime! \nPerforming Money for Nothing\, Romeo and Juliet\, Sultans of Swing\, Private Investigations\, Walk of Life\, Brothers in Arms\, So Far Away \nand many more much-loved classics drawn from six platinum albums. \nFeaturing all of their legendary hits\, audiences are treated to those soaring guitar solos and instantly \nrecognisable riffs by an incredibly talented band in a musical encounter you will never forget. \n“Make no mistake\, they are good\, very good” \nThe Observer
URL:https://www.discovernorthampton.co.uk/event/money-for-nothing/
LOCATION:The Old Savoy – The home of The Deco Theatre\, Abington Square\, Northampton\, Northamptonshire\, NN1 4AE
CATEGORIES:Deco,Theatre
ATTACH;FMTTYPE=image/jpeg:https://www.discovernorthampton.co.uk/wp-content/uploads/2026/01/Money-for-Nothing-480x480-1.jpg
ORGANIZER;CN="The Deco":MAILTO:Toni@stage-right.co.uk
END:VEVENT
END:VCALENDAR