BEGIN:VCALENDAR
VERSION:2.0
PRODID:-//Northampton BID - ECPv6.2.4//NONSGML v1.0//EN
CALSCALE:GREGORIAN
METHOD:PUBLISH
X-WR-CALNAME:Northampton BID
X-ORIGINAL-URL:https://www.discovernorthampton.co.uk
X-WR-CALDESC:Events for Northampton BID
REFRESH-INTERVAL;VALUE=DURATION:PT1H
X-Robots-Tag:noindex
X-PUBLISHED-TTL:PT1H
BEGIN:VTIMEZONE
TZID:Europe/London
BEGIN:DAYLIGHT
TZOFFSETFROM:+0000
TZOFFSETTO:+0100
TZNAME:BST
DTSTART:20260329T010000
END:DAYLIGHT
BEGIN:STANDARD
TZOFFSETFROM:+0100
TZOFFSETTO:+0000
TZNAME:GMT
DTSTART:20261025T010000
END:STANDARD
END:VTIMEZONE
BEGIN:VEVENT
DTSTART;TZID=Europe/London:20260227T193000
DTEND;TZID=Europe/London:20260227T215000
DTSTAMP:20260421T123811
CREATED:20260121T172729Z
LAST-MODIFIED:20260121T172729Z
UID:134011-1772220600-1772229000@www.discovernorthampton.co.uk
SUMMARY:Oasiz – 2026
DESCRIPTION:OASIZ are one of the UK’s most authentic tribute bands a point proved in 2023 when a short clip of front man Steve performing as Liam went viral on social media with over half a million views. Many fans were convinced the clip was actually of Liam Gallagher himself which led to the story being covered in the national press as well as a high profile TV appearance later that year. \nTo celebrate the 30th anniversary of the record breaking Oasis shows at Knebworth\, OASIZ are embarking on their third UK tour and this is your chance to see them in top form. The set list will pay homage to the most memorable parts of the Knebworth shows and will also include all the big hitting career spanning anthems that you would associate with a greatest hits tour. \nOne not to miss!
URL:https://www.discovernorthampton.co.uk/event/oasiz-2026/
LOCATION:The Old Savoy – The home of The Deco Theatre\, Abington Square\, Northampton\, Northamptonshire\, NN1 4AE
CATEGORIES:Deco,Theatre
ATTACH;FMTTYPE=image/jpeg:https://www.discovernorthampton.co.uk/wp-content/uploads/2026/01/PosterMaker_16042025_062243-480x480-1.jpg
ORGANIZER;CN="The Deco":MAILTO:Toni@stage-right.co.uk
END:VEVENT
BEGIN:VEVENT
DTSTART;TZID=Europe/London:20260228T183000
DTEND;TZID=Europe/London:20260228T205000
DTSTAMP:20260421T123811
CREATED:20260121T172850Z
LAST-MODIFIED:20260121T172850Z
UID:134014-1772303400-1772311800@www.discovernorthampton.co.uk
SUMMARY:Taylormania 2026
DESCRIPTION:An award winning extravaganza that plays tribute to one of the leading contemporary recording artists of our time. Katy Ellis a self obsessed ‘Swiftie’ with an incredible live band and dancers promises to deliver the most authentic recreation of a Taylor Swift show you will ever see. \n\nPLEASE NOTE DUE TO THE NATURE OF THIS SHOW THERE IS A STRONG POSSIBILITY THAT PEOPLE MAY STAND UP AND DANCE AROUND YOU AND IN FRONT OF YOU \n\nThe show has already taken ‘Swiftie’ fans across the world by storm and features all of Taylor’s much loved hits including ; Shake It Off\, Blank Space\, Love Story\, You Belong With Me\, Look What You Made Me Do\, I Knew You Were Trouble and many\, many more.
URL:https://www.discovernorthampton.co.uk/event/taylormania-2026/
LOCATION:The Old Savoy – The home of The Deco Theatre\, Abington Square\, Northampton\, Northamptonshire\, NN1 4AE
CATEGORIES:Deco,Theatre
ATTACH;FMTTYPE=image/jpeg:https://www.discovernorthampton.co.uk/wp-content/uploads/2026/01/Taylormania_SQUARE-480x480-1.jpeg
END:VEVENT
END:VCALENDAR