BEGIN:VCALENDAR
VERSION:2.0
PRODID:-//Northampton BID - ECPv6.2.4//NONSGML v1.0//EN
CALSCALE:GREGORIAN
METHOD:PUBLISH
X-WR-CALNAME:Northampton BID
X-ORIGINAL-URL:https://www.discovernorthampton.co.uk
X-WR-CALDESC:Events for Northampton BID
REFRESH-INTERVAL;VALUE=DURATION:PT1H
X-Robots-Tag:noindex
X-PUBLISHED-TTL:PT1H
BEGIN:VTIMEZONE
TZID:Europe/London
BEGIN:DAYLIGHT
TZOFFSETFROM:+0000
TZOFFSETTO:+0100
TZNAME:BST
DTSTART:20250330T010000
END:DAYLIGHT
BEGIN:STANDARD
TZOFFSETFROM:+0100
TZOFFSETTO:+0000
TZNAME:GMT
DTSTART:20251026T010000
END:STANDARD
END:VTIMEZONE
BEGIN:VEVENT
DTSTART;TZID=Europe/London:20251031T200000
DTEND;TZID=Europe/London:20251031T200000
DTSTAMP:20260426T032023
CREATED:20251021T124829Z
LAST-MODIFIED:20251021T124829Z
UID:131329-1761940800-1761940800@www.discovernorthampton.co.uk
SUMMARY:Dready Jamz - The Haunted Bay
DESCRIPTION:Get ready to experience the spookiest night of the year with live music and haunted surprises at Dready Jamz â€“ The Haunted Bay \nWelcome to Dready Jamz â€“ The Haunted Bay!\nCome join us at Turtle Bay Northampton on October 31\, 2025 at 8:00 PM for a spooky night filled with music and fun. \nGet ready to dance to the beats of our DJ NC and enjoy chilling cocktails at the bar. Costumes are highly encouraged\, so put on your best ghostly or ghoulish outfit! \nDonâ€™t miss out on this Halloween extravaganza â€“ itâ€™s going to be a fang-tastic night to remember!
URL:https://www.discovernorthampton.co.uk/event/dready-jamz-the-haunted-bay/
LOCATION:Turtle Bay\, 2-6 Gold Street\, Northampton\, NN1 1RS
CATEGORIES:DJ,Event,MUSIC
ATTACH;FMTTYPE=image/png:https://www.discovernorthampton.co.uk/wp-content/uploads/2025/10/Screenshot-2025-10-21-134523.png
END:VEVENT
END:VCALENDAR