BEGIN:VCALENDAR
VERSION:2.0
PRODID:-//Northampton BID - ECPv6.2.4//NONSGML v1.0//EN
CALSCALE:GREGORIAN
METHOD:PUBLISH
X-WR-CALNAME:Northampton BID
X-ORIGINAL-URL:https://www.discovernorthampton.co.uk
X-WR-CALDESC:Events for Northampton BID
REFRESH-INTERVAL;VALUE=DURATION:PT1H
X-Robots-Tag:noindex
X-PUBLISHED-TTL:PT1H
BEGIN:VTIMEZONE
TZID:Europe/London
BEGIN:DAYLIGHT
TZOFFSETFROM:+0000
TZOFFSETTO:+0100
TZNAME:BST
DTSTART:20250330T010000
END:DAYLIGHT
BEGIN:STANDARD
TZOFFSETFROM:+0100
TZOFFSETTO:+0000
TZNAME:GMT
DTSTART:20251026T010000
END:STANDARD
BEGIN:DAYLIGHT
TZOFFSETFROM:+0000
TZOFFSETTO:+0100
TZNAME:BST
DTSTART:20260329T010000
END:DAYLIGHT
BEGIN:STANDARD
TZOFFSETFROM:+0100
TZOFFSETTO:+0000
TZNAME:GMT
DTSTART:20261025T010000
END:STANDARD
END:VTIMEZONE
BEGIN:VEVENT
DTSTART;TZID=Europe/London:20251206T193000
DTEND;TZID=Europe/London:20251206T223000
DTSTAMP:20260426T005212
CREATED:20251110T135237Z
LAST-MODIFIED:20251204T142636Z
UID:131818-1765049400-1765060200@www.discovernorthampton.co.uk
SUMMARY:DJ YODA - 80s Mix Tape Live: Audio Visual show
DESCRIPTION:DJ Yoda returns to Northampton\, following his sold out appearance earlier in 2024\, with a brand new audio-visual show 80s Mixtape Live! Celebrating the decade of decadence\, Yoda’s new show takes you on a journey through the 80s\, from the biggest dancefloor fillers\, through film\, TV and back again. As with his 50 years of Hip Hop show\, Yoda will be mixing the visuals\, as well as the tunes. We’ve seen a few snippets already and you’re in for a treat! Leg warmers and shoulder pads encouraged.
URL:https://www.discovernorthampton.co.uk/event/dj-yoda-80s-mix-tape-live-audio-visual-show/
LOCATION:Roadmender\, 1 Lady's Ln\, Northampton\, Northamptonshire\, NN1 3AH\, United Kingdom
CATEGORIES:DJ,MUSIC
ATTACH;FMTTYPE=image/png:https://www.discovernorthampton.co.uk/wp-content/uploads/2025/11/Screenshot-2025-11-10-135001.png
END:VEVENT
BEGIN:VEVENT
DTSTART;TZID=Europe/London:20260103T200000
DTEND;TZID=Europe/London:20260103T200000
DTSTAMP:20260426T005212
CREATED:20260102T092252Z
LAST-MODIFIED:20260102T092252Z
UID:133451-1767470400-1767470400@www.discovernorthampton.co.uk
SUMMARY:SATURDAY NIGHT LIVE DJ
DESCRIPTION:Join us at The Penny Loafer for a night of dance floor fillers\, unbeatable vibes\, and drink deals all night long. \nGrab your friends\, hit the dancefloor\, and let’s make it a night to remember. \n 
URL:https://www.discovernorthampton.co.uk/event/saturday-night-live-dj/
LOCATION:Penny Loafer\, 10-12 Market Sq\, Northampton\, Northampton\, northamptonshire\, NN1 2DL\, United Kingdom
CATEGORIES:DJ,MUSIC
ATTACH;FMTTYPE=image/png:https://www.discovernorthampton.co.uk/wp-content/uploads/2026/01/Screenshot-2026-01-02-091959.png
END:VEVENT
BEGIN:VEVENT
DTSTART;VALUE=DATE:20260110
DTEND;VALUE=DATE:20260111
DTSTAMP:20260426T005212
CREATED:20260102T101527Z
LAST-MODIFIED:20260102T101527Z
UID:133457-1768003200-1768089599@www.discovernorthampton.co.uk
SUMMARY:Old Bank Saturday Parties.
DESCRIPTION:Experience the epitome of nightlife at Old Bank Northampton with our electrifying Saturday parties. With two dynamically designed rooms boasting an enhanced sound system\, we offer nothing short of the finest clubbing experience until the wee hours of the morning. Main room magic: Our resident DJs\, John Morphy\, DJ Leedos and Matt Goff\, will be spinning an irresistible blend of commercial charts\, RnB\, and floor-fillers to keep you grooving all night long. Arrive early to dodge the queue and secure your spot on the dance floor. Whatever your musical taste\, Old Bank Northampton is the Saturday night destination you won’t want to miss!
URL:https://www.discovernorthampton.co.uk/event/old-bank-saturday-parties/
LOCATION:Old Bank\, 4-5 St Giles Square\, Northampton\, NN1 1DA
CATEGORIES:DJ,MUSIC
ATTACH;FMTTYPE=image/png:https://www.discovernorthampton.co.uk/wp-content/uploads/2026/01/Screenshot-2026-01-02-100829.png
END:VEVENT
BEGIN:VEVENT
DTSTART;TZID=Europe/London:20260213T203000
DTEND;TZID=Europe/London:20260213T233000
DTSTAMP:20260426T005212
CREATED:20260203T084202Z
LAST-MODIFIED:20260203T084202Z
UID:134194-1771014600-1771025400@www.discovernorthampton.co.uk
SUMMARY:DJ MISTER 1
DESCRIPTION:Dancehall/Reggae/RnB
URL:https://www.discovernorthampton.co.uk/event/dj-mister-1/
LOCATION:Turtle Bay\, 2-6 Gold Street\, Northampton\, NN1 1RS
CATEGORIES:DJ,MUSIC
ATTACH;FMTTYPE=image/png:https://www.discovernorthampton.co.uk/wp-content/uploads/2026/02/Screenshot-2026-02-03-083845.png
END:VEVENT
BEGIN:VEVENT
DTSTART;TZID=Europe/London:20260220T203000
DTEND;TZID=Europe/London:20260220T233000
DTSTAMP:20260426T005212
CREATED:20260206T143900Z
LAST-MODIFIED:20260206T143900Z
UID:134526-1771619400-1771630200@www.discovernorthampton.co.uk
SUMMARY:Dancehall/Reggae/RnB
DESCRIPTION:DJ Matty B
URL:https://www.discovernorthampton.co.uk/event/dancehall-reggae-rnb/
LOCATION:Turtle Bay\, 2-6 Gold Street\, Northampton\, NN1 1RS
CATEGORIES:DJ,MUSIC
ATTACH;FMTTYPE=image/png:https://www.discovernorthampton.co.uk/wp-content/uploads/2026/02/Screenshot-2026-02-06-143842.png
END:VEVENT
BEGIN:VEVENT
DTSTART;TZID=Europe/London:20260529T190000
DTEND;TZID=Europe/London:20260529T223000
DTSTAMP:20260426T005212
CREATED:20260413T112341Z
LAST-MODIFIED:20260413T112341Z
UID:136058-1780081200-1780093800@www.discovernorthampton.co.uk
SUMMARY:GARY DAVIES BIG 80s PARTY Discos for Grown ups NORTHAMPTON ROYAL & DERNGATE
DESCRIPTION:Legendary 80s DJ & host of BBC Radio 2’s 80s show ‘woo’ GARY DAVIES and DFGUPS bring you a high-energy 80s party packed with iconic 80s hits \n\n\n\n\nThe ‘woo’ GARY DAVIES Disco for Grown Ups 80s PARTY is coming to Northamptons Royal and Derngate Theatre\nFriday 29th May 2026\nLegendary 80s DJ and host of BBC Radio 2’s Sounds of the 80s show Gary Davies has teamed up with Discos For Grown Ups to bring you an unstoppable\, high-energy 80s party…packed with iconic 80s hits and floor-shaking anthems\nSo dust off your shoulder pads\, tease that hair\, and dig out your old Wham and Frankie t-shirts for a fabulous party night of 80s fun! \n‘WOO’ Gary and Discos for Grown Ups will take you back in time to relive the 80s with an incredible party night of non-stop 80s hits to dance to.\nOur Discos for Grown ups DJ will get the 80s party started\, then Gary will follow with loads of 80s classics and ‘woo’ Gary fun! \nThe Royal and Derngate’s seats will be removed to create a dance floor !
URL:https://www.discovernorthampton.co.uk/event/gary-davies-big-80s-party-discos-for-grown-ups-northampton-royal-derngate/
LOCATION:Royal and Derngate Theatre\, 19-21 Guildhall Road\, Northampton\, Northamptonshire\, NN1 1DP
CATEGORIES:dance,DJ,MUSIC
ATTACH;FMTTYPE=image/png:https://www.discovernorthampton.co.uk/wp-content/uploads/2026/04/Screenshot-2026-04-13-122031.png
ORGANIZER;CN="Royal and Derngate":MAILTO:BoxOffice@royalandderngate.co.uk
END:VEVENT
END:VCALENDAR