BEGIN:VCALENDAR
VERSION:2.0
PRODID:-//Northampton BID - ECPv6.2.4//NONSGML v1.0//EN
CALSCALE:GREGORIAN
METHOD:PUBLISH
X-WR-CALNAME:Northampton BID
X-ORIGINAL-URL:https://www.discovernorthampton.co.uk
X-WR-CALDESC:Events for Northampton BID
REFRESH-INTERVAL;VALUE=DURATION:PT1H
X-Robots-Tag:noindex
X-PUBLISHED-TTL:PT1H
BEGIN:VTIMEZONE
TZID:Europe/London
BEGIN:DAYLIGHT
TZOFFSETFROM:+0000
TZOFFSETTO:+0100
TZNAME:BST
DTSTART:20220327T010000
END:DAYLIGHT
BEGIN:STANDARD
TZOFFSETFROM:+0100
TZOFFSETTO:+0000
TZNAME:GMT
DTSTART:20221030T010000
END:STANDARD
BEGIN:DAYLIGHT
TZOFFSETFROM:+0000
TZOFFSETTO:+0100
TZNAME:BST
DTSTART:20230326T010000
END:DAYLIGHT
BEGIN:STANDARD
TZOFFSETFROM:+0100
TZOFFSETTO:+0000
TZNAME:GMT
DTSTART:20231029T010000
END:STANDARD
BEGIN:DAYLIGHT
TZOFFSETFROM:+0000
TZOFFSETTO:+0100
TZNAME:BST
DTSTART:20240331T010000
END:DAYLIGHT
BEGIN:STANDARD
TZOFFSETFROM:+0100
TZOFFSETTO:+0000
TZNAME:GMT
DTSTART:20241027T010000
END:STANDARD
BEGIN:DAYLIGHT
TZOFFSETFROM:+0000
TZOFFSETTO:+0100
TZNAME:BST
DTSTART:20250330T010000
END:DAYLIGHT
BEGIN:STANDARD
TZOFFSETFROM:+0100
TZOFFSETTO:+0000
TZNAME:GMT
DTSTART:20251026T010000
END:STANDARD
END:VTIMEZONE
BEGIN:VEVENT
DTSTART;TZID=Europe/London:20221111T200000
DTEND;TZID=Europe/London:20221111T230000
DTSTAMP:20260421T134309
CREATED:20221003T133510Z
LAST-MODIFIED:20221003T133510Z
UID:110727-1668196800-1668207600@www.discovernorthampton.co.uk
SUMMARY:DJ In The House - Saints Coffee
DESCRIPTION:
URL:https://www.discovernorthampton.co.uk/event/dj-in-the-house-saints-coffee/
LOCATION:Saints Coffee\, 62 St Giles' St\, Northampton\, Northamptonshire\, NN1 1JW\, United Kingdom
CATEGORIES:DJ
ATTACH;FMTTYPE=image/jpeg:https://www.discovernorthampton.co.uk/wp-content/uploads/2022/10/saints-coffee-at-the-brampton-halt.jpg
END:VEVENT
BEGIN:VEVENT
DTSTART;TZID=Europe/London:20240504T180000
DTEND;TZID=Europe/London:20240504T220000
DTSTAMP:20260421T134309
CREATED:20240502T101125Z
LAST-MODIFIED:20240502T101125Z
UID:119544-1714845600-1714860000@www.discovernorthampton.co.uk
SUMMARY:Apero DJ: Andy Skank
DESCRIPTION:Saturday 4/5: Apéro DJ: @andyskank1 \, bringing the disco\, funk and tropical rhythms from 6-10.
URL:https://www.discovernorthampton.co.uk/event/apero-dj-andy-skank/
LOCATION:V and B\, 10 St Giles' Square\,\, Northampton\, NN1 1DA\, United Kingdom
CATEGORIES:DJ
ATTACH;FMTTYPE=image/jpeg:https://www.discovernorthampton.co.uk/wp-content/uploads/2024/05/VB-Andy-Skank.jpg
END:VEVENT
BEGIN:VEVENT
DTSTART;TZID=Europe/London:20240505T000000
DTEND;TZID=Europe/London:20240505T000000
DTSTAMP:20260421T134309
CREATED:20240502T105959Z
LAST-MODIFIED:20240502T105959Z
UID:119571-1714867200-1714867200@www.discovernorthampton.co.uk
SUMMARY:The Shipmans - Garage Bangers
DESCRIPTION:We have one big bank holiday Sunday coming upâ€¦â€¦\n\n\n\nOur bottomless brunch is going old school with a garage themed afternoon and evening. With our main man DJ riddim man and MC Ryan T live from 4-close.\n\n\n\nThis is going to be a bank holiday Sunday not to be missedâ€¦. With them playing some of the best garage music from the past and present!!and sure to keep you dancing all night!!!\n\n\nwww.facebook.com/shipmansnorthampton/
URL:https://www.discovernorthampton.co.uk/event/the-shipmans-garage-bangers/
LOCATION:The Shipmans\, 12 Drapery\,\, northampton\, Northamptonshire\, NN1 2HG\, United Kingdom
CATEGORIES:Bottomless Brunch,DJ
ATTACH;FMTTYPE=image/jpeg:https://www.discovernorthampton.co.uk/wp-content/uploads/2024/05/1342_SHIPMANS_POSTER_GARAGE-BANGERS-BRUNCH_V1-1-1.jpg
END:VEVENT
BEGIN:VEVENT
DTSTART;TZID=Europe/London:20240510T180000
DTEND;TZID=Europe/London:20240510T220000
DTSTAMP:20260421T134309
CREATED:20240502T102032Z
LAST-MODIFIED:20240502T102032Z
UID:119553-1715364000-1715378400@www.discovernorthampton.co.uk
SUMMARY:Apéro DJ: Noahmono
DESCRIPTION:Apéro Dj: @_noahmono . Bringing the Balearic\, soul\, Latin and reggae from 6-10.
URL:https://www.discovernorthampton.co.uk/event/apero-dj-noahmono-2/
LOCATION:V and B\, 10 St Giles' Square\,\, Northampton\, NN1 1DA\, United Kingdom
CATEGORIES:DJ
ATTACH;FMTTYPE=image/jpeg:https://www.discovernorthampton.co.uk/wp-content/uploads/2024/05/VB-Noahmono.jpg
END:VEVENT
BEGIN:VEVENT
DTSTART;TZID=Europe/London:20240601T200000
DTEND;TZID=Europe/London:20240601T235900
DTSTAMP:20260421T134309
CREATED:20240524T083312Z
LAST-MODIFIED:20240524T083312Z
UID:119798-1717272000-1717286340@www.discovernorthampton.co.uk
SUMMARY:LAVISH June - booking fee included\, branded welcome drink on arrival
DESCRIPTION:Get ready for a fancy night out on 1 June 2024 at LAVISH June 8:00 PM sharp! \nGet ready to indulge in a relaxed yet sophisticated experience at LAVISH\, where luxury and music meet on 1 June 2024 at 8:00 PM. \nTime to get back out and recreate the vibe of Northamptonâ€™s club scene from the mid-eighties to the mid-nineties. Think Ritzy\, Top of the Town\, Forties et al. \nWe have teamed up with one of Northamptonâ€™s best loved DJs from Northamptonâ€™s nightlife\, past and present. Thatâ€™s right\, Mark Dean has jumped on board to give us a night to remember. Heâ€™ll play all of the old classics and mix it up with some new sounds too. \nAs a special thank you for putting your dancing shoes back on\, we will be serving complimentary drinks to all guests that arrive before 9pm. \nWhat a great opportunity to put your best clothes on and bump in to some familiar faces. \nCanâ€™t wait to see you all there x \nÂ  \nBook your tickets via Eventbrite\, \nwww.eventbrite.co.uk/e/lavish-june-booking-fee-included-branded-welcome-drink-on-arrival-tickets-850270721617?aff=oddtdtcreator
URL:https://www.discovernorthampton.co.uk/event/lavish-june/
LOCATION:Matrix Lounge\, 254 Wellingborough Road\, Northampton\, NN1 4EJ
CATEGORIES:DJ
ATTACH;FMTTYPE=image/jpeg:https://www.discovernorthampton.co.uk/wp-content/uploads/2024/05/LAVISH-JUNE.jpg
END:VEVENT
BEGIN:VEVENT
DTSTART;TZID=Europe/London:20240802T180000
DTEND;TZID=Europe/London:20240802T220000
DTSTAMP:20260421T134309
CREATED:20240801T121612Z
LAST-MODIFIED:20240801T121612Z
UID:120961-1722621600-1722636000@www.discovernorthampton.co.uk
SUMMARY:Apero DJ: M Cutz
DESCRIPTION:02/08: @mrmcutz : Jazzy Downtempo Grooves. 6-10.
URL:https://www.discovernorthampton.co.uk/event/apero-dj-m-cutz/
LOCATION:V and B\, 10 St Giles' Square\,\, Northampton\, NN1 1DA\, United Kingdom
CATEGORIES:DJ,MUSIC
ATTACH;FMTTYPE=image/jpeg:https://www.discovernorthampton.co.uk/wp-content/uploads/2024/08/453616963_17993579153672891_5182369231985678601_n.jpg
END:VEVENT
BEGIN:VEVENT
DTSTART;TZID=Europe/London:20240803T180000
DTEND;TZID=Europe/London:20240803T220000
DTSTAMP:20260421T134309
CREATED:20240801T121937Z
LAST-MODIFIED:20240801T121937Z
UID:120964-1722708000-1722722400@www.discovernorthampton.co.uk
SUMMARY:Apero DJ: Andy Skank
DESCRIPTION:03/08: @andyskank1 : Disco\, Funk & Tropical Rhythms. 6-10.
URL:https://www.discovernorthampton.co.uk/event/apero-dj-andy-skank-2/
LOCATION:V and B\, 10 St Giles' Square\,\, Northampton\, NN1 1DA\, United Kingdom
CATEGORIES:DJ,MUSIC
ATTACH;FMTTYPE=image/jpeg:https://www.discovernorthampton.co.uk/wp-content/uploads/2024/08/453743337_17993579198672891_6274885601231765970_n.jpg
END:VEVENT
BEGIN:VEVENT
DTSTART;TZID=Europe/London:20240810T180000
DTEND;TZID=Europe/London:20240810T220000
DTSTAMP:20260421T134309
CREATED:20240801T122230Z
LAST-MODIFIED:20240801T122230Z
UID:120967-1723312800-1723327200@www.discovernorthampton.co.uk
SUMMARY:Apero DJ: Noahmono
DESCRIPTION:10/08 + 16/08: @_noahmono . Balearic\, Soul\, Latin & Reggae.
URL:https://www.discovernorthampton.co.uk/event/apero-dj-noahmono-3/
LOCATION:V and B\, 10 St Giles' Square\,\, Northampton\, NN1 1DA\, United Kingdom
CATEGORIES:DJ,MUSIC
ATTACH;FMTTYPE=image/jpeg:https://www.discovernorthampton.co.uk/wp-content/uploads/2024/08/453245968_17993579162672891_6457809073687769415_n.jpg
END:VEVENT
BEGIN:VEVENT
DTSTART;TZID=Europe/London:20240816T180000
DTEND;TZID=Europe/London:20240816T220000
DTSTAMP:20260421T134309
CREATED:20240801T122503Z
LAST-MODIFIED:20240801T122503Z
UID:120970-1723831200-1723845600@www.discovernorthampton.co.uk
SUMMARY:Apero DJ: Noahmono
DESCRIPTION:10/08 + 16/08: @_noahmono . Balearic\, Soul\, Latin & Reggae.
URL:https://www.discovernorthampton.co.uk/event/apero-dj-noahmono-4/
LOCATION:V and B\, 10 St Giles' Square\,\, Northampton\, NN1 1DA\, United Kingdom
CATEGORIES:DJ,MUSIC
ATTACH;FMTTYPE=image/jpeg:https://www.discovernorthampton.co.uk/wp-content/uploads/2024/08/453731888_17993579171672891_4607595326036244646_n.jpg
END:VEVENT
BEGIN:VEVENT
DTSTART;TZID=Europe/London:20240817T180000
DTEND;TZID=Europe/London:20240817T220000
DTSTAMP:20260421T134309
CREATED:20240801T122744Z
LAST-MODIFIED:20240801T122744Z
UID:120973-1723917600-1723932000@www.discovernorthampton.co.uk
SUMMARY:Apero DJ: Ritchie K and DZJ
DESCRIPTION:17/08 + 23/08: @ritchie__k : Balearic\, Acid\, Jazz & Soul. 6-10.
URL:https://www.discovernorthampton.co.uk/event/apero-dj-ritchie-k-and-dzj/
LOCATION:V and B\, 10 St Giles' Square\,\, Northampton\, NN1 1DA\, United Kingdom
CATEGORIES:DJ,MUSIC
ATTACH;FMTTYPE=image/jpeg:https://www.discovernorthampton.co.uk/wp-content/uploads/2024/08/453593530_17993579195672891_271440497961124041_n.jpg
END:VEVENT
BEGIN:VEVENT
DTSTART;TZID=Europe/London:20240823T180000
DTEND;TZID=Europe/London:20240823T220000
DTSTAMP:20260421T134309
CREATED:20240801T122952Z
LAST-MODIFIED:20240801T122952Z
UID:120976-1724436000-1724450400@www.discovernorthampton.co.uk
SUMMARY:Apero DJ: Ritchie K
DESCRIPTION:17/08 + 23/08: @ritchie__k : Balearic\, Acid\, Jazz & Soul. 6-10.
URL:https://www.discovernorthampton.co.uk/event/apero-dj-ritchie-k/
LOCATION:V and B\, 10 St Giles' Square\,\, Northampton\, NN1 1DA\, United Kingdom
CATEGORIES:DJ,MUSIC
ATTACH;FMTTYPE=image/jpeg:https://www.discovernorthampton.co.uk/wp-content/uploads/2024/08/453268729_17993579180672891_6606823445079298270_n.jpg
END:VEVENT
BEGIN:VEVENT
DTSTART;TZID=Europe/London:20240824T180000
DTEND;TZID=Europe/London:20240824T220000
DTSTAMP:20260421T134309
CREATED:20240801T123200Z
LAST-MODIFIED:20240801T123200Z
UID:120979-1724522400-1724536800@www.discovernorthampton.co.uk
SUMMARY:Apero DJ: Andy Skank
DESCRIPTION:24/08: @andyskank1 : Disco\, Soul & Tropical Rhythms. 6-10.
URL:https://www.discovernorthampton.co.uk/event/apero-dj-andy-skank-3/
LOCATION:V and B\, 10 St Giles' Square\,\, Northampton\, NN1 1DA\, United Kingdom
CATEGORIES:DJ,MUSIC
ATTACH;FMTTYPE=image/jpeg:https://www.discovernorthampton.co.uk/wp-content/uploads/2024/08/453743337_17993579198672891_6274885601231765970_n-1.jpg
END:VEVENT
BEGIN:VEVENT
DTSTART;TZID=Europe/London:20240830T180000
DTEND;TZID=Europe/London:20240830T220000
DTSTAMP:20260421T134309
CREATED:20240801T123706Z
LAST-MODIFIED:20240801T123706Z
UID:120985-1725040800-1725055200@www.discovernorthampton.co.uk
SUMMARY:Apero DJ: Tom Eclect
DESCRIPTION:30/08: @tomeclect : Disco\, Soul\, Jazz & Boogie. 6-10.
URL:https://www.discovernorthampton.co.uk/event/apero-dj-tom-eclect/
LOCATION:V and B\, 10 St Giles' Square\,\, Northampton\, NN1 1DA\, United Kingdom
CATEGORIES:DJ,MUSIC
ATTACH;FMTTYPE=image/jpeg:https://www.discovernorthampton.co.uk/wp-content/uploads/2024/08/453438536_17993579225672891_4137488931586484588_n.jpg
END:VEVENT
BEGIN:VEVENT
DTSTART;TZID=Europe/London:20240831T180000
DTEND;TZID=Europe/London:20240831T220000
DTSTAMP:20260421T134309
CREATED:20240801T124630Z
LAST-MODIFIED:20240801T124630Z
UID:120988-1725127200-1725141600@www.discovernorthampton.co.uk
SUMMARY:DJ Apero: Noahmono
DESCRIPTION:31/08: @_noahmono : Balearic\, Soul\, Latin & reggae. 6-10.
URL:https://www.discovernorthampton.co.uk/event/dj-apero-noahmono/
LOCATION:V and B\, 10 St Giles' Square\,\, Northampton\, NN1 1DA\, United Kingdom
CATEGORIES:DJ,MUSIC
ATTACH;FMTTYPE=image/png:https://www.discovernorthampton.co.uk/wp-content/uploads/2024/02/download.png
END:VEVENT
BEGIN:VEVENT
DTSTART;TZID=Europe/London:20241218T200000
DTEND;TZID=Europe/London:20241218T220000
DTSTAMP:20260421T134309
CREATED:20241217T145209Z
LAST-MODIFIED:20241217T145209Z
UID:122742-1734552000-1734559200@www.discovernorthampton.co.uk
SUMMARY:Open Mic
DESCRIPTION:For those making their break up weekend plans why not come and pay us a visit
URL:https://www.discovernorthampton.co.uk/event/open-mic-11/
LOCATION:The Wig And Pen\, 19 St Giles' St\, northampton\, Northamptonshire\, NN1 1JA\, United Kingdom
CATEGORIES:Christmas,Club,DJ,Event,MUSIC,Night Out,Party
ATTACH;FMTTYPE=image/jpeg:https://www.discovernorthampton.co.uk/wp-content/uploads/2024/12/wigged-him.jpg
END:VEVENT
BEGIN:VEVENT
DTSTART;TZID=Europe/London:20241220T210000
DTEND;TZID=Europe/London:20241221T010000
DTSTAMP:20260421T134309
CREATED:20241217T144417Z
LAST-MODIFIED:20241217T144417Z
UID:122738-1734728400-1734742800@www.discovernorthampton.co.uk
SUMMARY:TREVOR NELSON SOUL NATION--SOUL RnB--CLUB CLASSICS AT THE ROADMENDER
DESCRIPTION:AFTER ANOTHER SELL OUT EVENT “TREVOR NELSON-SOUL NATION” IS JOINING US AGAIN FOR A  NIGHT OF SOUL/RNB AND CLUB CLASSICS. \nTrevor Nelson holds a cornerstone in UK music history with a career that spans decades and genres. London native began on then pirate radio station which we’ve come to know as Kiss FM. Nelsons took fans through his collection of Soul\, R&B\, Reggae and Dancehall daily with his BBC Radio 1 Extra stint. Now that he’s moved to only presenting on Sundays he’s ready to grace fans with something special. \nThis Xmas  he’ll be taking Northampton by storm again for one night only. \nTake this rare opportunity to see one  UK’s soul masters spin for die-hard fans and grab a ticket before they sell out. \n9pm to 1am
URL:https://www.discovernorthampton.co.uk/event/trevor-nelson-soul-nation-soul-rnb-club-classics-at-the-roadmender/
LOCATION:Roadmender\, 1 Lady's Ln\, Northampton\, Northamptonshire\, NN1 3AH\, United Kingdom
CATEGORIES:Club,Concert,dance,DJ,Event,Festival,MUSIC,Night Out,Party,show
ATTACH;FMTTYPE=image/jpeg:https://www.discovernorthampton.co.uk/wp-content/uploads/2024/12/Trevor-Nelson_540x540-1.jpg
END:VEVENT
BEGIN:VEVENT
DTSTART;TZID=Europe/London:20250117T190000
DTEND;TZID=Europe/London:20250117T223000
DTSTAMP:20260421T134309
CREATED:20250102T110225Z
LAST-MODIFIED:20250102T110225Z
UID:122918-1737140400-1737153000@www.discovernorthampton.co.uk
SUMMARY:FROM THE JAM ‘SETTING SONS’ TOUR
DESCRIPTION:FROM THE JAM ‘Setting Sons’ 45th Anniversary Tour  \nFrom the Jam WERE FORMED IN 2006 WHEN Russell Hastings AND Rick Buckler (EX-THE JAM DRUMMER)\, WHO WERE TOURING AS The Gift\, JOINED FORCES WITH Bruce Foxton (EX-THE JAM BASSIST AND SONGWRITER)\, TO FORM From The Jam. Russell Hastings HAS BEEN THE ONLY FRONTMAN TO WORK WITH BOTH Rick Buckler AND Bruce Foxton SINCE Paul Weller. \nFrom the Jam WILL TOUR THE UK CELEBRATING THE 45TH ANNIVERSARY OF The Jam’S FOURTH STUDIO ALBUM SETTING SONS. THE CRITICALLY ACCLAIMED ALBUM REACHED #4 IN THE UK AND WAS THE BAND’S FIRST ALBUM TO ENTER THE US CHARTS. SUCCEEDING ALL MOD CONS\, THE ALBUM BECAME A COMMERCIAL SUCCESS\, EARNING THEM THEIR FIRST TOP TEN HIT SINGLE THE ETON RIFLES. ”IT SEEMS THAT EVEN THE OBSCURE ALBUM TRACKS LIKE LITTLE BOY SOLDIERS AND THICK AS THIEVES ARE AS POPULAR WHEN WE PLAY THEM LIVE AS THE HIT SINGLES.” SAYS Russell Hastings
URL:https://www.discovernorthampton.co.uk/event/from-the-jam-setting-sons-tour/
LOCATION:Roadmender\, 1 Lady's Ln\, Northampton\, Northamptonshire\, NN1 3AH\, United Kingdom
CATEGORIES:Club,Concert,dance,DJ,Event,MUSIC,Night Out
ATTACH;FMTTYPE=image/jpeg:https://www.discovernorthampton.co.uk/wp-content/uploads/2025/01/FTJ-Setting-Sons-2024-IG21.jpg
END:VEVENT
BEGIN:VEVENT
DTSTART;TZID=Europe/London:20250124T193000
DTEND;TZID=Europe/London:20250124T220000
DTSTAMP:20260421T134309
CREATED:20250102T160004Z
LAST-MODIFIED:20250102T160004Z
UID:122986-1737747000-1737756000@www.discovernorthampton.co.uk
SUMMARY:Drag me to the 80s
DESCRIPTION:Meet the cast of our 80’s Divas and join us on an unforgettable journey as this amazing production delivers a dazzling fusion of nostalgia\, empowerment and a celebration of the extraordinary.
URL:https://www.discovernorthampton.co.uk/event/drag-me-to-the-80s/
LOCATION:The Deco\, The Deco\, Abington Square\, Northampton NN1 4AE
CATEGORIES:Concert,dance,Deco,DJ,Festival,MUSIC,The Deco
ATTACH;FMTTYPE=image/jpeg:https://www.discovernorthampton.co.uk/wp-content/uploads/2025/01/V4DnJLFt-543x768-1.jpeg
ORGANIZER;CN="The Deco":MAILTO:Toni@stage-right.co.uk
END:VEVENT
BEGIN:VEVENT
DTSTART;TZID=Europe/London:20250131T193000
DTEND;TZID=Europe/London:20250131T223000
DTSTAMP:20260421T134309
CREATED:20250102T110652Z
LAST-MODIFIED:20250102T110652Z
UID:122922-1738351800-1738362600@www.discovernorthampton.co.uk
SUMMARY:GOLDIE LOOKING CHAIN & GUESTS
DESCRIPTION:STRAIGHT OUTTA NEWPORT AND BEST KNOWN FOR CLASSICS “GUNS DON’T KILL PEOPLE RAPPERS DO” AND “YOUR MOTHER’S GOT A PENIS”\, THE GLC ARE OFFICIALLY BRITAIN’S BIGGEST RAP GROUP . \nMAGGOT\, EGGSY\, DWAIN XAIN ZEDONG\, MIKE BALLS\, ADRIAN FANDANGO\, 2HATS\, THE WIBBLER\, MYSTKAL AND GRAYHAM THE BEAR ARE COMING TO ROADMENDER IN NORTHAMPTON AND KEEPING IT REAL. \nFUELLED BY LAMBRINI\, FAGS\, CHICKEN TIKKA MASALA AND WEED THEY ALL TOOK TO THE MIC AND IN 2001 THE GLC’S FIRST ALBUM “DON’T BLAME THE CHAIN” WAS BORN. \nAND SO IT BEGAN\, A JOURNEY WHICH HAS SEEN THE GLC TOP THE CHARTS\, PERFORM AROUND THE WORLD AND AT EVERY MAJOR FESTIVAL IN THE WESTERN HEMISPHERE MAKING MILLIONS OF PEOPLE LAUGH ALONG THE WAY. \nTO DATE THE GLC HAVE RELEASED 18 ALBUMS… AND AMAZINGLY NONE OF THEM HAVE DIED YET
URL:https://www.discovernorthampton.co.uk/event/goldie-looking-chain-guests/
LOCATION:Roadmender\, 1 Lady's Ln\, Northampton\, Northamptonshire\, NN1 3AH\, United Kingdom
CATEGORIES:Club,Concert,dance,DJ,Event,Festival,MUSIC,Night Out,Party
ATTACH;FMTTYPE=image/png:https://www.discovernorthampton.co.uk/wp-content/uploads/2025/01/Bunch-of-goons.png
END:VEVENT
BEGIN:VEVENT
DTSTART;TZID=Europe/London:20250201T180000
DTEND;TZID=Europe/London:20250201T220000
DTSTAMP:20260421T134309
CREATED:20250130T110827Z
LAST-MODIFIED:20250130T110827Z
UID:123326-1738432800-1738447200@www.discovernorthampton.co.uk
SUMMARY:Apéro DJ: Noahmono
DESCRIPTION:01/02:  apéro DJ: Noahmono. Kick February off with a bang and @_noahmono ‘s set of Balearic\, soul\, Latin & reggae. 6-10.
URL:https://www.discovernorthampton.co.uk/event/apero-dj-noahmono-9/
LOCATION:V and B\, 10 St Giles' Square\,\, Northampton\, NN1 1DA\, United Kingdom
CATEGORIES:Club,DJ,Night Out
ATTACH;FMTTYPE=image/jpeg:https://www.discovernorthampton.co.uk/wp-content/uploads/2025/01/V-and-B-events.jpg
END:VEVENT
BEGIN:VEVENT
DTSTART;TZID=Europe/London:20250308T200000
DTEND;TZID=Europe/London:20250308T200000
DTSTAMP:20260421T134309
CREATED:20250303T122857Z
LAST-MODIFIED:20250303T122857Z
UID:123988-1741464000-1741464000@www.discovernorthampton.co.uk
SUMMARY:DJ Clue
DESCRIPTION:He is back and ready to get you up and dancing!
URL:https://www.discovernorthampton.co.uk/event/dj-clue/
LOCATION:The Fish Pub\, 11 Fish St\, Northampton\, Northamptonshire\, NN1 2AA\, United Kingdom
CATEGORIES:DJ
ATTACH;FMTTYPE=image/jpeg:https://www.discovernorthampton.co.uk/wp-content/uploads/2025/03/IMG_5581.jpg
END:VEVENT
BEGIN:VEVENT
DTSTART;TZID=Europe/London:20250426T190000
DTEND;TZID=Europe/London:20250426T190000
DTSTAMP:20260421T134309
CREATED:20250423T094644Z
LAST-MODIFIED:20250423T094644Z
UID:125911-1745694000-1745694000@www.discovernorthampton.co.uk
SUMMARY:DJ RIDDIM MAN DEAN
DESCRIPTION:Catch me DJâ€™ing @shipmansnorthampton this coming Saturday night from 7pm until midnight
URL:https://www.discovernorthampton.co.uk/event/dj-riddim-man-dean/
LOCATION:Shipmans Pub\, 12 The Draprey\, Northampton\, Northants\, NN1 2HG\, United Kingdom
CATEGORIES:DJ,MUSIC
ATTACH;FMTTYPE=image/jpeg:https://www.discovernorthampton.co.uk/wp-content/uploads/2025/04/IMG_5760.jpg
END:VEVENT
BEGIN:VEVENT
DTSTART;TZID=Europe/London:20250503T120000
DTEND;TZID=Europe/London:20250503T220000
DTSTAMP:20260421T134309
CREATED:20250211T081535Z
LAST-MODIFIED:20250211T081535Z
UID:123440-1746273600-1746309600@www.discovernorthampton.co.uk
SUMMARY:Delasole Festival
DESCRIPTION:Delasole Festival 2025 \nAn exciting and extravagant music festival this May Bank Holiday weekend\, set in the beautiful historic grounds and woodlands of Delapré Abbey. Expect over 40 incredible artists\, breathtaking performances\, fire breathers\, stilt walkers\, giant robots\, rides\, inflatables\, and an array of delicious street food to keep the party going all weekend long! \nSaturday 3rd May\nA vibrant Family Music Festival\, perfect for all ages\, packed with family-friendly activities\, live music\, and entertainment for everyone to enjoy. \nSunday 4th May\nAn unforgettable Over 18’s Music Festival\, featuring a diverse line-up of incredible music\, performances\, and immersive experiences for adults ready to celebrate in style. \nMay the 3rd and 4th be with you\, don’t miss out!
URL:https://www.discovernorthampton.co.uk/event/delasole-festival/2025-05-03/
LOCATION:Delepre Abbey\, London Rd\, Northampton\, Northants\, NN4 8AW\, United Kingdom
CATEGORIES:Club,Concert,dance,DJ,Festival,MUSIC,Night Out
ATTACH;FMTTYPE=image/jpeg:https://www.discovernorthampton.co.uk/wp-content/uploads/2025/02/image-1.jpeg
END:VEVENT
BEGIN:VEVENT
DTSTART;TZID=Europe/London:20250504T120000
DTEND;TZID=Europe/London:20250504T220000
DTSTAMP:20260421T134309
CREATED:20250211T081535Z
LAST-MODIFIED:20250211T081535Z
UID:123443-1746360000-1746396000@www.discovernorthampton.co.uk
SUMMARY:Delasole Festival
DESCRIPTION:Delasole Festival 2025 \nAn exciting and extravagant music festival this May Bank Holiday weekend\, set in the beautiful historic grounds and woodlands of Delapré Abbey. Expect over 40 incredible artists\, breathtaking performances\, fire breathers\, stilt walkers\, giant robots\, rides\, inflatables\, and an array of delicious street food to keep the party going all weekend long! \nSaturday 3rd May\nA vibrant Family Music Festival\, perfect for all ages\, packed with family-friendly activities\, live music\, and entertainment for everyone to enjoy. \nSunday 4th May\nAn unforgettable Over 18’s Music Festival\, featuring a diverse line-up of incredible music\, performances\, and immersive experiences for adults ready to celebrate in style. \nMay the 3rd and 4th be with you\, don’t miss out!
URL:https://www.discovernorthampton.co.uk/event/delasole-festival/2025-05-04/
LOCATION:Delepre Abbey\, London Rd\, Northampton\, Northants\, NN4 8AW\, United Kingdom
CATEGORIES:Club,Concert,dance,DJ,Festival,MUSIC,Night Out
ATTACH;FMTTYPE=image/jpeg:https://www.discovernorthampton.co.uk/wp-content/uploads/2025/02/image-1.jpeg
END:VEVENT
BEGIN:VEVENT
DTSTART;TZID=Europe/London:20250510T200000
DTEND;TZID=Europe/London:20250510T200000
DTSTAMP:20260421T134309
CREATED:20250425T094738Z
LAST-MODIFIED:20250425T094738Z
UID:126016-1746907200-1746907200@www.discovernorthampton.co.uk
SUMMARY:DJ CLUE
DESCRIPTION:Best way to start your weekend with a night full of dancing!
URL:https://www.discovernorthampton.co.uk/event/dj-clue-2/
LOCATION:The Fish Pub\, 11 Fish St\, Northampton\, Northamptonshire\, NN1 2AA\, United Kingdom
CATEGORIES:dance,DJ,MUSIC
ATTACH;FMTTYPE=image/png:https://www.discovernorthampton.co.uk/wp-content/uploads/2025/04/Screenshot-2025-04-24-132026.png
END:VEVENT
BEGIN:VEVENT
DTSTART;TZID=Europe/London:20250517T190000
DTEND;TZID=Europe/London:20250517T190000
DTSTAMP:20260421T134309
CREATED:20250512T092721Z
LAST-MODIFIED:20250512T092721Z
UID:126365-1747508400-1747508400@www.discovernorthampton.co.uk
SUMMARY:DJ O.P.1
DESCRIPTION:Playing hiphop\, funk\, soul\, rnb and all the good stuff inbetween.
URL:https://www.discovernorthampton.co.uk/event/dj-o-p-1/
LOCATION:The Shipmans\, 12 Drapery\,\, northampton\, Northamptonshire\, NN1 2HG\, United Kingdom
CATEGORIES:DJ,MUSIC
ATTACH;FMTTYPE=image/png:https://www.discovernorthampton.co.uk/wp-content/uploads/2025/05/Screenshot-2025-05-12-102110.png
END:VEVENT
BEGIN:VEVENT
DTSTART;TZID=Europe/London:20250517T200000
DTEND;TZID=Europe/London:20250517T200000
DTSTAMP:20260421T134309
CREATED:20250425T095715Z
LAST-MODIFIED:20250425T095715Z
UID:126020-1747512000-1747512000@www.discovernorthampton.co.uk
SUMMARY:DJ CLUE
DESCRIPTION:Get up and dance with DJ Clue. Spinning the best of Motown\, Jazz\, 70â€™s Classics and more!
URL:https://www.discovernorthampton.co.uk/event/dj-clue-3/
LOCATION:The Fish Pub\, 11 Fish St\, Northampton\, Northamptonshire\, NN1 2AA\, United Kingdom
CATEGORIES:dance,DJ,MUSIC
ATTACH;FMTTYPE=image/png:https://www.discovernorthampton.co.uk/wp-content/uploads/2025/04/Screenshot-2025-04-24-132026.png
END:VEVENT
BEGIN:VEVENT
DTSTART;TZID=Europe/London:20250524T203000
DTEND;TZID=Europe/London:20250524T203000
DTSTAMP:20260421T134309
CREATED:20250425T100236Z
LAST-MODIFIED:20250425T100236Z
UID:126022-1748118600-1748118600@www.discovernorthampton.co.uk
SUMMARY:The Resident DJ
DESCRIPTION:Dance the bank holiday weekend away with The Resident DJ spinning the hottest tracks.
URL:https://www.discovernorthampton.co.uk/event/the-resident-dj/
LOCATION:The Fish Pub\, 11 Fish St\, Northampton\, Northamptonshire\, NN1 2AA\, United Kingdom
CATEGORIES:DJ,MUSIC
ATTACH;FMTTYPE=image/png:https://www.discovernorthampton.co.uk/wp-content/uploads/2025/04/Screenshot-2025-04-24-132026.png
END:VEVENT
BEGIN:VEVENT
DTSTART;TZID=Europe/London:20250613T180000
DTEND;TZID=Europe/London:20250613T220000
DTSTAMP:20260421T134309
CREATED:20250605T140459Z
LAST-MODIFIED:20250605T140459Z
UID:127504-1749837600-1749852000@www.discovernorthampton.co.uk
SUMMARY:Apéro DJ: @mrmcutz .
DESCRIPTION:13/06: Apéro DJ: @mrmcutz . •funk•hip hop• 6-10.
URL:https://www.discovernorthampton.co.uk/event/apero-dj-mrmcutz/
LOCATION:V and B\, 10 St Giles' Square\,\, Northampton\, NN1 1DA\, United Kingdom
CATEGORIES:DJ
ATTACH;FMTTYPE=image/jpeg:https://www.discovernorthampton.co.uk/wp-content/uploads/2025/06/503839580_18031776314672891_4262003035834348850_n.jpg
END:VEVENT
BEGIN:VEVENT
DTSTART;TZID=Europe/London:20250614T180000
DTEND;TZID=Europe/London:20250614T220000
DTSTAMP:20260421T134309
CREATED:20250605T140735Z
LAST-MODIFIED:20250605T140735Z
UID:127507-1749924000-1749938400@www.discovernorthampton.co.uk
SUMMARY:Apéro DJ: @_noahmono .
DESCRIPTION:14/06: Apéro DJ: @_noahmono . •balearic•soul•latin•reggae •6-10.
URL:https://www.discovernorthampton.co.uk/event/apero-dj-_noahmono/
LOCATION:V and B\, 10 St Giles' Square\,\, Northampton\, NN1 1DA\, United Kingdom
CATEGORIES:DJ
ATTACH;FMTTYPE=image/jpeg:https://www.discovernorthampton.co.uk/wp-content/uploads/2025/06/503319870_18031776329672891_3739057463813613861_n.jpg
END:VEVENT
END:VCALENDAR