BEGIN:VCALENDAR
VERSION:2.0
PRODID:-//Northampton BID - ECPv6.2.4//NONSGML v1.0//EN
CALSCALE:GREGORIAN
METHOD:PUBLISH
X-ORIGINAL-URL:https://www.discovernorthampton.co.uk
X-WR-CALDESC:Events for Northampton BID
REFRESH-INTERVAL;VALUE=DURATION:PT1H
X-Robots-Tag:noindex
X-PUBLISHED-TTL:PT1H
BEGIN:VTIMEZONE
TZID:Europe/London
BEGIN:DAYLIGHT
TZOFFSETFROM:+0000
TZOFFSETTO:+0100
TZNAME:BST
DTSTART:20250330T010000
END:DAYLIGHT
BEGIN:STANDARD
TZOFFSETFROM:+0100
TZOFFSETTO:+0000
TZNAME:GMT
DTSTART:20251026T010000
END:STANDARD
END:VTIMEZONE
BEGIN:VEVENT
DTSTART;TZID=Europe/London:20251206T193000
DTEND;TZID=Europe/London:20251206T223000
DTSTAMP:20260426T003702
CREATED:20251110T135237Z
LAST-MODIFIED:20251204T142636Z
UID:131818-1765049400-1765060200@www.discovernorthampton.co.uk
SUMMARY:DJ YODA - 80s Mix Tape Live: Audio Visual show
DESCRIPTION:DJ Yoda returns to Northampton\, following his sold out appearance earlier in 2024\, with a brand new audio-visual show 80s Mixtape Live! Celebrating the decade of decadence\, Yoda’s new show takes you on a journey through the 80s\, from the biggest dancefloor fillers\, through film\, TV and back again. As with his 50 years of Hip Hop show\, Yoda will be mixing the visuals\, as well as the tunes. We’ve seen a few snippets already and you’re in for a treat! Leg warmers and shoulder pads encouraged.
URL:https://www.discovernorthampton.co.uk/event/dj-yoda-80s-mix-tape-live-audio-visual-show/
LOCATION:Roadmender\, 1 Lady's Ln\, Northampton\, Northamptonshire\, NN1 3AH\, United Kingdom
CATEGORIES:DJ,MUSIC
ATTACH;FMTTYPE=image/png:https://www.discovernorthampton.co.uk/wp-content/uploads/2025/11/Screenshot-2025-11-10-135001.png
END:VEVENT
END:VCALENDAR