BEGIN:VCALENDAR
VERSION:2.0
PRODID:-//Northampton BID - ECPv6.2.4//NONSGML v1.0//EN
CALSCALE:GREGORIAN
METHOD:PUBLISH
X-ORIGINAL-URL:https://www.discovernorthampton.co.uk
X-WR-CALDESC:Events for Northampton BID
REFRESH-INTERVAL;VALUE=DURATION:PT1H
X-Robots-Tag:noindex
X-PUBLISHED-TTL:PT1H
BEGIN:VTIMEZONE
TZID:Europe/London
BEGIN:DAYLIGHT
TZOFFSETFROM:+0000
TZOFFSETTO:+0100
TZNAME:BST
DTSTART:20250330T010000
END:DAYLIGHT
BEGIN:STANDARD
TZOFFSETFROM:+0100
TZOFFSETTO:+0000
TZNAME:GMT
DTSTART:20251026T010000
END:STANDARD
END:VTIMEZONE
BEGIN:VEVENT
DTSTART;TZID=Europe/London:20250405T140000
DTEND;TZID=Europe/London:20250405T160000
DTSTAMP:20260420T031756
CREATED:20250402T133101Z
LAST-MODIFIED:20250402T133101Z
UID:125354-1743861600-1743868800@www.discovernorthampton.co.uk
SUMMARY:Carnegie Talk - Food in WW2 - a talk by Michael Hazell.
DESCRIPTION:Food Rationing \nThe mechanism of how it worked and the role of the Ministry of Food. \nFind out about wartime recipes and new foods introduced as part of the rations. \nThe ways the government increased food production and what it was like to eat outside the home. \nPlease contact Northamptonshire Central Library with any queries. \nemail: northampton.libraryplus@westnorthants.gov.uk
URL:https://www.discovernorthampton.co.uk/event/carnegie-talk-food-in-ww2-a-talk-by-michael-hazell/
LOCATION:Northampton Central Library\, Abington Street\, Northampton\, Northamptonshire\, NN1 2BA\, United Kingdom
CATEGORIES:Event
ATTACH;FMTTYPE=image/png:https://www.discovernorthampton.co.uk/wp-content/uploads/2025/04/Screenshot-2025-04-02-142954.png
END:VEVENT
BEGIN:VEVENT
DTSTART;TZID=Europe/London:20250405T220000
DTEND;TZID=Europe/London:20250405T220000
DTSTAMP:20260420T031756
CREATED:20250402T134913Z
LAST-MODIFIED:20250402T134913Z
UID:125357-1743890400-1743890400@www.discovernorthampton.co.uk
SUMMARY:REWIND & REPLAY: HEARTLESS CREW LIVE!
DESCRIPTION:We’re bringing the ultimate old-school vibes! FRIDAY 5TH APRIL\, we’re shutting it down at REPLAY Northampton for a night of pure nostalgia and energy! \n \nGet ready for Heartless Crew LIVE on stage\, shelling down the biggest Old School RnB & UK Garage anthems!  \n \nThis is the link-up you’ve been waiting for! \n \n? FREE ENTRY BEFORE 11 PM! ? (limited tickets) \n \n? Expect:? A LIVE set from Heartless Crew?
URL:https://www.discovernorthampton.co.uk/event/rewind-replay-heartless-crew-live/
LOCATION:34-38 Bridge St\, Northampton NN1 1PA.
CATEGORIES:Event,MUSIC
ATTACH;FMTTYPE=image/png:https://www.discovernorthampton.co.uk/wp-content/uploads/2025/04/Screenshot-2025-04-02-143908.png
END:VEVENT
BEGIN:VEVENT
DTSTART;TZID=Europe/London:20250416T200000
DTEND;TZID=Europe/London:20250416T200000
DTSTAMP:20260420T031756
CREATED:20250407T101416Z
LAST-MODIFIED:20250407T101416Z
UID:125641-1744833600-1744833600@www.discovernorthampton.co.uk
SUMMARY:OPEN MIC
DESCRIPTION:
URL:https://www.discovernorthampton.co.uk/event/open-mic-14/
LOCATION:The Wig And Pen\, 19 St Giles' St\, northampton\, Northamptonshire\, NN1 1JA\, United Kingdom
CATEGORIES:Event,Open Mic
ATTACH;FMTTYPE=image/jpeg:https://www.discovernorthampton.co.uk/wp-content/uploads/2025/04/Wig-Pen-April.jpg
END:VEVENT
BEGIN:VEVENT
DTSTART;TZID=Europe/London:20250417T120000
DTEND;TZID=Europe/London:20250417T140000
DTSTAMP:20260420T031756
CREATED:20250407T115638Z
LAST-MODIFIED:20250407T115638Z
UID:125646-1744891200-1744898400@www.discovernorthampton.co.uk
SUMMARY:Have Lunch with Peter Rabbit
DESCRIPTION:Join us for an Easter Treat \n\n\nOur special â€˜Meet and Greetâ€™ with Peter Rabbit is perfect for children and adults. Tables will be decorated as Mr McGregorâ€™s Garden and colouring-in materials will be available for the children to enjoy. \nChildren will receive a special lunch box\, with goodies inside\, and adults can choose from the light menu or our selection of sandwiches and toasties\, accompanied by unlimited hot drinks. \nAll dietary requirements will be asked for at the time of booking\, and tasty desserts are included in the price.\nPrices are £20 each for adults and children\, and a £10 deposit will be required to secure your booking\, and is non refundable. Call today\, or email via our website Contact page\, as places will go quickly.
URL:https://www.discovernorthampton.co.uk/event/have-lunch-with-peter-rabbit/
LOCATION:The Eccentric Englishman\, 21 St Giles' Street\, northampton\, Northamptonshire\, NN1 1JA\, United Kingdom
CATEGORIES:Easter,Event
ATTACH;FMTTYPE=image/png:https://www.discovernorthampton.co.uk/wp-content/uploads/2025/04/Screenshot-2025-04-07-125541.png
END:VEVENT
BEGIN:VEVENT
DTSTART;TZID=Europe/London:20250417T120000
DTEND;TZID=Europe/London:20250417T160000
DTSTAMP:20260420T031756
CREATED:20250415T065057Z
LAST-MODIFIED:20250415T065057Z
UID:125841-1744891200-1744905600@www.discovernorthampton.co.uk
SUMMARY:Draw & Paint Party! Easter Half Term
DESCRIPTION:All ages welcome to a creative fun day at Coconut Paradise Cafe! Have your own canvas\, paints and pencils to create your masterpiece!
URL:https://www.discovernorthampton.co.uk/event/draw-paint-party-easter-half-term/
LOCATION:Coconut Paradise\, 9 Gold Street Mews\, Northampton\, northamptonshire\, NN1 1RA\, United Kingdom
CATEGORIES:Event
ATTACH;FMTTYPE=image/png:https://www.discovernorthampton.co.uk/wp-content/uploads/2025/04/Screenshot-2025-04-15-074542.png
END:VEVENT
BEGIN:VEVENT
DTSTART;TZID=Europe/London:20250418T000000
DTEND;TZID=Europe/London:20250421T000000
DTSTAMP:20260420T031756
CREATED:20250409T113927Z
LAST-MODIFIED:20250409T113927Z
UID:125649-1744934400-1745193600@www.discovernorthampton.co.uk
SUMMARY:WIG FEST
DESCRIPTION:4 Days of Live Music. \n\nEaster is nearly here and what a weekend we have in store for you \n\n\nFridayâ€¦ Itâ€™s Indiebox from 9pm tonstart the bank holiday off with a bang\n\n\nSaturdayâ€¦ 3pm itâ€™s a Six Feet Apart Trio followed by 2HD at 9pm\n\n\nSundayâ€¦ 4pm itâ€™s the Bushpigs to celebrate Sunday Funday in style!!\n\n\nMonday itâ€™s Steve Bennett from 2.30 to finish off the weekend on a high!!\n\n\nAnd just to top it off\, our beer festival is running all weekend
URL:https://www.discovernorthampton.co.uk/event/wig-fest/
LOCATION:The Wig And Pen\, 19 St Giles' St\, northampton\, Northamptonshire\, NN1 1JA\, United Kingdom
CATEGORIES:Event,MUSIC
ATTACH;FMTTYPE=image/jpeg:https://www.discovernorthampton.co.uk/wp-content/uploads/2025/04/WP-Wig-Fest-2025-02.25-v2-002.jpg
END:VEVENT
BEGIN:VEVENT
DTSTART;TZID=Europe/London:20250419T120000
DTEND;TZID=Europe/London:20250420T190000
DTSTAMP:20260420T031756
CREATED:20250415T064151Z
LAST-MODIFIED:20250415T064151Z
UID:125838-1745064000-1745175600@www.discovernorthampton.co.uk
SUMMARY:Coconut Paradise - 1st Birthday Weekend Celebration
DESCRIPTION:We’re turning ONE! To thank you for being part of our story\, we’re throwing a two-day birthday celebration – and you’re invited! \nSATURDAY 19TH APRIL – GIRL POWER TAKEOVER \nWe’re shining a spotlight on the incredible women in music with a fierce and fabulous all-female lineup \nExpect: Upbeat vibes\, a buzzing crowd\, great food\, and tunes that celebrate the strength and spirit of women. \nSUNDAY 20TH APRIL – EASTER SUNDAY SPECIAL \nEase into Easter with chilled-out grooves and legends of the local music scene \nExpect: Soulful Sunday vibes\, friendly faces\, Caribbean dishes and a beautiful end to a weekend of celebration.
URL:https://www.discovernorthampton.co.uk/event/coconut-paradise-1st-birthday-weekend-celebration/
LOCATION:Coconut Paradise\, 9 Gold Street Mews\, Northampton\, northamptonshire\, NN1 1RA\, United Kingdom
CATEGORIES:Event,Food,MUSIC
ATTACH;FMTTYPE=image/png:https://www.discovernorthampton.co.uk/wp-content/uploads/2025/04/Screenshot-2025-04-14-154627.png
END:VEVENT
BEGIN:VEVENT
DTSTART;TZID=Europe/London:20250419T130000
DTEND;TZID=Europe/London:20250419T143000
DTSTAMP:20260420T031756
CREATED:20250414T141839Z
LAST-MODIFIED:20250414T141839Z
UID:125832-1745067600-1745073000@www.discovernorthampton.co.uk
SUMMARY:Beginner’s Crochet Taster Session – Learn the Basics!
DESCRIPTION:Curious about crochet but don’t know where to start? Join us for a fun and relaxed taster session where you’ll learn the basics!
URL:https://www.discovernorthampton.co.uk/event/beginners-crochet-taster-session-learn-the-basics/
LOCATION:Esquires Coffee\, Dychurch Lane\, Northampton\, United Kingdom
CATEGORIES:Event
ATTACH;FMTTYPE=image/png:https://www.discovernorthampton.co.uk/wp-content/uploads/2025/04/Screenshot-2025-04-14-151415.png
ORGANIZER;CN="Esquires Coffee":MAILTO:northampton@esquirescoffee.co.uk
END:VEVENT
BEGIN:VEVENT
DTSTART;TZID=Europe/London:20250419T163000
DTEND;TZID=Europe/London:20250419T180000
DTSTAMP:20260420T031756
CREATED:20250401T142252Z
LAST-MODIFIED:20250401T142252Z
UID:125335-1745080200-1745085600@www.discovernorthampton.co.uk
SUMMARY:Masterclass: Tequila.
DESCRIPTION:Ages 18+\n\n\n\n\n\nItâ€™s Tequila time! \n\nJoin us on the 19th of April in our Tasting Room for our Tequila Tasting Session. This masterclass will show you the real flavours of the expressive Agave spirit and show you why we should all give Tequila a lot more respect (no shots and slammers here!)
URL:https://www.discovernorthampton.co.uk/event/masterclass-tequila/
LOCATION:V and B\, 10 St Giles' Square\,\, Northampton\, NN1 1DA\, United Kingdom
CATEGORIES:Event,Masterclass
ATTACH;FMTTYPE=image/png:https://www.discovernorthampton.co.uk/wp-content/uploads/2025/04/Screenshot-2025-04-01-152102.png
END:VEVENT
BEGIN:VEVENT
DTSTART;TZID=Europe/London:20250422T180000
DTEND;TZID=Europe/London:20250422T230000
DTSTAMP:20260420T031756
CREATED:20250414T130044Z
LAST-MODIFIED:20250414T130044Z
UID:125829-1745344800-1745362800@www.discovernorthampton.co.uk
SUMMARY:Table top game night
DESCRIPTION:Come join us for a thrilling Board Game Night at Mail Coach Northampton in Northampton! Whether youâ€™re a seasoned strategist or just looking for a fun night out\, this event is perfect for all board game enthusiasts. \nBring your friends\, family\, or come solo â€“ we have a variety of games available\, but feel free to bring your own favorites. Reserve a table and let us take care of the rest while you enjoy an evening filled with laughter\, competition\, and camaraderie. \nDonâ€™t miss out on this opportunity to showcase your skills\, discover new games\, and make memories that will last a lifetime. Mark your calendars and get ready for an unforgettable Board Game Night at Mail Coach Northampton!
URL:https://www.discovernorthampton.co.uk/event/table-top-game-night/
LOCATION:Mail Coach\, 8 Derngate\, northampton\, Northamptonshire\, NN1 1UB\, United Kingdom
CATEGORIES:Event
ATTACH;FMTTYPE=image/png:https://www.discovernorthampton.co.uk/wp-content/uploads/2025/04/Screenshot-2025-04-14-135725.png
END:VEVENT
BEGIN:VEVENT
DTSTART;TZID=Europe/London:20250424T090000
DTEND;TZID=Europe/London:20250424T163000
DTSTAMP:20260420T031756
CREATED:20250402T140608Z
LAST-MODIFIED:20250402T140608Z
UID:125363-1745485200-1745512200@www.discovernorthampton.co.uk
SUMMARY:Cowork Crew Northampton
DESCRIPTION:Cowork Crew takes the best bits of coworking and networking and jumbles it together in a once-a-month 1 day event. Weâ€™d love you to join us!
URL:https://www.discovernorthampton.co.uk/event/cowork-crew-northampton/
LOCATION:Vulcan Works\, 34-38 Guildhall Rd\, northampton\, Northamptonshire\, NN1 1EW\, United Kingdom
CATEGORIES:Event,Networking
ATTACH;FMTTYPE=image/png:https://www.discovernorthampton.co.uk/wp-content/uploads/2025/04/Screenshot-2025-04-02-150410.png
END:VEVENT
BEGIN:VEVENT
DTSTART;TZID=Europe/London:20250424T190000
DTEND;TZID=Europe/London:20250424T210000
DTSTAMP:20260420T031756
CREATED:20250402T064523Z
LAST-MODIFIED:20250402T064523Z
UID:125338-1745521200-1745528400@www.discovernorthampton.co.uk
SUMMARY:Masterclass: Trappist & Abbeys.
DESCRIPTION:Ages 18+\n\n\n\n\n\nFan of punchy Belgians? This is the class for you. \nFor this masterclass\, we’ll be taking a (figurative) trip to Belgium to sample a whole range of delicious\, deep\, punchy brews. We’ll be exploring Trappist & Abbeys\, finding out the differences between them\, the history behind them\, and about the monks who made them.
URL:https://www.discovernorthampton.co.uk/event/masterclass-trappist-abbeys/
LOCATION:V and B\, 10 St Giles' Square\,\, Northampton\, NN1 1DA\, United Kingdom
CATEGORIES:Event,Masterclass
ATTACH;FMTTYPE=image/png:https://www.discovernorthampton.co.uk/wp-content/uploads/2025/04/Screenshot-2025-04-02-074056.png
END:VEVENT
BEGIN:VEVENT
DTSTART;TZID=Europe/London:20250425T100000
DTEND;TZID=Europe/London:20250425T160000
DTSTAMP:20260420T031756
CREATED:20250402T142337Z
LAST-MODIFIED:20250402T142337Z
UID:125366-1745575200-1745596800@www.discovernorthampton.co.uk
SUMMARY:Hot Desk with NNBN at Vulcan Works.
DESCRIPTION:Struggling to get work done at home ? \nDo you need a change of scenary ? \nMiss working as a team ? \nLooking to bounce ideas off others ? \nJoin us at Vulcan Works for some hot desking and weâ€™ll work with you to help you feel some love!!! \nFree to attend and includes coffee!
URL:https://www.discovernorthampton.co.uk/event/hot-desk-with-nnbn-at-vulcan-works/
LOCATION:Vulcan Works\, 34-38 Guildhall Rd\, northampton\, Northamptonshire\, NN1 1EW\, United Kingdom
CATEGORIES:Event
ATTACH;FMTTYPE=image/png:https://www.discovernorthampton.co.uk/wp-content/uploads/2025/04/Screenshot-2025-04-02-152249.png
END:VEVENT
BEGIN:VEVENT
DTSTART;TZID=Europe/London:20250425T190000
DTEND;TZID=Europe/London:20250425T220000
DTSTAMP:20260420T031756
CREATED:20250423T122436Z
LAST-MODIFIED:20250423T122436Z
UID:125921-1745607600-1745618400@www.discovernorthampton.co.uk
SUMMARY:Psychic Supper
DESCRIPTION:Psychic Supper\nFriday 25th April\n7pm to 10pm\n\n\nJoin us and Make Contact \n\n\nWe predicted this would be a popular event so Rosie\, our resident psychic medium\, is back this month\, to pass on messages to a small group of people (16 max). \nAlthough we can’t guarantee that everybody will receive a message\, you will come away with a wonderful warm feeling. \nThere’s laughter and tears and a cocktail or two\, if you fancy\, and we will bring up a sharing platter for your group halfway through to nibble on. Tickets are £40 pp including a deposit of £10 pp at the time of booking. We cater for most dietary requirements but please advise us when you book. Final payment is required on the night. \nTo book places\, please call on 01604 626977 or contacts us via the website form. Please be aware this event sells out VERY quickly but\, if you miss out\, this time\, there will be other events coming soon.
URL:https://www.discovernorthampton.co.uk/event/psychic-supper-2/
LOCATION:The Eccentric Englishman\, 21 St Giles' Street\, northampton\, Northamptonshire\, NN1 1JA\, United Kingdom
CATEGORIES:Event
ATTACH;FMTTYPE=image/png:https://www.discovernorthampton.co.uk/wp-content/uploads/2025/04/Screenshot-2025-04-23-131949.png
END:VEVENT
BEGIN:VEVENT
DTSTART;TZID=Europe/London:20250426T110000
DTEND;TZID=Europe/London:20250426T143000
DTSTAMP:20260420T031756
CREATED:20250409T145949Z
LAST-MODIFIED:20250409T145949Z
UID:125707-1745665200-1745677800@www.discovernorthampton.co.uk
SUMMARY:St George's Day Celebrations and Notable Northamptonians Trail
DESCRIPTION:Saturday 26th April | 11am â€“ 2.30pm\nNorthampton Market Square\n\n• 11am â€“ 2.30pm:\nMeet St George and his giant friendly Dragon!\nCreative Crafts\nBalloon Modelling\nFace Painting \n• TIMES TBC: Juggling Jimâ€™s Knight School\n• TIMES TBC: Morris Dancers\n• TIMES TBC: Storytelling\n• TIMES TBC: Juggling Jimâ€™s Circus Workshop \n• Notable Northamptonians Trail round the town centre\nThe trail will be in situ for two weeks around the St Georgeâ€™s Day celebrations â€“ plenty of time to get discovering!\n \nSt Georgeâ€™s Day will be celebrated at Northampton Market Square on Saturday\, 26th April with Northampton Town Council providing a range of free activities and entertainment throughout the day for all the family! \nCrafty kids can create their own St George-themed make and take crafts and enjoy a St Georgeâ€™s Day tale with a twist! Kids entertainers will be offering free face painting and balloon modelling. Adults can also try their hand at crafts in the Yarn Bombing workshop. \nJuggling Jim will run his Silly Knight School\, where kids can try challenges to become a knight of the castle\, followed by Circus Workshops\, teaching juggling and balancing skills. \nMorris Dancers will entertain crowds with centuries-old\, routines\, plus traditional brass band performances and a chance to meet St George and a giant\, friendly dragon. \nFinally\, as part of the St Georgeâ€™s Day celebrations\, visitors can follow the Notable Northamptonians trail\, to discover more about remarkable residents who have contributed to Northamptonâ€™s cultural heritage from the past to the present day.
URL:https://www.discovernorthampton.co.uk/event/st-georges-day-celebrations-and-notable-northamptonians-trail/
LOCATION:Northampton Market Square
CATEGORIES:Event
ATTACH;FMTTYPE=image/webp:https://www.discovernorthampton.co.uk/wp-content/uploads/2025/04/1050x.webp
END:VEVENT
BEGIN:VEVENT
DTSTART;TZID=Europe/London:20250426T120000
DTEND;TZID=Europe/London:20250426T170000
DTSTAMP:20260420T031756
CREATED:20250423T123655Z
LAST-MODIFIED:20250423T123655Z
UID:125925-1745668800-1745686800@www.discovernorthampton.co.uk
SUMMARY:The Wizard of Oz Character Afternoon Tea Experience
DESCRIPTION:Follow the Yellow Brick Road to a Magical Wizard of Oz Character Afternoon Tea! \n\n\n\nThe Wizard of Oz\nCharacter Afternoon Tea Experience\nSaturday 26th April\n12pm to 5pm\n\n\nFollow the Yellow Brick Road to a Magical Wizard of Oz Character Afternoon Tea! \n\n\nStep into the whacky world of Oz for a whimsical Afternoon Tea like no other! This enchanting experience is perfect for kids and grown-ups alike\, with your beloved Wizard of Oz characters joining you throughout your sitting. \nExpect a spellbinding afternoon filled with balloons & sweet treats for a touch of extra magic\, themed cocktails for a wickedly delightful twist\, and a stunning three-course afternoon tea inspired by the Land of Oz. Our beautifully themed tables will transport you to the Emerald City. \nAs we are already receiving a lot of enquiries\, we will have 2 sittings:\n12pm – 2pm\n3pm – 5pm \nWith limited spaces available\, you won’t want to miss out on this magical experience for all ages! \nPricing per person: Prohibition Afternoon Tea – £40.00 (adults)\, our famous Tiddley Afternoon Tea – £50.00 (adults with cocktails) Children (under 12) – £25.00. A £15 non-refundable deposit per person is required at the time of booking. \nCall us to book now or use the Contact Form to email us! There’s no place like The Eccentric Englishman for an afternoon of fun and fantasy\, so reserve your table today!
URL:https://www.discovernorthampton.co.uk/event/the-wizard-of-oz-character-afternoon-tea-experience/
LOCATION:The Eccentric Englishman\, 21 St Giles' Street\, northampton\, Northamptonshire\, NN1 1JA\, United Kingdom
CATEGORIES:Event
ATTACH;FMTTYPE=image/png:https://www.discovernorthampton.co.uk/wp-content/uploads/2025/04/Screenshot-2025-04-23-133156.png
END:VEVENT
BEGIN:VEVENT
DTSTART;TZID=Europe/London:20250426T190000
DTEND;TZID=Europe/London:20250426T190000
DTSTAMP:20260420T031756
CREATED:20250410T141242Z
LAST-MODIFIED:20250410T141242Z
UID:125769-1745694000-1745694000@www.discovernorthampton.co.uk
SUMMARY:Chris Eubank Jr vs Conor Benn – Fatal Fury Match!
DESCRIPTION:Two legends. One ring. No mercy.\nDon’t miss the fight of the year – grab your crew and be there early!
URL:https://www.discovernorthampton.co.uk/event/chris-eubank-jr-vs-conor-benn-fatal-fury-match/
LOCATION:The Fish Pub\, 11 Fish St\, Northampton\, Northamptonshire\, NN1 2AA\, United Kingdom
CATEGORIES:Event
ATTACH;FMTTYPE=image/png:https://www.discovernorthampton.co.uk/wp-content/uploads/2025/04/Screenshot-2025-04-10-150835.png
END:VEVENT
BEGIN:VEVENT
DTSTART;TZID=Europe/London:20250426T190000
DTEND;TZID=Europe/London:20250426T190000
DTSTAMP:20260420T031756
CREATED:20250423T132643Z
LAST-MODIFIED:20250423T132643Z
UID:125938-1745694000-1745694000@www.discovernorthampton.co.uk
SUMMARY:Fatal Fury. Live at Mail Coach Northampton.
DESCRIPTION:Catch every round live on the big screens on Saturday 26th April. \nDon’t miss one of the biggest fights of the year. Book your table now!
URL:https://www.discovernorthampton.co.uk/event/fatal-fury-live-at-mail-coach-northampton/
LOCATION:Mail Coach\, 8 Derngate\, northampton\, Northamptonshire\, NN1 1UB\, United Kingdom
CATEGORIES:Event
ATTACH;FMTTYPE=image/png:https://www.discovernorthampton.co.uk/wp-content/uploads/2025/04/Screenshot-2025-04-23-142130.png
END:VEVENT
BEGIN:VEVENT
DTSTART;TZID=Europe/London:20250429T100000
DTEND;TZID=Europe/London:20250429T120000
DTSTAMP:20260420T031756
CREATED:20250415T090550Z
LAST-MODIFIED:20250415T090550Z
UID:125845-1745920800-1745928000@www.discovernorthampton.co.uk
SUMMARY:How to write an effective business plan workshop.
DESCRIPTION:A business plan is a valuable tool for any business owner that can help you organise your ideas\, and make preparations for your businesses next steps. Join us for this interactive session where you will learn how to create and develop a robust business plan. \nYou will be guided through the content requirements of the main sections in a business plan\, and given some top tips of how to prepare your business plan when applying for a loan or grant. The session will cover the basics of financial forecasting and examples of the common pitfalls you should avoid. \nThis workshop is for people living in the UK only. \nFollowing the event Business & IP Centre Northamptonshire will send a feedback form which we would be grateful if you could complete to allow us to monitor the success of our events. This is facilitated by our third party processor Reason Digital Limited.
URL:https://www.discovernorthampton.co.uk/event/how-to-write-an-effective-business-plan-workshop/
LOCATION:Northampton Central Library\, Abington Street\, Northampton\, Northamptonshire\, NN1 2BA\, United Kingdom
CATEGORIES:Event
ATTACH;FMTTYPE=image/png:https://www.discovernorthampton.co.uk/wp-content/uploads/2025/04/Screenshot-2025-04-15-100020.png
END:VEVENT
BEGIN:VEVENT
DTSTART;TZID=Europe/London:20250429T180000
DTEND;TZID=Europe/London:20250429T230000
DTSTAMP:20260420T031756
CREATED:20250423T135751Z
LAST-MODIFIED:20250423T135751Z
UID:125959-1745949600-1745967600@www.discovernorthampton.co.uk
SUMMARY:Table top game night
DESCRIPTION:Come join us for a thrilling Board Game Night at Mail Coach Northampton in Northampton! Whether youâ€™re a seasoned strategist or just looking for a fun night out\, this event is perfect for all board game enthusiasts. \nBring your friends\, family\, or come solo â€“ we have a variety of games available\, but feel free to bring your own favorites. Reserve a table and let us take care of the rest while you enjoy an evening filled with laughter\, competition\, and camaraderie. \nDonâ€™t miss out on this opportunity to showcase your skills\, discover new games\, and make memories that will last a lifetime. Mark your calendars and get ready for an unforgettable Board Game Night at Mail Coach Northampton!
URL:https://www.discovernorthampton.co.uk/event/table-top-game-night-2/
LOCATION:Mail Coach\, 8 Derngate\, northampton\, Northamptonshire\, NN1 1UB\, United Kingdom
CATEGORIES:Event
ATTACH;FMTTYPE=image/png:https://www.discovernorthampton.co.uk/wp-content/uploads/2025/04/Screenshot-2025-04-23-145408.png
END:VEVENT
BEGIN:VEVENT
DTSTART;TZID=Europe/London:20250430T150000
DTEND;TZID=Europe/London:20250430T193000
DTSTAMP:20260420T031756
CREATED:20250423T131116Z
LAST-MODIFIED:20250423T131116Z
UID:125935-1746025200-1746041400@www.discovernorthampton.co.uk
SUMMARY:Mavis Technologies - INVESTOR OPEN DAY
DESCRIPTION:Join us at Mavis Technologiesâ€™ Investor Open Day on 30th April 2025\, to learn more about becoming an investor! \n\n\nCome join us for an exciting INVESTOR OPEN DAY at Vulcan Works â€“ Offices & Coworking Space! This is your chance to hear our investment pitch\, meet the Advisory Board\, have a tour of our facilities\, and network. \n\n\n\n\nMavis Technologies Ltd
URL:https://www.discovernorthampton.co.uk/event/mavis-technologies-investor-open-day/
LOCATION:Vulcan Works\, 34-38 Guildhall Rd\, northampton\, Northamptonshire\, NN1 1EW\, United Kingdom
CATEGORIES:Event
ATTACH;FMTTYPE=image/png:https://www.discovernorthampton.co.uk/wp-content/uploads/2025/04/Screenshot-2025-04-23-140730.png
END:VEVENT
END:VCALENDAR