BEGIN:VCALENDAR
VERSION:2.0
PRODID:-//Northampton BID - ECPv6.2.4//NONSGML v1.0//EN
CALSCALE:GREGORIAN
METHOD:PUBLISH
X-WR-CALNAME:Northampton BID
X-ORIGINAL-URL:https://www.discovernorthampton.co.uk
X-WR-CALDESC:Events for Northampton BID
REFRESH-INTERVAL;VALUE=DURATION:PT1H
X-Robots-Tag:noindex
X-PUBLISHED-TTL:PT1H
BEGIN:VTIMEZONE
TZID:Europe/London
BEGIN:DAYLIGHT
TZOFFSETFROM:+0000
TZOFFSETTO:+0100
TZNAME:BST
DTSTART:20250330T010000
END:DAYLIGHT
BEGIN:STANDARD
TZOFFSETFROM:+0100
TZOFFSETTO:+0000
TZNAME:GMT
DTSTART:20251026T010000
END:STANDARD
END:VTIMEZONE
BEGIN:VEVENT
DTSTART;TZID=Europe/London:20250105T110000
DTEND;TZID=Europe/London:20250105T130000
DTSTAMP:20260425T190921
CREATED:20250102T134644Z
LAST-MODIFIED:20250102T134644Z
UID:122926-1736074800-1736082000@www.discovernorthampton.co.uk
SUMMARY:Men’s Wellness Walk at Saints Coffee
DESCRIPTION:Sunday 5th January \, 11am â€“ Men’s Wellness Walk w/ @litcounselling @nn_mens_wellness_walks @_simeonjames (Just turn up!)
URL:https://www.discovernorthampton.co.uk/event/mens-wellness-walk-at-saints-coffee/
LOCATION:Saints Coffee\, 62 St Giles' St\, Northampton\, Northamptonshire\, NN1 1JW\, United Kingdom
CATEGORIES:Coffee Morning,Event
ATTACH;FMTTYPE=image/jpeg:https://www.discovernorthampton.co.uk/wp-content/uploads/2025/01/Saints-Calender.jpg
END:VEVENT
BEGIN:VEVENT
DTSTART;TZID=Europe/London:20250105T150000
DTEND;TZID=Europe/London:20250105T170000
DTSTAMP:20260425T190921
CREATED:20250102T145129Z
LAST-MODIFIED:20250102T145129Z
UID:122948-1736089200-1736096400@www.discovernorthampton.co.uk
SUMMARY:Northampton Saints vs Bath
DESCRIPTION:A bumper afternoon to start the New Year \n\n\n2025 begins with a cinch Stadium Double Header\, as Saints welcome Bath\, followed by Lightning against Saracens.
URL:https://www.discovernorthampton.co.uk/event/northampton-saints-vs-bath/
LOCATION:Franklinâ€™s Gardens\, Weedon Rd\, Northampton\, Northamptonshire\, NN5 5BG\, United Kingdom
CATEGORIES:Event,Rugby
ATTACH;FMTTYPE=image/jpeg:https://www.discovernorthampton.co.uk/wp-content/uploads/2025/01/Saints-Rubgy-Geezas.jpg
END:VEVENT
END:VCALENDAR