BEGIN:VCALENDAR
VERSION:2.0
PRODID:-//Northampton BID - ECPv6.2.4//NONSGML v1.0//EN
CALSCALE:GREGORIAN
METHOD:PUBLISH
X-WR-CALNAME:Northampton BID
X-ORIGINAL-URL:https://www.discovernorthampton.co.uk
X-WR-CALDESC:Events for Northampton BID
REFRESH-INTERVAL;VALUE=DURATION:PT1H
X-Robots-Tag:noindex
X-PUBLISHED-TTL:PT1H
BEGIN:VTIMEZONE
TZID:Europe/London
BEGIN:DAYLIGHT
TZOFFSETFROM:+0000
TZOFFSETTO:+0100
TZNAME:BST
DTSTART:20250330T010000
END:DAYLIGHT
BEGIN:STANDARD
TZOFFSETFROM:+0100
TZOFFSETTO:+0000
TZNAME:GMT
DTSTART:20251026T010000
END:STANDARD
END:VTIMEZONE
BEGIN:VEVENT
DTSTART;TZID=Europe/London:20250108T200000
DTEND;TZID=Europe/London:20250108T220000
DTSTAMP:20260423T075327
CREATED:20250102T152820Z
LAST-MODIFIED:20250102T152820Z
UID:122961-1736366400-1736373600@www.discovernorthampton.co.uk
SUMMARY:PHOTOGRAPHY
DESCRIPTION:CORNWALL CUP  A competition for members to submit  natural history images as per PAGB rules 2018. Up to three projected images per member per round allowed.  Round 2 of 3.
URL:https://www.discovernorthampton.co.uk/event/photography/
LOCATION:Northamptonshire Natural History Society\, The Humfrey Rooms\, 10 Castilian Terrace\, Northampton\, Northampton\, Northamptonshire\, NN1 1LD\, United Kingdom
CATEGORIES:Cultural,Event,Natural History
ATTACH;FMTTYPE=image/png:https://www.discovernorthampton.co.uk/wp-content/uploads/2024/07/Northamptonshire-Natural-History-Society.png
END:VEVENT
END:VCALENDAR