BEGIN:VCALENDAR
VERSION:2.0
PRODID:-//Northampton BID - ECPv6.2.4//NONSGML v1.0//EN
CALSCALE:GREGORIAN
METHOD:PUBLISH
X-WR-CALNAME:Northampton BID
X-ORIGINAL-URL:https://www.discovernorthampton.co.uk
X-WR-CALDESC:Events for Northampton BID
REFRESH-INTERVAL;VALUE=DURATION:PT1H
X-Robots-Tag:noindex
X-PUBLISHED-TTL:PT1H
BEGIN:VTIMEZONE
TZID:Europe/London
BEGIN:DAYLIGHT
TZOFFSETFROM:+0000
TZOFFSETTO:+0100
TZNAME:BST
DTSTART:20250330T010000
END:DAYLIGHT
BEGIN:STANDARD
TZOFFSETFROM:+0100
TZOFFSETTO:+0000
TZNAME:GMT
DTSTART:20251026T010000
END:STANDARD
END:VTIMEZONE
BEGIN:VEVENT
DTSTART;TZID=Europe/London:20250111T193000
DTEND;TZID=Europe/London:20250111T213000
DTSTAMP:20260420T002129
CREATED:20250109T143113Z
LAST-MODIFIED:20250109T143113Z
UID:123083-1736623800-1736631000@www.discovernorthampton.co.uk
SUMMARY:The Opera Boys: A Night at The Musicals
DESCRIPTION:After a SOLD OUT show in 2023 The Opera Boys are back with A Night at the Musicals\, a fabulous evening of power-house vocals\, immaculate 4-part harmony\, breath-taking musical medleys\, stunning solo performances… and a few surprises! \nWhether you’re a fan of modern day smash hit musicals like Jersey Boys\, Mamma Mia\, Wicked and Frozen\, prefer the classics from Cole Porter\, George Gershwin and Rodgers & Hammerstein\, or adore the definitive masterpieces like Les Misérables\, Phantom of the Opera and West Side Story\, this show has something for everyone and is perfect for musical theatre lovers both young and old. \nWith beautiful vocal arrangements\, spectacular close part harmony and a great line in humour\, The Opera Boys have been delighting audiences all over the world with their unique show combining beautiful\, powerful and emotional music with funny\, engaging and light-hearted entertainment. \nThe boys trained at some of the UK’s finest schools including The Royal Academy of Music\, and have each become highly successful performers in their own right. Between them they have performed lead roles on London’s West End and on Broadway in New York. They have performed as backing vocalists to some of the world’s biggest superstars including Russell Watson\, Robbie Williams\, Tom Jones and Elton John\, and in 2015 one of the boys appeared as part of the Belgian entry for The Eurovision Song Contest\, performing to a global audience of 200 million\, and placing a very respectable 4th in the competition! \nTogether the boys have performed in theatres and concert halls throughout the UK and have travelled all over the world performing their show. In 2018 they performed as soloists with The National Symphony Orchestra. \nThey have been invited to perform at a number of prestigious events including the 10th Anniversary of the world’s most famous cruise ship\, Cunard’s superliner Queen Mary 2\, and the inaugural voyage of P&O’s largest cruise ship Britannia\, launched by Her Majesty Queen Elizabeth II.
URL:https://www.discovernorthampton.co.uk/event/the-opera-boys-a-night-at-the-musicals/
LOCATION:Royal and Derngate Theatre\, 19-21 Guildhall Road\, Northampton\, Northamptonshire\, NN1 1DP
CATEGORIES:Event,Royal and Derngate,Theatre
ATTACH;FMTTYPE=image/png:https://www.discovernorthampton.co.uk/wp-content/uploads/2025/01/Little-Boys.png
ORGANIZER;CN="Royal and Derngate":MAILTO:BoxOffice@royalandderngate.co.uk
END:VEVENT
BEGIN:VEVENT
DTSTART;TZID=Europe/London:20250111T210000
DTEND;TZID=Europe/London:20250111T223000
DTSTAMP:20260420T002129
CREATED:20250109T103245Z
LAST-MODIFIED:20250109T103245Z
UID:123059-1736629200-1736634600@www.discovernorthampton.co.uk
SUMMARY:2HD
DESCRIPTION:Saturday 11th January the Wig and Pen are hosting a 2HD event from 9pm.
URL:https://www.discovernorthampton.co.uk/event/2hd-2/
LOCATION:The Wig And Pen\, 19 St Giles' St\, northampton\, Northamptonshire\, NN1 1JA\, United Kingdom
CATEGORIES:Club,Event
ATTACH;FMTTYPE=image/jpeg:https://www.discovernorthampton.co.uk/wp-content/uploads/2025/01/Wigs-off.jpg
END:VEVENT
END:VCALENDAR