BEGIN:VCALENDAR
VERSION:2.0
PRODID:-//Northampton BID - ECPv6.2.4//NONSGML v1.0//EN
CALSCALE:GREGORIAN
METHOD:PUBLISH
X-WR-CALNAME:Northampton BID
X-ORIGINAL-URL:https://www.discovernorthampton.co.uk
X-WR-CALDESC:Events for Northampton BID
REFRESH-INTERVAL;VALUE=DURATION:PT1H
X-Robots-Tag:noindex
X-PUBLISHED-TTL:PT1H
BEGIN:VTIMEZONE
TZID:Europe/London
BEGIN:DAYLIGHT
TZOFFSETFROM:+0000
TZOFFSETTO:+0100
TZNAME:BST
DTSTART:20250330T010000
END:DAYLIGHT
BEGIN:STANDARD
TZOFFSETFROM:+0100
TZOFFSETTO:+0000
TZNAME:GMT
DTSTART:20251026T010000
END:STANDARD
END:VTIMEZONE
BEGIN:VEVENT
DTSTART;TZID=Europe/London:20250114T183000
DTEND;TZID=Europe/London:20250114T193000
DTSTAMP:20260425T191619
CREATED:20250102T140140Z
LAST-MODIFIED:20250102T140140Z
UID:122932-1736879400-1736883000@www.discovernorthampton.co.uk
SUMMARY:Mixed Heritage Meetup/Discussion
DESCRIPTION:Tuesday 14th January\, 6:30pm – Mixed Heritage Meetup/Discussion w/ @mixednetworknn
URL:https://www.discovernorthampton.co.uk/event/mixed-heritage-meetup-discussion-9/
LOCATION:Saints Coffee\, 62 St Giles' St\, Northampton\, Northamptonshire\, NN1 1JW\, United Kingdom
CATEGORIES:Coffee Morning,Event
ATTACH;FMTTYPE=image/jpeg:https://www.discovernorthampton.co.uk/wp-content/uploads/2025/01/Saints-Calender.jpg
END:VEVENT
END:VCALENDAR