BEGIN:VCALENDAR
VERSION:2.0
PRODID:-//Northampton BID - ECPv6.2.4//NONSGML v1.0//EN
CALSCALE:GREGORIAN
METHOD:PUBLISH
X-WR-CALNAME:Northampton BID
X-ORIGINAL-URL:https://www.discovernorthampton.co.uk
X-WR-CALDESC:Events for Northampton BID
REFRESH-INTERVAL;VALUE=DURATION:PT1H
X-Robots-Tag:noindex
X-PUBLISHED-TTL:PT1H
BEGIN:VTIMEZONE
TZID:Europe/London
BEGIN:DAYLIGHT
TZOFFSETFROM:+0000
TZOFFSETTO:+0100
TZNAME:BST
DTSTART:20250330T010000
END:DAYLIGHT
BEGIN:STANDARD
TZOFFSETFROM:+0100
TZOFFSETTO:+0000
TZNAME:GMT
DTSTART:20251026T010000
END:STANDARD
END:VTIMEZONE
BEGIN:VEVENT
DTSTART;TZID=Europe/London:20250121T190000
DTEND;TZID=Europe/London:20250121T200000
DTSTAMP:20260422T072238
CREATED:20250102T141409Z
LAST-MODIFIED:20250102T141409Z
UID:122940-1737486000-1737489600@www.discovernorthampton.co.uk
SUMMARY:Art Jam & Cocktails
DESCRIPTION:Tuesday 21st January\, 7pm – Art Jam & Cocktails w/ @sophiesladeart  (Tickets available at sophiesladeart.com)
URL:https://www.discovernorthampton.co.uk/event/art-jam-cocktails-8/
LOCATION:Saints Coffee\, 62 St Giles' St\, Northampton\, Northamptonshire\, NN1 1JW\, United Kingdom
CATEGORIES:Club,Coffee Morning,Event
ATTACH;FMTTYPE=image/jpeg:https://www.discovernorthampton.co.uk/wp-content/uploads/2025/01/Saints-Calender.jpg
END:VEVENT
END:VCALENDAR