BEGIN:VCALENDAR
VERSION:2.0
PRODID:-//Northampton BID - ECPv6.2.4//NONSGML v1.0//EN
CALSCALE:GREGORIAN
METHOD:PUBLISH
X-WR-CALNAME:Northampton BID
X-ORIGINAL-URL:https://www.discovernorthampton.co.uk
X-WR-CALDESC:Events for Northampton BID
REFRESH-INTERVAL;VALUE=DURATION:PT1H
X-Robots-Tag:noindex
X-PUBLISHED-TTL:PT1H
BEGIN:VTIMEZONE
TZID:Europe/London
BEGIN:DAYLIGHT
TZOFFSETFROM:+0000
TZOFFSETTO:+0100
TZNAME:BST
DTSTART:20250330T010000
END:DAYLIGHT
BEGIN:STANDARD
TZOFFSETFROM:+0100
TZOFFSETTO:+0000
TZNAME:GMT
DTSTART:20251026T010000
END:STANDARD
END:VTIMEZONE
BEGIN:VEVENT
DTSTART;TZID=Europe/London:20250501T160000
DTEND;TZID=Europe/London:20250501T190000
DTSTAMP:20260419T180601
CREATED:20250425T113831Z
LAST-MODIFIED:20250425T113831Z
UID:126046-1746115200-1746126000@www.discovernorthampton.co.uk
SUMMARY:Flavour Forward Buffet
DESCRIPTION:Itâ€™s Caribbean comfort with serious attitude… Vegan Buffet. \nExpectâ€¦ \n??Sweet potato curry. \n?Crispy Shroom Steak Sliders. \n??? Escovitch Mushrooms. \nAnd MORE!! ?
URL:https://www.discovernorthampton.co.uk/event/flavour-forward-buffet/
LOCATION:Coconut Paradise\, 9 Gold Street Mews\, Northampton\, northamptonshire\, NN1 1RA\, United Kingdom
CATEGORIES:Event,Food
ATTACH;FMTTYPE=image/jpeg:https://www.discovernorthampton.co.uk/wp-content/uploads/2025/04/491439865_17898240780191491_3369320169236314468_n.jpg
END:VEVENT
BEGIN:VEVENT
DTSTART;TZID=Europe/London:20250501T180000
DTEND;TZID=Europe/London:20250501T200000
DTSTAMP:20260419T180601
CREATED:20250414T114818Z
LAST-MODIFIED:20250414T114818Z
UID:125818-1746122400-1746129600@www.discovernorthampton.co.uk
SUMMARY:TMM IRL: Beyond the Rainbow – building LGBTQIA+ inclusion into your work and workplaces
DESCRIPTION:The Northampton Marketing Meetup is an informal\, friendly place for the marketers of Northants to meet\, learn\, and share knowledge with one another. Come in ‘listen’ not ‘sell’ mode ? \nWe’re heading back to the lovely Vulcan Works for this one\, and we just want to get together\, say hello\, have a chat\, and have a nice time. \nThink of this as a community event\, where the focus is very much on you meeting other people in a chilled out friendly space. We’ll chat over food and drink\, listen to an inspirational speaker or two\, chat some more\, and go home buzzing with new contacts and new ideas. \nLet’s have a lovely night in the company of some amazin’ people. \n——————– \nSpeaker: Chris Dunne\, CEO at Outvertising\nTopic: Beyond the Rainbow: building LGBTQIA+ inclusion into your work and workplaces \nMarketing has the power to create positive societal change. At a time when LGBTQIA+ people are coming under increasing attack from politicians and sections of the media\, allies and advocates in our industry are looking for meaningful and tangible ways to support the community in their work and how they do business. \nThis session will: \n• Outline some of the challenges LGBTQIA+ people face in 2025\n• Explore how LGBTQIA+ inclusion can benefit everyone\n• Equip you with a framework to build LGBTQIA+ equity into your marketing communications and organisation\n• Share examples of campaigns that are leading the way in positive and authentic LGBTQIA+ representation\n• Provide 3 actions everyone can start doing today to drive better workplace inclusion \n——————– \nThe format of the night: \n6:00 pm – doors open – drinks\, networking\, and smiles\n6:30 pm – introduction and talks begin\n7:00 pm – talks finish\, networking\, listening\, saying hello\, and positively lovely people\n7:45 pm – end of the night – you leave with new contacts and fresh ideas \n——————–\nPartnered with Digital Northants\, putting local businesses in touch with digital companies who can help solve their problems\, to encourage the growth of business in Northamptonshire. Check them out at https://digitalnorthants.com/ \nPartnered with The ONE Group\, whose recruitment team bridges the gap between marketing professionals and a vast network of Northamptonshire businesses\, empowering career progression at every stage with unmissable opportunities and job-hunting support. Read more at TheOneGroup.co.uk \nPartnered with Vulcan Works\, helping entrepreneurs bring world challenging ideas to life. A workspace and community for innovative creatives. Check them out at VulcanWorks.co.uk\n——————– \nAnd finally… \nThis is a donation ticketed event. The ticket price is yours to choose\, from Ł3 to Ł30 (the average attendees choose to pay Ł8.79 ? \nWe of course understand that these are tough times\, so if you are experiencing financial hardship and cannot afford the minimum donation amount\, please reach out to el@themarketingmeetup.com and we’ll find a ticket for you (provided capacity hasn’t already been reached!) ? \nPlease let your marketing friends and colleagues know about this group too\, we hope to build it into a great resource for the community over the coming months and years. Attendance will be taken at this event. If you sign up but don’t show up\, this has a knock on effect on event arrangements. If it happens 3 times\, you’re outta here! This is simply a measure to allow appropriate respect to the organisers\, speakers\, sponsors\, and your fellow community members ? \n——————–\nSee you there!
URL:https://www.discovernorthampton.co.uk/event/tmm-irl-beyond-the-rainbow-building-lgbtqia-inclusion-into-your-work-and-workplaces/
LOCATION:Vulcan Works\, 34-38 Guildhall Rd\, northampton\, Northamptonshire\, NN1 1EW\, United Kingdom
CATEGORIES:Event
ATTACH;FMTTYPE=image/png:https://www.discovernorthampton.co.uk/wp-content/uploads/2025/04/Screenshot-2025-04-14-124730.png
END:VEVENT
BEGIN:VEVENT
DTSTART;TZID=Europe/London:20250501T190000
DTEND;TZID=Europe/London:20250501T210000
DTSTAMP:20260419T180601
CREATED:20250402T065108Z
LAST-MODIFIED:20250402T065108Z
UID:125341-1746126000-1746133200@www.discovernorthampton.co.uk
SUMMARY:Masterclass: Lesser-known whites.
DESCRIPTION:Ages 18+\n\n\n\n\n\nSee ya Sauvignon! So long Chardonnay! \nDonâ€™t get us wrong\, we do love the classics . Who doesnâ€™t love a tasty chardonnay? And a sauvignon on a hot sunny day â€“ perfection! But for this masterclass\, weâ€™ll be tasting a range of white wines that you may have never heard of â€“ and discovering where theyâ€™re from\, which grapes are used\, and how they taste.
URL:https://www.discovernorthampton.co.uk/event/masterclass-lesser-known-whites/
LOCATION:V and B\, 10 St Giles' Square\,\, Northampton\, NN1 1DA\, United Kingdom
CATEGORIES:Event,Masterclass
ATTACH;FMTTYPE=image/png:https://www.discovernorthampton.co.uk/wp-content/uploads/2025/04/Screenshot-2025-04-02-074711.png
END:VEVENT
BEGIN:VEVENT
DTSTART;TZID=Europe/London:20250501T200000
DTEND;TZID=Europe/London:20250501T200000
DTSTAMP:20260419T180601
CREATED:20250428T142348Z
LAST-MODIFIED:20250428T142348Z
UID:126104-1746129600-1746129600@www.discovernorthampton.co.uk
SUMMARY:The Mail Coach Spotlight
DESCRIPTION:Get ready for a night of incredible music at Mail Coach Northampton in Northampton! Join us for a sensational musical showcase featuring various artists hosted by the talented Charlie Sumner. \nExperience a diverse range of musical styles and performances that will have you dancing all night long. From soulful ballads to energetic pop hits\, this event has something for everyone. \nCome and support local talent while enjoying a night of live music in a vibrant and welcoming atmosphere. Donâ€™t miss out on this unforgettable evening at Mail Coach Northampton
URL:https://www.discovernorthampton.co.uk/event/the-mail-coach-spotlight-4/
LOCATION:Mail Coach\, 8 Derngate\, northampton\, Northamptonshire\, NN1 1UB\, United Kingdom
CATEGORIES:Event,MUSIC
ATTACH;FMTTYPE=image/png:https://www.discovernorthampton.co.uk/wp-content/uploads/2025/04/Screenshot-2025-04-28-151930.png
END:VEVENT
END:VCALENDAR