BEGIN:VCALENDAR
VERSION:2.0
PRODID:-//Northampton BID - ECPv6.2.4//NONSGML v1.0//EN
CALSCALE:GREGORIAN
METHOD:PUBLISH
X-ORIGINAL-URL:https://www.discovernorthampton.co.uk
X-WR-CALDESC:Events for Northampton BID
REFRESH-INTERVAL;VALUE=DURATION:PT1H
X-Robots-Tag:noindex
X-PUBLISHED-TTL:PT1H
BEGIN:VTIMEZONE
TZID:Europe/London
BEGIN:DAYLIGHT
TZOFFSETFROM:+0000
TZOFFSETTO:+0100
TZNAME:BST
DTSTART:20250330T010000
END:DAYLIGHT
BEGIN:STANDARD
TZOFFSETFROM:+0100
TZOFFSETTO:+0000
TZNAME:GMT
DTSTART:20251026T010000
END:STANDARD
END:VTIMEZONE
BEGIN:VEVENT
DTSTART;TZID=Europe/London:20250515T160000
DTEND;TZID=Europe/London:20250515T200000
DTSTAMP:20260425T230126
CREATED:20250512T133848Z
LAST-MODIFIED:20250512T133848Z
UID:126380-1747324800-1747339200@www.discovernorthampton.co.uk
SUMMARY:The Great Scott Sauce & Share Buffet
DESCRIPTION:Ages 14+\n\n\n\n\n\nExplore a variety of Coconut Paradise dishes and match them with the bold\, fiery\, and funky sauces from our friends at Great Scott! \nHot sauce heads\, this one’s for you! \nJoin us on May 15th for The Great Scott Sauce & Share Buffet – a vegan all-you-can-eat experience where YOU get to mix Coconut Paradise classics with the full range of Great Scott Hot Sauce ?? \nDifferent dishes. Different drizzles. Unlimited combinations. \n#HotSauceParty #GreatScottBuffet #CoconutParadiseHeat
URL:https://www.discovernorthampton.co.uk/event/the-great-scott-sauce-share-buffet/
LOCATION:Coconut Paradise\, 9 Gold Street Mews\, Northampton\, northamptonshire\, NN1 1RA\, United Kingdom
CATEGORIES:Event,Food
ATTACH;FMTTYPE=image/png:https://www.discovernorthampton.co.uk/wp-content/uploads/2025/05/Screenshot-2025-05-12-143458.png
END:VEVENT
BEGIN:VEVENT
DTSTART;TZID=Europe/London:20250515T190000
DTEND;TZID=Europe/London:20250515T210000
DTSTAMP:20260425T230126
CREATED:20250425T101901Z
LAST-MODIFIED:20250425T101901Z
UID:126028-1747335600-1747342800@www.discovernorthampton.co.uk
SUMMARY:Wine of the World.
DESCRIPTION:Ages 18+\n\n\n\n\n\nFor this masterclass\, we’re going global. \n\nAn international wine tour\, whilst staying right here in Northampton? Sign me up! Weâ€™ll be trying bottles from around the globe and seeing how the differences in grape\, climate\, terroir and method can impact the most important thing when it comes to wine â€“ how it tastes.
URL:https://www.discovernorthampton.co.uk/event/wine-of-the-world/
LOCATION:V and B\, 10 St Giles' Square\,\, Northampton\, NN1 1DA\, United Kingdom
CATEGORIES:Event
ATTACH;FMTTYPE=image/png:https://www.discovernorthampton.co.uk/wp-content/uploads/2025/04/Screenshot-2025-04-25-111437.png
END:VEVENT
END:VCALENDAR