BEGIN:VCALENDAR
VERSION:2.0
PRODID:-//Northampton BID - ECPv6.2.4//NONSGML v1.0//EN
CALSCALE:GREGORIAN
METHOD:PUBLISH
X-WR-CALNAME:Northampton BID
X-ORIGINAL-URL:https://www.discovernorthampton.co.uk
X-WR-CALDESC:Events for Northampton BID
REFRESH-INTERVAL;VALUE=DURATION:PT1H
X-Robots-Tag:noindex
X-PUBLISHED-TTL:PT1H
BEGIN:VTIMEZONE
TZID:Europe/London
BEGIN:DAYLIGHT
TZOFFSETFROM:+0000
TZOFFSETTO:+0100
TZNAME:BST
DTSTART:20250330T010000
END:DAYLIGHT
BEGIN:STANDARD
TZOFFSETFROM:+0100
TZOFFSETTO:+0000
TZNAME:GMT
DTSTART:20251026T010000
END:STANDARD
END:VTIMEZONE
BEGIN:VEVENT
DTSTART;TZID=Europe/London:20250619T100000
DTEND;TZID=Europe/London:20250619T150000
DTSTAMP:20260422T072239
CREATED:20250609T141520Z
LAST-MODIFIED:20250609T141520Z
UID:127579-1750327200-1750345200@www.discovernorthampton.co.uk
SUMMARY:Google Digital Garage:
DESCRIPTION:Improve your digital skills to help grow your business or career with free in-person training from Google UK. \nGoogle is coming to Northampton! \nJoin us in person for free workshops and mentoring sessions. Google Digital Garage trainers will be available to help you grow your business online and find new customers. \nWhat to expect on the day \nWe will be running varied sessions all day\, alongside interactive networking opportunities. \nYou will leave the event with a clear understanding of AI\, new digital skills and how to implement these methods to help your business thrive. \nJoin us for an exciting event where youâ€™ll learn how AI can enhance your marketing and productivity – helping you work smarter\, save time and achieve better results! \nFree lunch will be available. \nPlease arrive at 10.00 am to check in before the day begins at 10.15 am. Enjoy complimentary coffee and tea while you settle in. If you have any questions\, please get in touch at events@enterprisenation.com.
URL:https://www.discovernorthampton.co.uk/event/google-digital-garage/
LOCATION:Vulcan Works\, 34-38 Guildhall Rd\, northampton\, Northamptonshire\, NN1 1EW\, United Kingdom
CATEGORIES:Event
ATTACH;FMTTYPE=image/png:https://www.discovernorthampton.co.uk/wp-content/uploads/2025/06/Screenshot-2025-06-09-151211.png
END:VEVENT
BEGIN:VEVENT
DTSTART;TZID=Europe/London:20250619T100000
DTEND;TZID=Europe/London:20250619T163000
DTSTAMP:20260422T072239
CREATED:20250602T105608Z
LAST-MODIFIED:20250602T105608Z
UID:127547-1750327200-1750350600@www.discovernorthampton.co.uk
SUMMARY:SOPHIE SLADE – PAINT THE TOWN IN COLOUR!
DESCRIPTION:We are delighted to be hosting local\, contemporary artist Sophie Slade once again in our Barwell Room and mezzanine level galleries. Sophie’s work lights up the town in terrific colour and form!
URL:https://www.discovernorthampton.co.uk/event/sophie-slade-paint-the-town-in-colour/2025-06-19/
LOCATION:78 Derngate\, Northampton\, Northamptonshire\, NN1 1UH
CATEGORIES:Event
ATTACH;FMTTYPE=image/png:https://www.discovernorthampton.co.uk/wp-content/uploads/2025/06/Screenshot-2025-06-02-114405.png
END:VEVENT
END:VCALENDAR