BEGIN:VCALENDAR
VERSION:2.0
PRODID:-//Northampton BID - ECPv6.2.4//NONSGML v1.0//EN
CALSCALE:GREGORIAN
METHOD:PUBLISH
X-ORIGINAL-URL:https://www.discovernorthampton.co.uk
X-WR-CALDESC:Events for Northampton BID
REFRESH-INTERVAL;VALUE=DURATION:PT1H
X-Robots-Tag:noindex
X-PUBLISHED-TTL:PT1H
BEGIN:VTIMEZONE
TZID:Europe/London
BEGIN:DAYLIGHT
TZOFFSETFROM:+0000
TZOFFSETTO:+0100
TZNAME:BST
DTSTART:20250330T010000
END:DAYLIGHT
BEGIN:STANDARD
TZOFFSETFROM:+0100
TZOFFSETTO:+0000
TZNAME:GMT
DTSTART:20251026T010000
END:STANDARD
END:VTIMEZONE
BEGIN:VEVENT
DTSTART;TZID=Europe/London:20250703T103000
DTEND;TZID=Europe/London:20250703T110000
DTSTAMP:20260420T165039
CREATED:20250626T080505Z
LAST-MODIFIED:20250626T080505Z
UID:128006-1751538600-1751540400@www.discovernorthampton.co.uk
SUMMARY:Rhymetime at Northamptonshire Central Library
DESCRIPTION:Bring your under 5â€™s to clap\, sing and wave our way through our favourite nursery rhymes and songs. Singing nursery rhymes and doing the actions are great for interaction\, communication skills and motor skills â€“ and most of all\, itâ€™s fun! \nPlease note that the Rhymetime sessions will be run on a first-come\, first-serve basis on the day and it will not be possible to book in advance. \nParents and Carers can collect a ticket from the front desk on the Thursday morning at 10am.
URL:https://www.discovernorthampton.co.uk/event/rhymetime-at-northamptonshire-central-library-29/
LOCATION:Northampton Central Library\, Abington Street\, Northampton\, Northamptonshire\, NN1 2BA\, United Kingdom
CATEGORIES:Event
ATTACH;FMTTYPE=image/png:https://www.discovernorthampton.co.uk/wp-content/uploads/2025/06/Screenshot-2025-06-26-090150.png
END:VEVENT
BEGIN:VEVENT
DTSTART;TZID=Europe/London:20250703T180000
DTEND;TZID=Europe/London:20250703T200000
DTSTAMP:20260420T165039
CREATED:20250624T124255Z
LAST-MODIFIED:20250624T124255Z
UID:127965-1751565600-1751572800@www.discovernorthampton.co.uk
SUMMARY:The Marketing Meetup IRL: Northampton
DESCRIPTION:The Northampton Marketing Meetup is an informal friendly place to meet\, learn and share knowledge with one another. Come in â€˜listenâ€™ mode ðŸ™‚ \nThe Northampton Marketing Meetup is an informal\, friendly place for the marketers of Northants to meet\, learn\, and share knowledge with one another. Come in â€˜listenâ€™ not â€˜sellâ€™ mode ðŸ™‚ \nWeâ€™re heading back to the lovely Vulcan Works for this one\, and we just want to get together\, say hello\, have a chat\, and have a nice time. \nThink of this as a community event\, where the focus is very much on you meeting other people in a chilled out friendly space. We’ll chat over food and drink\, listen to an inspirational speaker or two\, chat some more\, and go home buzzing with new contacts and new ideas. \nLet’s have a lovely night in the company of some amazin’ people. \nâ€”â€”â€”â€”â€”â€”â€“ \nSpeaker: Thomas Reeve\, Head of Design at Zyte \nTopic: Decoding the Human Touch â€“ Practical Tips for Engaging User Experiences \nEver wondered what really makes people tick? Join design expert Tom (packing a mighty 15+ years!) as he dives deep into the fascinating world of human behaviour. Forget the jargon\, this is about real\, actionable tips you can use tomorrow to craft truly engaging experiences that actually connect with your users. \nâ€”â€”â€”â€”â€”â€”â€“ \nThe format of the night: \n6:00 pm â€“ doors open â€“ drinks\, networking\, and smiles \n6:30 pm â€“ introduction and talks begin \n7:15 pm â€“ talks finish\, networking\, listening\, saying hello\, and positively lovely people \n7:45 pm â€“ end of the night â€“ you leave with new contacts and fresh ideas \nâ€”â€”â€”â€”â€”â€”â€“ \nPartnered with Digital Northants\, putting local businesses in touch with digital companies who can help solve their problems\, to encourage the growth of business in Northamptonshire. Check them out at https://www.linkedin.com/company/digital-northants \nPartnered with The ONE Group\, whose recruitment team bridges the gap between marketing professionals and a vast network of Northamptonshire businesses\, empowering career progression at every stage with unmissable opportunities and job-hunting support. Read more at TheOneGroup.co.uk \nPartnered with Vulcan Works\, helping entrepreneurs bring world challenging ideas to life. A workspace and community for innovative creatives. Check them out at VulcanWorks.co.uk \nâ€”â€”â€”â€”â€”â€”â€“ \nAnd finallyâ€¦ \nThis is a donation ticketed event. Entry price is yours to choose\, from £3 to £30 ðŸ™‚ \nWe of course understand that these are tough times\, so if you are experiencing financial hardship and cannot afford the minimum donation amount\, please reach out to el@themarketingmeetup.com and we’ll find a ticket for you (provided capacity hasnâ€™t already been reached!) ? \nPlease let your marketing friends and colleagues know about this group too\, we hope to build it into a great resource for the community over the coming months and years. Attendance will be taken at this event. If you sign up but don’t show up\, this has a knock on effect on event arrangements. If it happens 3 times\, you’re outta here! This is simply a measure to allow appropriate respect to the organisers\, speakers\, sponsors\, and your fellow community members ? \nâ€”â€”â€”â€”â€”â€”â€“ \nSee you there!
URL:https://www.discovernorthampton.co.uk/event/the-marketing-meetup-irl-northampton-3/
LOCATION:Vulcan Works\, 34-38 Guildhall Rd\, northampton\, Northamptonshire\, NN1 1EW\, United Kingdom
CATEGORIES:Event
ATTACH;FMTTYPE=image/png:https://www.discovernorthampton.co.uk/wp-content/uploads/2025/06/Screenshot-2025-06-24-133712.png
END:VEVENT
END:VCALENDAR