BEGIN:VCALENDAR
VERSION:2.0
PRODID:-//Northampton BID - ECPv6.2.4//NONSGML v1.0//EN
CALSCALE:GREGORIAN
METHOD:PUBLISH
X-ORIGINAL-URL:https://www.discovernorthampton.co.uk
X-WR-CALDESC:Events for Northampton BID
REFRESH-INTERVAL;VALUE=DURATION:PT1H
X-Robots-Tag:noindex
X-PUBLISHED-TTL:PT1H
BEGIN:VTIMEZONE
TZID:Europe/London
BEGIN:DAYLIGHT
TZOFFSETFROM:+0000
TZOFFSETTO:+0100
TZNAME:BST
DTSTART:20250330T010000
END:DAYLIGHT
BEGIN:STANDARD
TZOFFSETFROM:+0100
TZOFFSETTO:+0000
TZNAME:GMT
DTSTART:20251026T010000
END:STANDARD
END:VTIMEZONE
BEGIN:VEVENT
DTSTART;TZID=Europe/London:20250708T090000
DTEND;TZID=Europe/London:20250708T100000
DTSTAMP:20260420T073024
CREATED:20250626T082010Z
LAST-MODIFIED:20250626T082010Z
UID:128019-1751965200-1751968800@www.discovernorthampton.co.uk
SUMMARY:Quieter Hour at Northamptonshire Central Library
DESCRIPTION:Every Tuesday between 9am and 10am will be our quieter hour to enable our customers with sensory needs and their families to enjoy Northamptonshire Central Library. We appreciate our customersâ€™ support in minimising noise during our quieter hour.\n\n\n\nFor more information please visit our website - Accessibility\, health and wellbeing in our libraries | West Northamptonshire Council
URL:https://www.discovernorthampton.co.uk/event/quieter-hour-at-northamptonshire-central-library-2/
LOCATION:Northampton Central Library\, Abington Street\, Northampton\, Northamptonshire\, NN1 2BA\, United Kingdom
CATEGORIES:Event
ATTACH;FMTTYPE=image/png:https://www.discovernorthampton.co.uk/wp-content/uploads/2025/06/Screenshot-2025-06-26-091806.png
END:VEVENT
BEGIN:VEVENT
DTSTART;TZID=Europe/London:20250708T180000
DTEND;TZID=Europe/London:20250708T230000
DTSTAMP:20260420T073024
CREATED:20250624T114438Z
LAST-MODIFIED:20250624T114438Z
UID:127954-1751997600-1752015600@www.discovernorthampton.co.uk
SUMMARY:Table top game night
DESCRIPTION:Come join us for a thrilling Board Game Night at Mail Coach Northampton in Northampton! Whether youâ€™re a seasoned strategist or just looking for a fun night out\, this event is perfect for all board game enthusiasts. \nBring your friends\, family\, or come solo â€“ we have a variety of games available\, but feel free to bring your own favorites. Reserve a table and let us take care of the rest while you enjoy an evening filled with laughter\, competition\, and camaraderie. \nDonâ€™t miss out on this opportunity to showcase your skills\, discover new games\, and make memories that will last a lifetime. Mark your calendars and get ready for an unforgettable Board Game Night at Mail Coach Northampton!
URL:https://www.discovernorthampton.co.uk/event/table-top-game-night-12/
LOCATION:Mail Coach\, 8 Derngate\, northampton\, Northamptonshire\, NN1 1UB\, United Kingdom
CATEGORIES:Event
ATTACH;FMTTYPE=image/png:https://www.discovernorthampton.co.uk/wp-content/uploads/2025/06/Screenshot-2025-06-24-122839.png
END:VEVENT
END:VCALENDAR