BEGIN:VCALENDAR
VERSION:2.0
PRODID:-//Northampton BID - ECPv6.2.4//NONSGML v1.0//EN
CALSCALE:GREGORIAN
METHOD:PUBLISH
X-WR-CALNAME:Northampton BID
X-ORIGINAL-URL:https://www.discovernorthampton.co.uk
X-WR-CALDESC:Events for Northampton BID
REFRESH-INTERVAL;VALUE=DURATION:PT1H
X-Robots-Tag:noindex
X-PUBLISHED-TTL:PT1H
BEGIN:VTIMEZONE
TZID:Europe/London
BEGIN:DAYLIGHT
TZOFFSETFROM:+0000
TZOFFSETTO:+0100
TZNAME:BST
DTSTART:20260329T010000
END:DAYLIGHT
BEGIN:STANDARD
TZOFFSETFROM:+0100
TZOFFSETTO:+0000
TZNAME:GMT
DTSTART:20261025T010000
END:STANDARD
END:VTIMEZONE
BEGIN:VEVENT
DTSTART;TZID=Europe/London:20260115T170000
DTEND;TZID=Europe/London:20260115T230000
DTSTAMP:20260419T224631
CREATED:20260102T080450Z
LAST-MODIFIED:20260102T080450Z
UID:133432-1768496400-1768518000@www.discovernorthampton.co.uk
SUMMARY:BIKE NIGHTS
DESCRIPTION:Show off your ride. All are welcome.
URL:https://www.discovernorthampton.co.uk/event/bike-nights-11/
LOCATION:The King Billy Music Bar\, 2 Commercial Street\, Northampton\, NN1 1PJ\, United Kingdom
CATEGORIES:Event
ATTACH;FMTTYPE=image/png:https://www.discovernorthampton.co.uk/wp-content/uploads/2026/01/Screenshot-2025-08-26-132909.png
END:VEVENT
BEGIN:VEVENT
DTSTART;TZID=Europe/London:20260115T180000
DTEND;TZID=Europe/London:20260115T200000
DTSTAMP:20260419T224631
CREATED:20251224T075644Z
LAST-MODIFIED:20251224T075644Z
UID:133277-1768500000-1768507200@www.discovernorthampton.co.uk
SUMMARY:The Marketing Meetup IRL: Northampton
DESCRIPTION:The Northampton Marketing Meetup is an informal\, friendly place for the marketers of Northants to meet\, learn\, and share knowledge with one another. Come in ‘listen’ not ‘sell’ mode 🙂 \nWe’re heading back to the lovely Vulcan Works for this one\, and we just want to get together\, say hello\, have a chat\, and have a nice time. \nThink of this as a community event\, where the focus is very much on you meeting other people in a chilled out friendly space. We’ll chat over food and drink\, listen to an inspirational speaker or two\, chat some more\, and go home buzzing with new contacts and new ideas. \nLet’s have a lovely night in the company of some amazin’ people. \n 
URL:https://www.discovernorthampton.co.uk/event/the-marketing-meetup-irl-northampton-5/
LOCATION:Vulcan Works\, 34-38 Guildhall Rd\, northampton\, Northamptonshire\, NN1 1EW\, United Kingdom
CATEGORIES:Event
ATTACH;FMTTYPE=image/png:https://www.discovernorthampton.co.uk/wp-content/uploads/2025/12/Screenshot-2025-12-24-075312.png
END:VEVENT
BEGIN:VEVENT
DTSTART;TZID=Europe/London:20260115T190000
DTEND;TZID=Europe/London:20260115T210000
DTSTAMP:20260419T224631
CREATED:20251224T074255Z
LAST-MODIFIED:20251224T074255Z
UID:133271-1768503600-1768510800@www.discovernorthampton.co.uk
SUMMARY:FRENCH WINE TASTING
DESCRIPTION:French wine… No-one does it better than us! \n\nFor this Masterclass\, we’ll be embarking on a tour around French wine regions\, a country world renowned for it’s high quality produce. With our extensive selection of French wines\, we’ll have something for everyone. We’ll be going off menu\, discovering lots of wines that you won’t have tried before.
URL:https://www.discovernorthampton.co.uk/event/french-wine-tasting/
LOCATION:V and B\, 10 St Giles' Square\,\, Northampton\, NN1 1DA\, United Kingdom
CATEGORIES:Event
ATTACH;FMTTYPE=image/png:https://www.discovernorthampton.co.uk/wp-content/uploads/2025/12/Screenshot-2025-12-24-073951.png
END:VEVENT
END:VCALENDAR