BEGIN:VCALENDAR
VERSION:2.0
PRODID:-//Northampton BID - ECPv6.2.4//NONSGML v1.0//EN
CALSCALE:GREGORIAN
METHOD:PUBLISH
X-WR-CALNAME:Northampton BID
X-ORIGINAL-URL:https://www.discovernorthampton.co.uk
X-WR-CALDESC:Events for Northampton BID
REFRESH-INTERVAL;VALUE=DURATION:PT1H
X-Robots-Tag:noindex
X-PUBLISHED-TTL:PT1H
BEGIN:VTIMEZONE
TZID:Europe/London
BEGIN:DAYLIGHT
TZOFFSETFROM:+0000
TZOFFSETTO:+0100
TZNAME:BST
DTSTART:20260329T010000
END:DAYLIGHT
BEGIN:STANDARD
TZOFFSETFROM:+0100
TZOFFSETTO:+0000
TZNAME:GMT
DTSTART:20261025T010000
END:STANDARD
END:VTIMEZONE
BEGIN:VEVENT
DTSTART;TZID=Europe/London:20260314T130000
DTEND;TZID=Europe/London:20260314T150000
DTSTAMP:20260420T161955
CREATED:20260310T143734Z
LAST-MODIFIED:20260310T143734Z
UID:134882-1773493200-1773500400@www.discovernorthampton.co.uk
SUMMARY:Afternoon Tea (Mothers Day)
DESCRIPTION:Celebrate Mother’s Day with a beautifully curated Afternoon Tea — and the best part? Mums dine free. Join us for an elegant afternoon tea! \n\n\n\n\nCelebrate Mother’s Day with a beautifully curated Afternoon Tea — and the best part? Mums dine free. \nJoin us for an elegant afternoon of delicate sandwiches\, sweet treats\, warm scones and perfectly brewed tea\, all in a relaxed and welcoming setting. It’s our way of saying thank you to the incredible mums who do so much. \nSpaces are limited\, so be sure to book your slot early.
URL:https://www.discovernorthampton.co.uk/event/afternoon-tea-mothers-day/
LOCATION:Grandbies\, 26 St Giles' St\, northampton\, Northamptonshire\, NN1 1JA\, United Kingdom
CATEGORIES:Afternoon Tea,Event
ATTACH;FMTTYPE=image/png:https://www.discovernorthampton.co.uk/wp-content/uploads/2026/03/Screenshot-2026-03-10-143303.png
END:VEVENT
END:VCALENDAR