BEGIN:VCALENDAR
VERSION:2.0
PRODID:-//Northampton BID - ECPv6.2.4//NONSGML v1.0//EN
CALSCALE:GREGORIAN
METHOD:PUBLISH
X-ORIGINAL-URL:https://www.discovernorthampton.co.uk
X-WR-CALDESC:Events for Northampton BID
REFRESH-INTERVAL;VALUE=DURATION:PT1H
X-Robots-Tag:noindex
X-PUBLISHED-TTL:PT1H
BEGIN:VTIMEZONE
TZID:Europe/London
BEGIN:DAYLIGHT
TZOFFSETFROM:+0000
TZOFFSETTO:+0100
TZNAME:BST
DTSTART:20220327T010000
END:DAYLIGHT
BEGIN:STANDARD
TZOFFSETFROM:+0100
TZOFFSETTO:+0000
TZNAME:GMT
DTSTART:20221030T010000
END:STANDARD
END:VTIMEZONE
BEGIN:VEVENT
DTSTART;VALUE=DATE:20220918
DTEND;VALUE=DATE:20220919
DTSTAMP:20260420T184143
CREATED:20220912T145126Z
LAST-MODIFIED:20220912T145126Z
UID:110384-1663459200-1663545599@www.discovernorthampton.co.uk
SUMMARY:Men's wellness walks at Saints Coffee
DESCRIPTION:Menâ€™s wellness walks at Saints Coffee
URL:https://www.discovernorthampton.co.uk/event/mens-wellness-walks-at-saints-coffee/
LOCATION:Saints Coffee\, 62 St Giles' St\, Northampton\, Northamptonshire\, NN1 1JW\, United Kingdom
CATEGORIES:Event
ATTACH;FMTTYPE=image/jpeg:https://www.discovernorthampton.co.uk/wp-content/uploads/2022/08/2021-02-01_19-36-01_1612208205-1.jpg
END:VEVENT
BEGIN:VEVENT
DTSTART;TZID=Europe/London:20220922T170000
DTEND;TZID=Europe/London:20220922T210000
DTSTAMP:20260420T184143
CREATED:20220912T145950Z
LAST-MODIFIED:20220912T145950Z
UID:110386-1663866000-1663880400@www.discovernorthampton.co.uk
SUMMARY:Santina's Wood Fired Pizza and Happy Hour Cocktails at Saints Coffee
DESCRIPTION:Santinaâ€™s Wood Fired Pizza and Happy Hour Cocktails at Saints Coffee
URL:https://www.discovernorthampton.co.uk/event/santinas-wood-fired-pizza-and-happy-hour-cocktails-at-saints-coffee/
LOCATION:Saints Coffee\, 62 St Giles' St\, Northampton\, Northamptonshire\, NN1 1JW\, United Kingdom
CATEGORIES:Event
ATTACH;FMTTYPE=image/jpeg:https://www.discovernorthampton.co.uk/wp-content/uploads/2022/08/2021-02-01_19-36-01_1612208205-1.jpg
END:VEVENT
BEGIN:VEVENT
DTSTART;TZID=Europe/London:20220923T190000
DTEND;TZID=Europe/London:20220923T210000
DTSTAMP:20260420T184143
CREATED:20220912T151129Z
LAST-MODIFIED:20220912T151129Z
UID:110388-1663959600-1663966800@www.discovernorthampton.co.uk
SUMMARY:Live Music with Tu-Kay and Ryan at Saints Coffee
DESCRIPTION:Live Music with Tu-Kay and Ryan at Saints Coffee
URL:https://www.discovernorthampton.co.uk/event/live-music-with-tu-kay-and-ryan-at-saints-coffee/
LOCATION:Saints Coffee\, 62 St Giles' St\, Northampton\, Northamptonshire\, NN1 1JW\, United Kingdom
CATEGORIES:Event
ATTACH;FMTTYPE=image/jpeg:https://www.discovernorthampton.co.uk/wp-content/uploads/2022/08/2021-02-01_19-36-01_1612208205-1.jpg
END:VEVENT
BEGIN:VEVENT
DTSTART;VALUE=DATE:20220925
DTEND;VALUE=DATE:20220926
DTSTAMP:20260420T184143
CREATED:20220818T151259Z
LAST-MODIFIED:20220818T151259Z
UID:110196-1664064000-1664150399@www.discovernorthampton.co.uk
SUMMARY:Northampton Half Marathon
DESCRIPTION:The Northampton Half Marathon is back for itâ€™s eighth year and is established as the townâ€™s showcase running event\, as well as more charities and local communities getting involved. \nThe course is a good mix of town centre running and country lanes bringing together the heritage of Northamptonâ€™s industrial past and the pretty surrounding countryside. \nThe race starts in the shadow of the imposing Guildhall and initially routes up to the Race Course via St. Giles Street and Kettering Road\, following the perimeter of the Race Course the course heads back ito town via Barrack Road \, Ladyâ€™s Lane and Abington Street and back to the Guildhall completing the 5k Town Centre section. \nThe course then heads down to Beckets Park via the cultural museum and Derngate theatre before heading to the banks of the river Nene. We follow the river to the white water centre and then into Brackmills and then out into the country to Great Houghton. \nFrom there it is back into Brackmills and then to the finish on the front lawn of Delapre Abbey.
URL:https://www.discovernorthampton.co.uk/event/northampton-half-marathon/
LOCATION:Northampton
CATEGORIES:Event
ATTACH;FMTTYPE=image/jpeg:https://www.discovernorthampton.co.uk/wp-content/uploads/2022/08/bKCXco_northampton-half-marathon.jpg
END:VEVENT
BEGIN:VEVENT
DTSTART;TZID=Europe/London:20220925T110000
DTEND;TZID=Europe/London:20220925T130000
DTSTAMP:20260420T184143
CREATED:20220912T151724Z
LAST-MODIFIED:20220912T151724Z
UID:110390-1664103600-1664110800@www.discovernorthampton.co.uk
SUMMARY:Women's Walk and Talk at Saints Coffee
DESCRIPTION:Womenâ€™s Walk and Talk at Saints Coffee
URL:https://www.discovernorthampton.co.uk/event/womens-walk-and-talk-at-saints-coffee/
LOCATION:Saints Coffee\, 62 St Giles' St\, Northampton\, Northamptonshire\, NN1 1JW\, United Kingdom
CATEGORIES:Event
ATTACH;FMTTYPE=image/jpeg:https://www.discovernorthampton.co.uk/wp-content/uploads/2022/08/2021-02-01_19-36-01_1612208205-1.jpg
END:VEVENT
BEGIN:VEVENT
DTSTART;TZID=Europe/London:20220925T160000
DTEND;TZID=Europe/London:20220925T173000
DTSTAMP:20260420T184143
CREATED:20220914T130827Z
LAST-MODIFIED:20220914T130827Z
UID:110393-1664121600-1664127000@www.discovernorthampton.co.uk
SUMMARY:Positive Post Workshop at Saints Coffee
DESCRIPTION:Positive Post Workshop at Saints Coffee
URL:https://www.discovernorthampton.co.uk/event/positive-post-workshop-at-saints-coffee/
LOCATION:Saints Coffee\, 62 St Giles' St\, Northampton\, Northamptonshire\, NN1 1JW\, United Kingdom
CATEGORIES:Event
ATTACH;FMTTYPE=image/jpeg:https://www.discovernorthampton.co.uk/wp-content/uploads/2022/08/2021-02-01_19-36-01_1612208205-1.jpg
END:VEVENT
BEGIN:VEVENT
DTSTART;TZID=Europe/London:20220926T170000
DTEND;TZID=Europe/London:20220926T200000
DTSTAMP:20260420T184143
CREATED:20220914T131235Z
LAST-MODIFIED:20220914T131235Z
UID:110395-1664211600-1664222400@www.discovernorthampton.co.uk
SUMMARY:Ukrainians In Northampton at Saints Coffee
DESCRIPTION:Ukrainians In Northampton at Saints Coffee
URL:https://www.discovernorthampton.co.uk/event/ukrainians-in-northampton-at-saints-coffee/
LOCATION:Saints Coffee\, 62 St Giles' St\, Northampton\, Northamptonshire\, NN1 1JW\, United Kingdom
CATEGORIES:Event
ATTACH;FMTTYPE=image/jpeg:https://www.discovernorthampton.co.uk/wp-content/uploads/2022/08/2021-02-01_19-36-01_1612208205-1.jpg
END:VEVENT
BEGIN:VEVENT
DTSTART;TZID=Europe/London:20220927T110000
DTEND;TZID=Europe/London:20220927T160000
DTSTAMP:20260420T184143
CREATED:20220914T131454Z
LAST-MODIFIED:20220914T131454Z
UID:110397-1664276400-1664294400@www.discovernorthampton.co.uk
SUMMARY:Free Nutrition Drop-in Clinic at Saints Coffee
DESCRIPTION:Free Nutrition Drop-in Clinic at Saints Coffee
URL:https://www.discovernorthampton.co.uk/event/free-nutrition-drop-in-clinic-at-saints-coffee/
LOCATION:Saints Coffee\, 62 St Giles' St\, Northampton\, Northamptonshire\, NN1 1JW\, United Kingdom
CATEGORIES:Event
ATTACH;FMTTYPE=image/jpeg:https://www.discovernorthampton.co.uk/wp-content/uploads/2022/08/2021-02-01_19-36-01_1612208205-1.jpg
END:VEVENT
BEGIN:VEVENT
DTSTART;TZID=Europe/London:20220927T180000
DTEND;TZID=Europe/London:20220927T193000
DTSTAMP:20260420T184143
CREATED:20220914T132414Z
LAST-MODIFIED:20220914T132414Z
UID:110399-1664301600-1664307000@www.discovernorthampton.co.uk
SUMMARY:Meno-Roots With Northamptonshire's Menopause Support Group at Saints Coffee
DESCRIPTION:Meno-Roots With Northamptonshireâ€™s Menopause Support Group at Saints Coffee
URL:https://www.discovernorthampton.co.uk/event/meno-roots-with-northamptonshires-menopause-support-group-at-saints-coffee/
LOCATION:Saints Coffee\, 62 St Giles' St\, Northampton\, Northamptonshire\, NN1 1JW\, United Kingdom
CATEGORIES:Event
ATTACH;FMTTYPE=image/jpeg:https://www.discovernorthampton.co.uk/wp-content/uploads/2022/08/2021-02-01_19-36-01_1612208205-1.jpg
END:VEVENT
BEGIN:VEVENT
DTSTART;TZID=Europe/London:20220928T180000
DTEND;TZID=Europe/London:20220928T200000
DTSTAMP:20260420T184143
CREATED:20220914T132655Z
LAST-MODIFIED:20220914T132655Z
UID:110401-1664388000-1664395200@www.discovernorthampton.co.uk
SUMMARY:Art-Jam at Saints Coffee
DESCRIPTION:a true N town artist sharing her skill over cocktails
URL:https://www.discovernorthampton.co.uk/event/art-jam-at-saints-coffee/
LOCATION:Saints Coffee\, 62 St Giles' St\, Northampton\, Northamptonshire\, NN1 1JW\, United Kingdom
CATEGORIES:Event
ATTACH;FMTTYPE=image/jpeg:https://www.discovernorthampton.co.uk/wp-content/uploads/2022/08/2021-02-01_19-36-01_1612208205-1.jpg
END:VEVENT
BEGIN:VEVENT
DTSTART;TZID=Europe/London:20220929T180000
DTEND;TZID=Europe/London:20220929T200000
DTSTAMP:20260420T184143
CREATED:20220914T133030Z
LAST-MODIFIED:20220914T133030Z
UID:110403-1664474400-1664481600@www.discovernorthampton.co.uk
SUMMARY:Chess Night at Saints Coffee
DESCRIPTION:Chess night\, bring a chessboard!
URL:https://www.discovernorthampton.co.uk/event/chess-night-at-saints-coffee/
LOCATION:Saints Coffee\, 62 St Giles' St\, Northampton\, Northamptonshire\, NN1 1JW\, United Kingdom
CATEGORIES:Event
ATTACH;FMTTYPE=image/jpeg:https://www.discovernorthampton.co.uk/wp-content/uploads/2022/08/2021-02-01_19-36-01_1612208205-1.jpg
END:VEVENT
BEGIN:VEVENT
DTSTART;TZID=Europe/London:20220930T200000
DTEND;TZID=Europe/London:20220930T233000
DTSTAMP:20260420T184143
CREATED:20220914T133439Z
LAST-MODIFIED:20220914T133439Z
UID:110405-1664568000-1664580600@www.discovernorthampton.co.uk
SUMMARY:DJ Jazzivibes at Saints Coffee
DESCRIPTION:Dj Jazzivibes in for a night of Jazz! Enjoy vibes\, sip cocktails. graze charcuterie.
URL:https://www.discovernorthampton.co.uk/event/dj-jazzivibes-at-saints-coffee/
LOCATION:Saints Coffee\, 62 St Giles' St\, Northampton\, Northamptonshire\, NN1 1JW\, United Kingdom
CATEGORIES:Event
ATTACH;FMTTYPE=image/jpeg:https://www.discovernorthampton.co.uk/wp-content/uploads/2022/08/2021-02-01_19-36-01_1612208205-1.jpg
END:VEVENT
BEGIN:VEVENT
DTSTART;VALUE=DATE:20221005
DTEND;VALUE=DATE:20221006
DTSTAMP:20260420T184143
CREATED:20221005T092842Z
LAST-MODIFIED:20221005T092842Z
UID:110757-1664928000-1665014399@www.discovernorthampton.co.uk
SUMMARY:Oktoberfest Celebrations - V and B
DESCRIPTION:Our Oktoberfest celebration are still well underway\, so head down and enjoy a tasty German brew- either in the bar or from the shop.
URL:https://www.discovernorthampton.co.uk/event/oktoberfest-celebrations-v-and-b/2022-10-05/
LOCATION:VnB\, 10 St Giles' Square\, Northampton\, Northamptonshire\, NN1 1DA\, United Kingdom
CATEGORIES:Event
ATTACH;FMTTYPE=image/jpeg:https://www.discovernorthampton.co.uk/wp-content/uploads/2022/10/ewrfwqefg.jpeg
END:VEVENT
BEGIN:VEVENT
DTSTART;TZID=Europe/London:20221006T170000
DTEND;TZID=Europe/London:20221006T210000
DTSTAMP:20260420T184143
CREATED:20221003T111935Z
LAST-MODIFIED:20221003T111935Z
UID:110688-1665075600-1665090000@www.discovernorthampton.co.uk
SUMMARY:Santinas Wood Fire Pizza - Saints Coffee
DESCRIPTION:
URL:https://www.discovernorthampton.co.uk/event/santinas-wood-fire-pizza-saints-coffee/
LOCATION:Saints Coffee\, 62 St Giles' St\, Northampton\, Northamptonshire\, NN1 1JW\, United Kingdom
CATEGORIES:Event
ATTACH;FMTTYPE=image/jpeg:https://www.discovernorthampton.co.uk/wp-content/uploads/2022/10/saints-coffee-at-the-brampton-halt.jpg
END:VEVENT
BEGIN:VEVENT
DTSTART;TZID=Europe/London:20221006T190000
DTEND;TZID=Europe/London:20221006T220000
DTSTAMP:20260420T184143
CREATED:20221005T093811Z
LAST-MODIFIED:20221005T093811Z
UID:110761-1665082800-1665093600@www.discovernorthampton.co.uk
SUMMARY:Foire Aux Vins - V and B
DESCRIPTION:Thursday marks the start of our first ever Foire Aux Vins Tasting this Thursday at 7 (20 different wines. Tickets are £10pp\, and you get £10 off when you buy a case in the shop. You can grab your tickets in-store or on eventbrite)
URL:https://www.discovernorthampton.co.uk/event/foire-aux-vins-v-and-b/
LOCATION:VnB\, 10 St Giles' Square\, Northampton\, Northamptonshire\, NN1 1DA\, United Kingdom
CATEGORIES:Event
ATTACH;FMTTYPE=image/jpeg:https://www.discovernorthampton.co.uk/wp-content/uploads/2022/10/Image1212.jpeg
END:VEVENT
BEGIN:VEVENT
DTSTART;TZID=Europe/London:20221009T110000
DTEND;TZID=Europe/London:20221009T120000
DTSTAMP:20260420T184143
CREATED:20221003T112141Z
LAST-MODIFIED:20221003T112141Z
UID:110691-1665313200-1665316800@www.discovernorthampton.co.uk
SUMMARY:Women's Walk and Talk - Saints Coffee
DESCRIPTION:
URL:https://www.discovernorthampton.co.uk/event/womens-walk-and-talk-saints-coffee-2/
LOCATION:Saints Coffee\, 62 St Giles' St\, Northampton\, Northamptonshire\, NN1 1JW\, United Kingdom
CATEGORIES:Event
ATTACH;FMTTYPE=image/jpeg:https://www.discovernorthampton.co.uk/wp-content/uploads/2022/10/saints-coffee-at-the-brampton-halt.jpg
END:VEVENT
BEGIN:VEVENT
DTSTART;TZID=Europe/London:20221014T190000
DTEND;TZID=Europe/London:20221014T210000
DTSTAMP:20260420T184143
CREATED:20221003T112302Z
LAST-MODIFIED:20221003T112302Z
UID:110693-1665774000-1665781200@www.discovernorthampton.co.uk
SUMMARY:Live Music - Saints Coffee
DESCRIPTION:
URL:https://www.discovernorthampton.co.uk/event/live-music-saints-coffee/
LOCATION:Saints Coffee\, 62 St Giles' St\, Northampton\, Northamptonshire\, NN1 1JW\, United Kingdom
CATEGORIES:Event
ATTACH;FMTTYPE=image/jpeg:https://www.discovernorthampton.co.uk/wp-content/uploads/2022/10/saints-coffee-at-the-brampton-halt.jpg
END:VEVENT
BEGIN:VEVENT
DTSTART;VALUE=DATE:20221015
DTEND;VALUE=DATE:20221016
DTSTAMP:20260420T184143
CREATED:20221003T112431Z
LAST-MODIFIED:20221003T112431Z
UID:110695-1665792000-1665878399@www.discovernorthampton.co.uk
SUMMARY:Sound Bath and Breakfast - Saints Coffee
DESCRIPTION:
URL:https://www.discovernorthampton.co.uk/event/sound-bath-and-breakfast-saints-coffee/
LOCATION:Saints Coffee\, 62 St Giles' St\, Northampton\, Northamptonshire\, NN1 1JW\, United Kingdom
CATEGORIES:Event
ATTACH;FMTTYPE=image/jpeg:https://www.discovernorthampton.co.uk/wp-content/uploads/2022/10/saints-coffee-at-the-brampton-halt.jpg
END:VEVENT
BEGIN:VEVENT
DTSTART;VALUE=DATE:20221016
DTEND;VALUE=DATE:20221017
DTSTAMP:20260420T184143
CREATED:20221003T112557Z
LAST-MODIFIED:20221003T112557Z
UID:110697-1665878400-1665964799@www.discovernorthampton.co.uk
SUMMARY:Men's Wellness Walk - Saints Coffee
DESCRIPTION:
URL:https://www.discovernorthampton.co.uk/event/mens-wellness-walk-saints-coffee/
LOCATION:Saints Coffee\, 62 St Giles' St\, Northampton\, Northamptonshire\, NN1 1JW\, United Kingdom
CATEGORIES:Event
ATTACH;FMTTYPE=image/jpeg:https://www.discovernorthampton.co.uk/wp-content/uploads/2022/10/saints-coffee-at-the-brampton-halt.jpg
END:VEVENT
BEGIN:VEVENT
DTSTART;TZID=Europe/London:20221020T190000
DTEND;TZID=Europe/London:20221020T210000
DTSTAMP:20260420T184143
CREATED:20221005T094434Z
LAST-MODIFIED:20221005T094434Z
UID:110767-1666292400-1666299600@www.discovernorthampton.co.uk
SUMMARY:Wonders of South African Wine - V and B
DESCRIPTION:Learn about the history\, the regions and the grapes â€“ and a fair few different wines in the process.
URL:https://www.discovernorthampton.co.uk/event/wonders-of-south-african-wine-v-and-b/
LOCATION:VnB\, 10 St Giles' Square\, Northampton\, Northamptonshire\, NN1 1DA\, United Kingdom
CATEGORIES:Event
ATTACH;FMTTYPE=image/jpeg:https://www.discovernorthampton.co.uk/wp-content/uploads/2022/10/qergfweg.jpeg
END:VEVENT
BEGIN:VEVENT
DTSTART;TZID=Europe/London:20221020T190000
DTEND;TZID=Europe/London:20221020T210000
DTSTAMP:20260420T184143
CREATED:20221003T112727Z
LAST-MODIFIED:20221003T112727Z
UID:110699-1666292400-1666299600@www.discovernorthampton.co.uk
SUMMARY:Book Club - Saints Coffee
DESCRIPTION:
URL:https://www.discovernorthampton.co.uk/event/book-club-saints-coffee-3/
LOCATION:Saints Coffee\, 62 St Giles' St\, Northampton\, Northamptonshire\, NN1 1JW\, United Kingdom
CATEGORIES:Event
ATTACH;FMTTYPE=image/jpeg:https://www.discovernorthampton.co.uk/wp-content/uploads/2022/10/saints-coffee-at-the-brampton-halt.jpg
END:VEVENT
BEGIN:VEVENT
DTSTART;TZID=Europe/London:20221021T190000
DTEND;TZID=Europe/London:20221021T210000
DTSTAMP:20260420T184143
CREATED:20221003T112859Z
LAST-MODIFIED:20221003T112859Z
UID:110701-1666378800-1666386000@www.discovernorthampton.co.uk
SUMMARY:Live Music - Saints Coffee
DESCRIPTION:
URL:https://www.discovernorthampton.co.uk/event/live-music-saints-coffee-2/
LOCATION:Saints Coffee\, 62 St Giles' St\, Northampton\, Northamptonshire\, NN1 1JW\, United Kingdom
CATEGORIES:Event
ATTACH;FMTTYPE=image/jpeg:https://www.discovernorthampton.co.uk/wp-content/uploads/2022/10/saints-coffee-at-the-brampton-halt.jpg
END:VEVENT
BEGIN:VEVENT
DTSTART;TZID=Europe/London:20221021T200000
DTEND;TZID=Europe/London:20221021T220000
DTSTAMP:20260420T184143
CREATED:20221005T094833Z
LAST-MODIFIED:20221005T094833Z
UID:110770-1666382400-1666389600@www.discovernorthampton.co.uk
SUMMARY:La Pisse Frissons - V and B
DESCRIPTION:La Pisse Frissons will be back with a live performance and Dj set on the 21st and if their previous performances are anything to go by\, this is one you donâ€™t want to miss!
URL:https://www.discovernorthampton.co.uk/event/la-pisse-frissons-v-and-b/
LOCATION:VnB\, 10 St Giles' Square\, Northampton\, Northamptonshire\, NN1 1DA\, United Kingdom
CATEGORIES:Event
ATTACH;FMTTYPE=image/jpeg:https://www.discovernorthampton.co.uk/wp-content/uploads/2022/10/ergewrgeg.jpeg
END:VEVENT
BEGIN:VEVENT
DTSTART;TZID=Europe/London:20221022T200000
DTEND;TZID=Europe/London:20221022T220000
DTSTAMP:20260420T184143
CREATED:20221003T113032Z
LAST-MODIFIED:20221003T113032Z
UID:110703-1666468800-1666476000@www.discovernorthampton.co.uk
SUMMARY:Whiskey Tasting - Saints Coffee
DESCRIPTION:
URL:https://www.discovernorthampton.co.uk/event/whiskey-tasting-saints-coffee/
LOCATION:Saints Coffee\, 62 St Giles' St\, Northampton\, Northamptonshire\, NN1 1JW\, United Kingdom
CATEGORIES:Event
ATTACH;FMTTYPE=image/jpeg:https://www.discovernorthampton.co.uk/wp-content/uploads/2022/10/saints-coffee-at-the-brampton-halt.jpg
END:VEVENT
BEGIN:VEVENT
DTSTART;TZID=Europe/London:20221023T110000
DTEND;TZID=Europe/London:20221023T130000
DTSTAMP:20260420T184143
CREATED:20221003T113247Z
LAST-MODIFIED:20221003T113247Z
UID:110705-1666522800-1666530000@www.discovernorthampton.co.uk
SUMMARY:Woman's Walk and Talk - Saints Coffee
DESCRIPTION:
URL:https://www.discovernorthampton.co.uk/event/womans-walk-and-talk-saints-coffee-3/
LOCATION:Saints Coffee\, 62 St Giles' St\, Northampton\, Northamptonshire\, NN1 1JW\, United Kingdom
CATEGORIES:Event
ATTACH;FMTTYPE=image/jpeg:https://www.discovernorthampton.co.uk/wp-content/uploads/2022/10/saints-coffee-at-the-brampton-halt.jpg
END:VEVENT
BEGIN:VEVENT
DTSTART;TZID=Europe/London:20221024T170000
DTEND;TZID=Europe/London:20221024T200000
DTSTAMP:20260420T184143
CREATED:20221003T113447Z
LAST-MODIFIED:20221003T113447Z
UID:110707-1666630800-1666641600@www.discovernorthampton.co.uk
SUMMARY:Ukrainians in Northampton Event - Saints Coffee
DESCRIPTION:
URL:https://www.discovernorthampton.co.uk/event/ukrainians-in-northampton-event-saints-coffee-2/
LOCATION:Saints Coffee\, 62 St Giles' St\, Northampton\, Northamptonshire\, NN1 1JW\, United Kingdom
CATEGORIES:Event
ATTACH;FMTTYPE=image/jpeg:https://www.discovernorthampton.co.uk/wp-content/uploads/2022/10/saints-coffee-at-the-brampton-halt.jpg
END:VEVENT
BEGIN:VEVENT
DTSTART;TZID=Europe/London:20221025T110000
DTEND;TZID=Europe/London:20221025T160000
DTSTAMP:20260420T184143
CREATED:20221003T113645Z
LAST-MODIFIED:20221003T113645Z
UID:110709-1666695600-1666713600@www.discovernorthampton.co.uk
SUMMARY:Free Nutrition Drop-in Clinic - Saints Coffee
DESCRIPTION:
URL:https://www.discovernorthampton.co.uk/event/free-nutrition-drop-in-clinic-saints-coffee/
LOCATION:Saints Coffee\, 62 St Giles' St\, Northampton\, Northamptonshire\, NN1 1JW\, United Kingdom
CATEGORIES:Event
ATTACH;FMTTYPE=image/jpeg:https://www.discovernorthampton.co.uk/wp-content/uploads/2022/10/saints-coffee-at-the-brampton-halt.jpg
END:VEVENT
BEGIN:VEVENT
DTSTART;TZID=Europe/London:20221025T190000
DTEND;TZID=Europe/London:20221025T220000
DTSTAMP:20260420T184143
CREATED:20221005T095032Z
LAST-MODIFIED:20221005T095032Z
UID:110773-1666724400-1666735200@www.discovernorthampton.co.uk
SUMMARY:Be Spoke - V and B
DESCRIPTION:
URL:https://www.discovernorthampton.co.uk/event/be-spoke-v-and-b/
LOCATION:VnB\, 10 St Giles' Square\, Northampton\, Northamptonshire\, NN1 1DA\, United Kingdom
CATEGORIES:Event
ATTACH;FMTTYPE=image/jpeg:https://www.discovernorthampton.co.uk/wp-content/uploads/2022/10/dadewsc.jpeg
END:VEVENT
BEGIN:VEVENT
DTSTART;TZID=Europe/London:20221026T143000
DTEND;TZID=Europe/London:20221026T153000
DTSTAMP:20260420T184143
CREATED:20221024T074154Z
LAST-MODIFIED:20221024T074154Z
UID:111360-1666794600-1666798200@www.discovernorthampton.co.uk
SUMMARY:Autumn Leaf Crafts! - Northamptonshire Central Library
DESCRIPTION:Join us for some unbe-leaf-able crafts! We will be making leaf crowns\, hedgehog and owl pictures\, and leaf bunting.\nLeaves provided\, but feel free to bring your own!
URL:https://www.discovernorthampton.co.uk/event/autumn-leaf-crafts-northamptonshire-central-library/
LOCATION:Northampton Central Library\, Abington Street\, Northampton\, Northamptonshire\, NN1 2BA\, United Kingdom
CATEGORIES:Event
ATTACH;FMTTYPE=image/jpeg:https://www.discovernorthampton.co.uk/wp-content/uploads/2022/10/310124831_5868972953135495_1565433433778883205_n.jpg
END:VEVENT
BEGIN:VEVENT
DTSTART;VALUE=DATE:20221027
DTEND;VALUE=DATE:20221028
DTSTAMP:20260420T184143
CREATED:20221005T095504Z
LAST-MODIFIED:20221005T095504Z
UID:110776-1666828800-1666915199@www.discovernorthampton.co.uk
SUMMARY:Danny Tompkins Autumn Takeover - V and B
DESCRIPTION:We will be transforming our upstairs into a restaurant where you will be able to enjoy a delicious\, seasonally inspired four- course tasting menu showcasing the flavours of Autumn. Drinks will be available behind the bar\, or you can enjoy our perfectly paired wine fight!
URL:https://www.discovernorthampton.co.uk/event/danny-tompkins-autumn-takeover-v-and-b/
LOCATION:VnB\, 10 St Giles' Square\, Northampton\, Northamptonshire\, NN1 1DA\, United Kingdom
CATEGORIES:Event
ATTACH;FMTTYPE=image/jpeg:https://www.discovernorthampton.co.uk/wp-content/uploads/2022/10/wefwrttrtr.jpeg
END:VEVENT
END:VCALENDAR