BEGIN:VCALENDAR
VERSION:2.0
PRODID:-//Northampton BID - ECPv6.2.4//NONSGML v1.0//EN
CALSCALE:GREGORIAN
METHOD:PUBLISH
X-WR-CALNAME:Northampton BID
X-ORIGINAL-URL:https://www.discovernorthampton.co.uk
X-WR-CALDESC:Events for Northampton BID
REFRESH-INTERVAL;VALUE=DURATION:PT1H
X-Robots-Tag:noindex
X-PUBLISHED-TTL:PT1H
BEGIN:VTIMEZONE
TZID:Europe/London
BEGIN:DAYLIGHT
TZOFFSETFROM:+0000
TZOFFSETTO:+0100
TZNAME:BST
DTSTART:20220327T010000
END:DAYLIGHT
BEGIN:STANDARD
TZOFFSETFROM:+0100
TZOFFSETTO:+0000
TZNAME:GMT
DTSTART:20221030T010000
END:STANDARD
BEGIN:DAYLIGHT
TZOFFSETFROM:+0000
TZOFFSETTO:+0100
TZNAME:BST
DTSTART:20230326T010000
END:DAYLIGHT
BEGIN:STANDARD
TZOFFSETFROM:+0100
TZOFFSETTO:+0000
TZNAME:GMT
DTSTART:20231029T010000
END:STANDARD
BEGIN:DAYLIGHT
TZOFFSETFROM:+0000
TZOFFSETTO:+0100
TZNAME:BST
DTSTART:20240331T010000
END:DAYLIGHT
BEGIN:STANDARD
TZOFFSETFROM:+0100
TZOFFSETTO:+0000
TZNAME:GMT
DTSTART:20241027T010000
END:STANDARD
BEGIN:DAYLIGHT
TZOFFSETFROM:+0000
TZOFFSETTO:+0100
TZNAME:BST
DTSTART:20250330T010000
END:DAYLIGHT
BEGIN:STANDARD
TZOFFSETFROM:+0100
TZOFFSETTO:+0000
TZNAME:GMT
DTSTART:20251026T010000
END:STANDARD
END:VTIMEZONE
BEGIN:VEVENT
DTSTART;TZID=Europe/London:20250817T130000
DTEND;TZID=Europe/London:20250817T150000
DTSTAMP:20260420T223534
CREATED:20250808T134019Z
LAST-MODIFIED:20250808T134019Z
UID:129066-1755435600-1755442800@www.discovernorthampton.co.uk
SUMMARY:Fashion Show
DESCRIPTION:Event lasts 2 hours
URL:https://www.discovernorthampton.co.uk/event/fashion-show-3/
LOCATION:Grandbies\, 26 St Giles' St\, northampton\, Northamptonshire\, NN1 1JA\, United Kingdom
CATEGORIES:Fashion Show
ATTACH;FMTTYPE=image/png:https://www.discovernorthampton.co.uk/wp-content/uploads/2025/08/Screenshot-2025-08-08-143731.png
END:VEVENT
BEGIN:VEVENT
DTSTART;TZID=Europe/London:20220321T190000
DTEND;TZID=Europe/London:20220321T210000
DTSTAMP:20260420T223534
CREATED:20220312T083323Z
LAST-MODIFIED:20220312T083323Z
UID:107580-1647889200-1647896400@www.discovernorthampton.co.uk
SUMMARY:Fashion Show
DESCRIPTION:Preview the best of Spring and Summer 2022’s daywear\, evening wear and occasion wear from Europe’s leading designers. Presented by Voni Blu and Bonsoire in partnership with Northampton Museum and Art Gallery.\nMonday 21 March\n|\n7-9pm\nNorthampton Museum and Art Gallery\nFashion\nWith a demonstration by Finn & Co.\, goody bag\, raffle prizes and more. In support of the Northampton Hope Centre.
URL:https://www.discovernorthampton.co.uk/event/fashion-show/
LOCATION:Northampton Museum And Art Gallery\, 4-6 Guildhall Rd\,\, Northampton\, Northamptonshire\, NN1 1DP\, United Kingdom
CATEGORIES:Fashion Show
ATTACH;FMTTYPE=image/jpeg:https://www.discovernorthampton.co.uk/wp-content/uploads/2022/03/275287197_5288971684469913_7972702878425019451_n.jpg
END:VEVENT
END:VCALENDAR