BEGIN:VCALENDAR
VERSION:2.0
PRODID:-//Northampton BID - ECPv6.2.4//NONSGML v1.0//EN
CALSCALE:GREGORIAN
METHOD:PUBLISH
X-ORIGINAL-URL:https://www.discovernorthampton.co.uk
X-WR-CALDESC:Events for Northampton BID
REFRESH-INTERVAL;VALUE=DURATION:PT1H
X-Robots-Tag:noindex
X-PUBLISHED-TTL:PT1H
BEGIN:VTIMEZONE
TZID:Europe/London
BEGIN:DAYLIGHT
TZOFFSETFROM:+0000
TZOFFSETTO:+0100
TZNAME:BST
DTSTART:20260329T010000
END:DAYLIGHT
BEGIN:STANDARD
TZOFFSETFROM:+0100
TZOFFSETTO:+0000
TZNAME:GMT
DTSTART:20261025T010000
END:STANDARD
END:VTIMEZONE
BEGIN:VEVENT
DTSTART;TZID=Europe/London:20260228T143000
DTEND;TZID=Europe/London:20260228T143000
DTSTAMP:20260420T211041
CREATED:20260206T151048Z
LAST-MODIFIED:20260206T151048Z
UID:134586-1772289000-1772289000@www.discovernorthampton.co.uk
SUMMARY:Still Making A Scene Matinee - relaxed family friendly (PG/12A) + filmmaker Q&A
DESCRIPTION:Join us for our relaxed\, family friendly Opening Gala matinee which includes a soft drink in the ticket price. Walk the red carpet with us and watch some amazing films in a beautiful Northampton venue. Come dressed up ready to have your photo taken or come in whatever you feel comfortable in! Photos are optional (and free!). We’ll also have an opportunity to ask filmmakers present about their films after watching them. \nMost of the films you’ll be watching are part of our 18yrs and Under category\, made by local and British young filmmakers. There’s also music\, comedy\, dance and drama. \nWe’ve got 2 screenings in one event for you – a PG screening 3pm-4pm then a short interval followed by a 20-minute 12A screening from about 3.15pm. For those that just want to see the PG films\, there will be entertainment for you in other rooms in the Abbey – so bring the family and make a creative afternoon of it! All children must be accompanied by a paying adult. \nDoors 2.30pm with screening starting promptly at 3pm (film order may change): \nSI Superficial Intelligence \nNavigating The Net \nThe Missing Piece \nLost in the Backrooms \nGreat Fire of Northampton \nBalls. \nBone Collector \nThen a short break before the 12A films: \nBurnout \nPeaches \nSmall I’s \nDancing To Art \nThese films have some mild bad language and some injury detail\, and contain themes like burnout\, apocalypse and rebellion (!) which you might feel is unsuitable for your child who is under 12. Any age child under 12 can watch these films as long as they are accompanied by an adult. \nAfter watching the films\, elsewhere in the Abbey you can take part in some creative activities and/or view our Rebels and Revolutionaries art exhibition. \nChildren are 16yrs and Under. You don’t need to be a family to use the family ticket – any 2 adults (16yrs+) and 2 children (under 16yrs) can be a family for the day! \nFree parking is a few hundred metres from the venue. The path from the car park to the venue is a flat gravel path. There is step free access to all spaces and a disabled toilet. Some floors in the Abbey are uneven (not our main event space though). We have flexible seating (padded dining room chairs) and the space can accommodate multiple wheelchair users (no need to book a specific ticket or let us know in advance). While music will be played at this event it will be possible to be in spaces without music playing. \nThis is a relaxed screening where people are free to move around\, make a bit of noise and generally be relaxed! If you are a Disabled Person bringing a carer with you to be able to visit\, please contact us to get a free ticket for the carer. \nIf you have any access queries or want more information about the event content\, you are welcome to get in touch via info@northamptonfilmfestival.co.uk\, 07930 646721 or visit our arts space The Creative Place on Northampton Market Square.
URL:https://www.discovernorthampton.co.uk/event/still-making-a-scene-matinee-relaxed-family-friendly-pg-12a-filmmaker-qa/
LOCATION:Delapre Abbey\, NN4 8AW
CATEGORIES:Festival,Film
ATTACH;FMTTYPE=image/png:https://www.discovernorthampton.co.uk/wp-content/uploads/2026/02/Film-Festival.png
END:VEVENT
BEGIN:VEVENT
DTSTART;TZID=Europe/London:20260228T181500
DTEND;TZID=Europe/London:20260228T181500
DTSTAMP:20260420T211041
CREATED:20260206T154304Z
LAST-MODIFIED:20260206T154304Z
UID:134588-1772302500-1772302500@www.discovernorthampton.co.uk
SUMMARY:Opening Gala: Still Making A Scene (15) + filmmaker Q&A
DESCRIPTION:Join us on the red carpet for our evening Opening Gala to celebrate our 5th birthday – with this year’s theme Still Making A Scene. \nJoin us to celebrate the Rebels and Revolutionaries\, Misfits and Mavericks\, Creatives and Changemakers of Northamptonshire and beyond – be part of our scene for the night\, a place where people can come together to connect\, create and celebrate. Working with filmmakers\, artists and our wonderful audiences\, we’ve built a vibrant creative scene locally over the past 5 years and we hope to continue to be the home of film\, creativity and connection in Northants for more years to come… \nSo let’s party and watch some amazing films. Dressing up is encouraged – Make A Scene – but any get up is fine – be comfortable and be you. \nYour ticket includes a glass of prosecco which can be swapped on the night for a beer or soft drink. If you are under 18yrs you will automatically be given a soft drink. Proof of age may be required so bring your ID! \nDoors and red carpet 6.15pm \nFilms start 7pm \nFilms and filmmaker Q&A will end circa 8.30pm \nThe party ends at 9.30pm but the festival has just begun… \nFree parking is a few hundred metres from the venue. The path from the car park to the venue is a flat gravel path. There is step free access to all spaces and a disabled toilet. Some floors in the Abbey are uneven (not our main event space though). We have flexible seating (padded dining room chairs) and the space can accommodate multiple wheelchair users (no need to book a specific ticket or let us know in advance). While music will be played at this event it will be possible to be in spaces without music playing. \nThis event has a 15 certificate so all guests must be 15 years or older. Proof may be required. Films contain sexual references\, bad language and injury detail\, and themes of death and abuse. We are happy to provide more information on access\, trigger warnings etc so please feel free to contact us on info@northamptonfilmfestival.co.uk\, 07930 646721 or to pop into our arts space The Creative Place on Northampton Market Square.
URL:https://www.discovernorthampton.co.uk/event/opening-gala-still-making-a-scene-15-filmmaker-qa/
LOCATION:Delepre Abbey\, London Rd\, Northampton\, Northants\, NN4 8AW\, United Kingdom
CATEGORIES:Festival,Film
ATTACH;FMTTYPE=image/png:https://www.discovernorthampton.co.uk/wp-content/uploads/2026/02/Film-Festival.png
END:VEVENT
END:VCALENDAR