BEGIN:VCALENDAR
VERSION:2.0
PRODID:-//Northampton BID - ECPv6.2.4//NONSGML v1.0//EN
CALSCALE:GREGORIAN
METHOD:PUBLISH
X-WR-CALNAME:Northampton BID
X-ORIGINAL-URL:https://www.discovernorthampton.co.uk
X-WR-CALDESC:Events for Northampton BID
REFRESH-INTERVAL;VALUE=DURATION:PT1H
X-Robots-Tag:noindex
X-PUBLISHED-TTL:PT1H
BEGIN:VTIMEZONE
TZID:Europe/London
BEGIN:DAYLIGHT
TZOFFSETFROM:+0000
TZOFFSETTO:+0100
TZNAME:BST
DTSTART:20260329T010000
END:DAYLIGHT
BEGIN:STANDARD
TZOFFSETFROM:+0100
TZOFFSETTO:+0000
TZNAME:GMT
DTSTART:20261025T010000
END:STANDARD
END:VTIMEZONE
BEGIN:VEVENT
DTSTART;TZID=Europe/London:20260318T163000
DTEND;TZID=Europe/London:20260318T163000
DTSTAMP:20260425T122603
CREATED:20260206T170041Z
LAST-MODIFIED:20260206T170041Z
UID:134630-1773851400-1773851400@www.discovernorthampton.co.uk
SUMMARY:Corby Rebels and Revolutionaries art exhibition - drop in
DESCRIPTION:As part of NFF 2026 we held a free-to-enter art competition and – commissioned by Made With Many\, a Creative people and Places programme funded by Arts Council England – we also ran free creative sessions in Corby. Here you can see some of the work that was created and\, if you visit between 6.30pm and 8.30pm\, we’ll do a bit of networking for creatives\, artists and anyone who is interested in meeting others! Drop in anytime. It is free to attend. \nDeadline for submitting work to NFF 2026 is 21 Feb. See NNCreativePlace socials for rules or email nncreativeplace@gmail.com \nWe’ve asked people to submit an artwork in any medium – poem\, painting\, textiles\, photography\, doodle\, sculpture etc – inspired by our prompt (or part of it): ‘Northants is a county of Rebels and Revolutionaries\, Misfits and Mavericks\, Creatives and Changemakers’. The winner will be announced in our 18yrs and Under\, and 19yrs+ categories at the awards ceremonies on Sunday 8 March – come along! \n\nCore at Corby Cube theatre \nParkland Gateway\, downstairs inside The Corby Cube\, George St\, Corby NN17 1QG\nMarch 18\, 2026\, 4:30 – 8:30 PM GMT
URL:https://www.discovernorthampton.co.uk/event/corby-rebels-and-revolutionaries-art-exhibition-drop-in/
CATEGORIES:Festival,Film
ATTACH;FMTTYPE=image/png:https://www.discovernorthampton.co.uk/wp-content/uploads/2026/02/Film-Festival.png
END:VEVENT
BEGIN:VEVENT
DTSTART;TZID=Europe/London:20260318T183000
DTEND;TZID=Europe/London:20260318T183000
DTSTAMP:20260425T122603
CREATED:20260206T170211Z
LAST-MODIFIED:20260206T170211Z
UID:134632-1773858600-1773858600@www.discovernorthampton.co.uk
SUMMARY:Free networking for artists\, creatives and anyone interested in creativity!
DESCRIPTION:As part of our art exhibition of local and county-wide work\, we’ve also got a few hours of free networking. See the artwork\, get a drink at the bar\, mingle with creative people! \nThis project was commissioned by Made With Many\, a Creative People and Places programme funded by Arts Council England. \nPlease book a ticket so we get a sense of numbers. \n\nCore at Corby Cube theatre \nParkland Gateway\, downstairs inside The Corby Cube\, George St\, Corby NN17 1QG\nMarch 18\, 2026\, 6:30 – 8:30 PM GMT
URL:https://www.discovernorthampton.co.uk/event/free-networking-for-artists-creatives-and-anyone-interested-in-creativity/
CATEGORIES:Festival,Film
ATTACH;FMTTYPE=image/png:https://www.discovernorthampton.co.uk/wp-content/uploads/2026/02/Film-Festival.png
END:VEVENT
END:VCALENDAR