BEGIN:VCALENDAR
VERSION:2.0
PRODID:-//Northampton BID - ECPv6.2.4//NONSGML v1.0//EN
CALSCALE:GREGORIAN
METHOD:PUBLISH
X-WR-CALNAME:Northampton BID
X-ORIGINAL-URL:https://www.discovernorthampton.co.uk
X-WR-CALDESC:Events for Northampton BID
REFRESH-INTERVAL;VALUE=DURATION:PT1H
X-Robots-Tag:noindex
X-PUBLISHED-TTL:PT1H
BEGIN:VTIMEZONE
TZID:Europe/London
BEGIN:DAYLIGHT
TZOFFSETFROM:+0000
TZOFFSETTO:+0100
TZNAME:BST
DTSTART:20220327T010000
END:DAYLIGHT
BEGIN:STANDARD
TZOFFSETFROM:+0100
TZOFFSETTO:+0000
TZNAME:GMT
DTSTART:20221030T010000
END:STANDARD
BEGIN:DAYLIGHT
TZOFFSETFROM:+0000
TZOFFSETTO:+0100
TZNAME:BST
DTSTART:20230326T010000
END:DAYLIGHT
BEGIN:STANDARD
TZOFFSETFROM:+0100
TZOFFSETTO:+0000
TZNAME:GMT
DTSTART:20231029T010000
END:STANDARD
BEGIN:DAYLIGHT
TZOFFSETFROM:+0000
TZOFFSETTO:+0100
TZNAME:BST
DTSTART:20240331T010000
END:DAYLIGHT
BEGIN:STANDARD
TZOFFSETFROM:+0100
TZOFFSETTO:+0000
TZNAME:GMT
DTSTART:20241027T010000
END:STANDARD
BEGIN:DAYLIGHT
TZOFFSETFROM:+0000
TZOFFSETTO:+0100
TZNAME:BST
DTSTART:20250330T010000
END:DAYLIGHT
BEGIN:STANDARD
TZOFFSETFROM:+0100
TZOFFSETTO:+0000
TZNAME:GMT
DTSTART:20251026T010000
END:STANDARD
END:VTIMEZONE
BEGIN:VEVENT
DTSTART;TZID=Europe/London:20250312T173000
DTEND;TZID=Europe/London:20250312T173000
DTSTAMP:20260425T203230
CREATED:20250117T210508Z
LAST-MODIFIED:20250117T210508Z
UID:123233-1741800600-1741800600@www.discovernorthampton.co.uk
SUMMARY:NFF 2025: 'She Walks A Line' documentary feature with Director Q&A (15)
DESCRIPTION:We’ll be joined by the Director Tim Lovell afterwards for a Q&A so have your questions ready! \n\n\n\n\nShe Walks A Line\nDocumentary \n\nView all films tagged “Documentary”\n\nFeature length film \n\nView all films tagged “Feature length film”\n\n\n\nShe Walks a Line is a gripping documentary that reveals the harrowing journey of thousands of young Nepali women and girls who are coerced across the border into India each year. \nOnce across the notoriously porous 1\,000-mile frontier\, most are sold into the sex industry\, forced into domestic servitude or subjected to organ and skin harvesting. This border has become one of the world’s most prolific human trafficking routes. \nAmidst international indifference\, one Nepali woman\, Shanta Sapkota\, has taken a courageous stand to combat this humanitarian crisis. Driven by heartbreak and a fierce determination\, she leads a team of female anti-human trafficking operatives at the Mahendranagar crossing\, a critical checkpoint where the fate of many young lives hangs in the balance. \nThis exclusively nonwhite\, female-led documentary takes the audience deep into the heart of this mission. Through the eyes of rescuers\, victims\, and traffickers\, we witness the raw emotions\, heart-wrenching struggles\, and moments of triumph that define this battle against human trafficking. \nAt its core\, She Walks a Line is a story of empowermentof women fighting for justice\, of traffickers manipulating the vulnerable\, and of a divine calling that has inspired one woman to stand her ground in the face of adversity. This film not only tells a story; it ignites a movement. \nDirector Biography -TIMOTHY STUART LOVELL \nTimothy Lovell is a highly accomplished professional in the film and television industry\, with a career spanning over three decades. A multi-award-winning editor\, he has contributed his expertise to critically acclaimed international feature documentaries\, including Mugabe and the White African\, Hawking\, and Outbreak. In recent years\, Timothy has expanded his skill set to encompass self-shooting and directing\, further enriching his ability to craft compelling narratives. \nPassionate about ethical filmmaking\, Timothy Lovell is committed to creating and amplifying stories that highlight underrepresented voices. His recent projects include the critically acclaimed anti-human trafficking documentary You Are Beautiful and the award-winning Operation Goldilocks. \nThrough his work\, Timothy continues to champion impactful storytelling\, using film as a powerful medium to address vital social issues and inspire change. \nAccolades / Credits include: \nAwarded Membership \nThe Guild of British Film and Television Editors\, GBFE \nWinner of the following International Awards: \nBAFTA\, EMMY\, GRIERSON\, SCRIPPS HOWARD\, ONE WORLD MEDIA \nNominated for the Royal Television Society Award \nOutbreak: The truth about Ebola \nBBC Television / PBS Television \nWinner of the Royal Television Society Award \nNominated for BAFTA \nThe Hunt Natural History Documentary Series \nBBC Television & international broadcast \nWinner of the Royal Television Society Award \nBest Natural History Film of 2014 \nAfricas Giant Killers \nBBC Television and international broadcast \nOFFICIAL SELECTION FOR INTERNATIONAL FILM FESTIVALS \nSXSW\, EDINBURGH AND CAMBRIDGE \nINTERNATIONAL CINEMA RELEASE & international broadcast \nHAWKING Feature documentary \nWinner of the following International Awards: \nBIFA\, SILVERDOCKS\, AMNESTY\, HAMPTONS\, GRIERSON \nShortlisted for ACADEMY AWARDS (Oscar)\, \nNominated for BAFTA \nINTERNATIONAL CINEMA RELEASE & international broadcast \nMugabe & the White African Feature documentary \nDirector Statement \nTo gather the footage for this film\, I was required to embed myself with the Peace Rehabilitation Center (PRC) border operatives in Southwest Nepal. My ambition was to document their courageous fight against prolific human trafficking endeavors along that notoriously porous border. I wanted to unpack on camera the complexities of human trafficking\, the lies\, mysteries\, triumphs\, and heartache the team faces every day. \nPRC’s team in Nepal has enough challenges without all the inconvenience of a filmmaker documenting their every move. However\, they accommodated my needs with grace and patience. In bringing this story to the screen\, I firmly believe they withheld nothing from me about their mode of operation. This transparency is to be applauded. \nDuring the process of filming\, I was greatly impacted by the very real risks these female operatives take every single day to find and recover children being cruelly sold for sex. They exhibit a profound compassion for these children and an unquenchable passion to do everything in their power to intercept them before they are lost over the border. \nI would like to thank the Peace Rehabilitation Center (PRC) team in Nepal for allowing me to film with them and produce this intimate insight into their exhausting\, dangerous\, and hugely inspiring work.
URL:https://www.discovernorthampton.co.uk/event/nff-2025-she-walks-a-line-documentary-feature-with-director-qa-15/
LOCATION:The Filmhouse\, Derngate\, northampton\, Northamptonshire\, NN1 1TU\, United Kingdom
CATEGORIES:Festival,Film
ATTACH;FMTTYPE=image/jpeg:https://www.discovernorthampton.co.uk/wp-content/uploads/2025/01/Northampton-Film-Festival-2025-scaled.jpeg
END:VEVENT
BEGIN:VEVENT
DTSTART;TZID=Europe/London:20250311T201500
DTEND;TZID=Europe/London:20250311T201500
DTSTAMP:20260425T203230
CREATED:20250117T211221Z
LAST-MODIFIED:20250117T211221Z
UID:123235-1741724100-1741724100@www.discovernorthampton.co.uk
SUMMARY:NFF 2025 short films: will it ever be easy? (18)
DESCRIPTION:Fitting in. Feeling like a misfit. Going along with the crowd. Forging your own path. Understanding who you are. Will it ever be easy? The answer is probably ‘no’ if this selection of drama and comedy is anything to go by.
URL:https://www.discovernorthampton.co.uk/event/nff-2025-short-films-will-it-ever-be-easy-18/
LOCATION:The Filmhouse\, Derngate\, northampton\, Northamptonshire\, NN1 1TU\, United Kingdom
CATEGORIES:Festival,Film
ATTACH;FMTTYPE=image/jpeg:https://www.discovernorthampton.co.uk/wp-content/uploads/2025/01/Northampton-Film-Festival-2025-scaled.jpeg
END:VEVENT
BEGIN:VEVENT
DTSTART;TZID=Europe/London:20250310T190000
DTEND;TZID=Europe/London:20250310T190000
DTSTAMP:20260425T203230
CREATED:20250117T211827Z
LAST-MODIFIED:20250117T213920Z
UID:123237-1741633200-1741633200@www.discovernorthampton.co.uk
SUMMARY:NFF 2025: Shortlisted narrative fiction short films (18)
DESCRIPTION:Creative Hub\, University of Northampton \nWaterside Campus\, University Drive\, Northampton NN1 5PH\nMarch 10\, 2025\, 7:00 – 7:30 PMGMT
URL:https://www.discovernorthampton.co.uk/event/nff-2025-shortlisted-narrative-fiction-short-films-18/
LOCATION:University of Northampton\, Waterside Campus\, University Dr\, northampton\, Northamptonshire\, NN1 5PH\, United Kingdom
CATEGORIES:Festival,Film
ATTACH;FMTTYPE=image/jpeg:https://www.discovernorthampton.co.uk/wp-content/uploads/2025/01/Northampton-Film-Festival-2025-scaled.jpeg
END:VEVENT
BEGIN:VEVENT
DTSTART;TZID=Europe/London:20250310T183000
DTEND;TZID=Europe/London:20250310T183000
DTSTAMP:20260425T203230
CREATED:20250117T212434Z
LAST-MODIFIED:20250117T213515Z
UID:123239-1741631400-1741631400@www.discovernorthampton.co.uk
SUMMARY:NFF 2025: A selection of our Misfit and Maverick shorts (18)
DESCRIPTION:Films that don’t fit the narrative fiction or documentary mold. Lots of Northamptonshire connections too!
URL:https://www.discovernorthampton.co.uk/event/nff-2025-a-selection-of-our-misfit-and-maverick-shorts-18/
LOCATION:University of Northampton\, Waterside Campus\, University Dr\, northampton\, Northamptonshire\, NN1 5PH\, United Kingdom
CATEGORIES:Festival,Film
ATTACH;FMTTYPE=image/jpeg:https://www.discovernorthampton.co.uk/wp-content/uploads/2025/01/Northampton-Film-Festival-2025-scaled.jpeg
END:VEVENT
BEGIN:VEVENT
DTSTART;TZID=Europe/London:20250310T180000
DTEND;TZID=Europe/London:20250310T180000
DTSTAMP:20260425T203230
CREATED:20250117T212704Z
LAST-MODIFIED:20250117T214022Z
UID:123241-1741629600-1741629600@www.discovernorthampton.co.uk
SUMMARY:NFF 2025: A selection of University of Northampton shorts (18)
DESCRIPTION:Creative Hub\, University of Northampton \nWaterside Campus\, University Drive\, Northampton NN1 5PH\nMarch 10\, 2025\, 6:00 – 6:30 PMGMT
URL:https://www.discovernorthampton.co.uk/event/nff-2025-a-selection-of-university-of-northampton-shorts-18/
LOCATION:University of Northampton\, Waterside Campus\, University Dr\, northampton\, Northamptonshire\, NN1 5PH\, United Kingdom
CATEGORIES:Festival,Film
ATTACH;FMTTYPE=image/jpeg:https://www.discovernorthampton.co.uk/wp-content/uploads/2025/01/Northampton-Film-Festival-2025-scaled.jpeg
END:VEVENT
BEGIN:VEVENT
DTSTART;TZID=Europe/London:20250310T170000
DTEND;TZID=Europe/London:20250310T200000
DTSTAMP:20260425T203230
CREATED:20250117T212953Z
LAST-MODIFIED:20250117T214204Z
UID:123243-1741626000-1741636800@www.discovernorthampton.co.uk
SUMMARY:NFF 2025: Film Networking in association with the University of Northampton
DESCRIPTION:Creative Hub\, University of Northampton \nWaterside Campus\, University Drive\, Northampton NN1 5PH\nMarch 10\, 2025\, 5:00 – 8:00 PMGMT
URL:https://www.discovernorthampton.co.uk/event/nff-2025-film-networking-in-association-with-the-university-of-northampton/
LOCATION:University of Northampton\, Waterside Campus\, University Dr\, northampton\, Northamptonshire\, NN1 5PH\, United Kingdom
CATEGORIES:Festival,Film
ATTACH;FMTTYPE=image/jpeg:https://www.discovernorthampton.co.uk/wp-content/uploads/2025/01/Northampton-Film-Festival-2025-scaled.jpeg
END:VEVENT
BEGIN:VEVENT
DTSTART;TZID=Europe/London:20250309T170000
DTEND;TZID=Europe/London:20250309T170000
DTSTAMP:20260425T203230
CREATED:20250123T102032Z
LAST-MODIFIED:20250123T102032Z
UID:123269-1741539600-1741539600@www.discovernorthampton.co.uk
SUMMARY:NFF 2025: 'Gama Bomb' documentary feature with shorts 'Decksdark' & 'National Treasures' (15)
DESCRIPTION:Doors open 5pm with the films starting promptly at 5.20pm. Your ticket comes with a glass of wine\, a bottle of beer or soft drink. \nContains strong swearing.
URL:https://www.discovernorthampton.co.uk/event/nff-2025-gama-bomb-documentary-feature-with-shorts-decksdark-national-treasures-15/
LOCATION:Delepre Abbey\, London Rd\, Northampton\, Northants\, NN4 8AW\, United Kingdom
CATEGORIES:Festival,Film
ATTACH;FMTTYPE=image/jpeg:https://www.discovernorthampton.co.uk/wp-content/uploads/2025/01/Northampton-Film-Festival-2025-scaled.jpeg
END:VEVENT
BEGIN:VEVENT
DTSTART;TZID=Europe/London:20250309T140000
DTEND;TZID=Europe/London:20250309T140000
DTSTAMP:20260425T203230
CREATED:20250123T101907Z
LAST-MODIFIED:20250123T101907Z
UID:123267-1741528800-1741528800@www.discovernorthampton.co.uk
SUMMARY:NFF 2025: 'The House That Stood' feature film with filmmakers Q&A plus shorts 'Black Vultures Over Britain' + 'A Day in February' (15)
DESCRIPTION:Doors open 2pm with the films starting promptly at 2.20pm. Your ticket comes with a glass of wine\, a bottle of beer or soft drink. The Orangery cafe will also be open for additional refreshments. \nLocal Director Antonella Spirito and Producer Barnaby Spikings of ‘The House That Stood’ will be with us for a Q&A after the screening so have your questions ready!
URL:https://www.discovernorthampton.co.uk/event/nff-2025-the-house-that-stood-feature-film-with-filmmakers-qa-plus-shorts-black-vultures-over-britain-a-day-in-february-15/
LOCATION:Delepre Abbey\, London Rd\, Northampton\, Northants\, NN4 8AW\, United Kingdom
CATEGORIES:Festival,Film
ATTACH;FMTTYPE=image/jpeg:https://www.discovernorthampton.co.uk/wp-content/uploads/2025/01/Northampton-Film-Festival-2025-scaled.jpeg
END:VEVENT
BEGIN:VEVENT
DTSTART;TZID=Europe/London:20250309T113000
DTEND;TZID=Europe/London:20250309T113000
DTSTAMP:20260425T203230
CREATED:20250123T101543Z
LAST-MODIFIED:20250123T101543Z
UID:123265-1741519800-1741519800@www.discovernorthampton.co.uk
SUMMARY:NFF 2025: Comedy\, coffee and cake (12A)
DESCRIPTION:Films to make you smile! What better for a Sunday morning than just over an hour of joy and jokes. Oh\, and of course drains. \nAnimation\, drama and documentary. \nDoors 11.30am\, films 12pm. Please arrive in good time before 12pm if you’re getting a coffee. There will also be a chance to discuss the films after the screening. The cafe will also be open throughout. \nThere will be a selection of cakes to choose from and instead of coffee you can have a tea or juice box if you prefer. \nThis film has a 12A certificate
URL:https://www.discovernorthampton.co.uk/event/nff-2025-comedy-coffee-and-cake-12a/
LOCATION:Delepre Abbey\, London Rd\, Northampton\, Northants\, NN4 8AW\, United Kingdom
CATEGORIES:Festival,Film
ATTACH;FMTTYPE=image/jpeg:https://www.discovernorthampton.co.uk/wp-content/uploads/2025/01/Northampton-Film-Festival-2025-scaled.jpeg
END:VEVENT
BEGIN:VEVENT
DTSTART;TZID=Europe/London:20250308T180000
DTEND;TZID=Europe/London:20250308T180000
DTSTAMP:20260425T203230
CREATED:20250123T101259Z
LAST-MODIFIED:20250123T101259Z
UID:123263-1741456800-1741456800@www.discovernorthampton.co.uk
SUMMARY:NFF 2025: International Women's Day short films Selection 3 with People Library + drink (18)
DESCRIPTION:A selection of short films made by or featuring women from this year’s shortlisted films\, celebrating women in front of and behind the camera for International Women’s Day. \nWe also have a Women in Film ‘People Library’ – come along and speak to a selection of women working in different roles in the world of Film – ask questions which may help your film career\, understand the industry better or to get the inside story on how a film comes together. A ‘Librarian’ will book in for short conversations. There will also be opportunities to meet other filmmakers and network. \nDoors and Women In Film People Library opens 6pm with first film screening at 7pm. \nThere will be a short interval in the middle of the films then another chance to visit the People Library – but we highly recommend arriving from 6pm if you want to visit the library – it will be operated on a first come first served basis – the ‘Librarian’ will get as many people to see our ‘books’ as possible! \nYour ticket comes with a drink which can be a glass of wine\, bottled beer or soft drink. The Orangery cafe bar will also be open during the evening. \nThis screening has a 18 certificate – if you would like any possible trigger warnings\, please read the descriptions of the films then get in touch if you’d like more detailinfo@northamptonfilmfestival.co.uk \nAll our venues are wheelchair accessible.
URL:https://www.discovernorthampton.co.uk/event/nff-2025-international-womens-day-short-films-selection-3-with-people-library-drink-18/
LOCATION:Delepre Abbey\, London Rd\, Northampton\, Northants\, NN4 8AW\, United Kingdom
CATEGORIES:Festival,Film
ATTACH;FMTTYPE=image/jpeg:https://www.discovernorthampton.co.uk/wp-content/uploads/2025/01/Northampton-Film-Festival-2025-scaled.jpeg
END:VEVENT
BEGIN:VEVENT
DTSTART;TZID=Europe/London:20250308T133000
DTEND;TZID=Europe/London:20250308T133000
DTSTAMP:20260425T203230
CREATED:20250123T100631Z
LAST-MODIFIED:20250123T100631Z
UID:123261-1741440600-1741440600@www.discovernorthampton.co.uk
SUMMARY:NFF 2025: International Women's Day short films Selection 2 with People Library + drink (15)
DESCRIPTION:A selection of short films made by or featuring women from this year’s shortlisted films\, celebrating women in front of and behind the camera for International Women’s Day. \nWe also have a Women in Film ‘People Library’ – come along and speak to a selection of women working in different roles in the world of Film – ask questions which may help your film career\, understand the industry better or to get the inside story on how a film comes together. A ‘Librarian’ will book in for short conversations. There will also be opportunities to meet other filmmakers and network. \nDoors and Women In Film People Library opens 1.30pm with first film screening at 2.30pm. \nThere will be a short interval in the middle of the films then another chance to visit the People Library – but we highly recommend arriving from 1.30pm if you want to visit the library – it is will be operated on a first come first served basis – the ‘Librarian’ will get as many people to see our ‘books’ as possible! \nYour ticket comes with a drink which can be a glass of wine\, bottled beer or soft drink. The Orangery cafe will also be open throughout. \nThis screening has a 15 certificate – if you would like any possible trigger warnings\, please read the descriptions of the films then get in touch if you’d like more detailinfo@northamptonfilmfestival.co.uk \nAll our venues are wheelchair accessible.
URL:https://www.discovernorthampton.co.uk/event/nff-2025-international-womens-day-short-films-selection-2-with-people-library-drink-15/
LOCATION:Delepre Abbey\, London Rd\, Northampton\, Northants\, NN4 8AW\, United Kingdom
CATEGORIES:Festival,Film
ATTACH;FMTTYPE=image/jpeg:https://www.discovernorthampton.co.uk/wp-content/uploads/2025/01/Northampton-Film-Festival-2025-scaled.jpeg
END:VEVENT
BEGIN:VEVENT
DTSTART;TZID=Europe/London:20250308T110000
DTEND;TZID=Europe/London:20250308T110000
DTSTAMP:20260425T203230
CREATED:20250123T100100Z
LAST-MODIFIED:20250123T100100Z
UID:123259-1741431600-1741431600@www.discovernorthampton.co.uk
SUMMARY:NFF 2025: International Women's Day short films Selection 1 (PG)
DESCRIPTION:A selection of short films\, from animation to music to drama\, that have been shortlisted for this year’s festival. \nCome on your own or bring the family. We’ll have a colouring book station at the back of the room for any smaller ones who might not want to sit for the whole programme – adults of course also welcome there! \nDoors at 11am\, films starting at 11.30am with a short interval in the middle and some time at the end to discuss the films. \nThe coffee/drink and cake is any coffee\, tea or juice box plus a cake of your choice for the daily selection. \nAll our venues are wheelchair accessible.
URL:https://www.discovernorthampton.co.uk/event/nff-2025-international-womens-day-short-films-selection-1-pg/
LOCATION:Delepre Abbey\, London Rd\, Northampton\, Northants\, NN4 8AW\, United Kingdom
CATEGORIES:Festival,Film
ATTACH;FMTTYPE=image/jpeg:https://www.discovernorthampton.co.uk/wp-content/uploads/2025/01/Northampton-Film-Festival-2025-scaled.jpeg
END:VEVENT
BEGIN:VEVENT
DTSTART;TZID=Europe/London:20250307T183000
DTEND;TZID=Europe/London:20250307T183000
DTSTAMP:20260425T203230
CREATED:20250123T095111Z
LAST-MODIFIED:20250123T095928Z
UID:123257-1741372200-1741372200@www.discovernorthampton.co.uk
SUMMARY:NFF 2025 Opening Gala + prosecco (18)
DESCRIPTION:Join us on the red carpet at the beautiful Delapre Abbey to celebrate the start of Northampton Film Festival 2025. \nWatch a selection of films\, from drama to documentary\, comedy and animation\, meet some of the filmmakers and also the NFF team. \nEach ticket includes a glass of prosecco (or a soft drink if you prefer). The Orangery cafe (with limited menu) and bar will be open throughout. \nEvent photo from NFF 2024 by Simon Turner – expect a new red carpet moment for 2025! \nDoors 6.30pm. The films will show with an interval and time for a Q&A afterwards. The order of films may change. This screening has an 18 certificate although many of the films we show have a U or 12A certificate – if you would like any trigger warnings in advance after reading the films’ descriptions\, please do get in touchinfo@northamptonfilmfestival.co.uk \nAll our venues are wheelchair accessible.
URL:https://www.discovernorthampton.co.uk/event/nff-2025-opening-gala-prosecco-18/
LOCATION:Delepre Abbey\, London Rd\, Northampton\, Northants\, NN4 8AW\, United Kingdom
CATEGORIES:Festival,Film
ATTACH;FMTTYPE=image/jpeg:https://www.discovernorthampton.co.uk/wp-content/uploads/2025/01/Northampton-Film-Festival-2025-scaled.jpeg
END:VEVENT
BEGIN:VEVENT
DTSTART;TZID=Europe/London:20250307T140000
DTEND;TZID=Europe/London:20250307T140000
DTSTAMP:20260425T203230
CREATED:20250123T094855Z
LAST-MODIFIED:20250123T094855Z
UID:123255-1741356000-1741356000@www.discovernorthampton.co.uk
SUMMARY:NFF 2025 short films: Celebrating Identity (12A)
DESCRIPTION:A selection of short films from documentary to drama\, from Northampton and across the country\, about people discovering themselves\, celebrating their talents and finding their tribe. \nAs well as the films\, there will be a chance to discuss the films afterwards. The certificate of this screening is 12A. \nDoors open at 2pm. Delapre’s cafe will be open throughout for refreshments. \nFor the Coffee + Cake ticket\, you can swap the coffee for tea or various soft drinks. A variety of cakes will be available on the day. \nAll our venues are wheelchair accessible.
URL:https://www.discovernorthampton.co.uk/event/nff-2025-short-films-celebrating-identity-12a/
LOCATION:Delepre Abbey\, London Rd\, Northampton\, Northants\, NN4 8AW\, United Kingdom
CATEGORIES:Festival,Film
ATTACH;FMTTYPE=image/jpeg:https://www.discovernorthampton.co.uk/wp-content/uploads/2025/01/Northampton-Film-Festival-2025-scaled.jpeg
END:VEVENT
BEGIN:VEVENT
DTSTART;TZID=Europe/London:20250307T100000
DTEND;TZID=Europe/London:20250307T100000
DTSTAMP:20260425T203230
CREATED:20250123T093213Z
LAST-MODIFIED:20250123T093213Z
UID:123253-1741341600-1741341600@www.discovernorthampton.co.uk
SUMMARY:NFF's Youth Disability Advisory Board presents a selection of shorts for schools (12A)
DESCRIPTION:This invitation-only event will be screening a selection of short films to secondary school and college age young people. \nWe’re showing two films from the NFF 2025 shortlist – plus a selection of films chosen by our Youth Disability Advisory Board made by or starring people with disabilities provided by Oska Bright Film Festival\, the worlds leading festival for films made by or featuring people with learning disabilities or autism. \nSarah Leigh will take part in a Q&A after the screening of her film ‘One For The Road’. \nAll our venues are wheelchair accessible.
URL:https://www.discovernorthampton.co.uk/event/nffs-youth-disability-advisory-board-presents-a-selection-of-shorts-for-schools-12a/
LOCATION:Delepre Abbey\, London Rd\, Northampton\, Northants\, NN4 8AW\, United Kingdom
CATEGORIES:Festival,Film
ATTACH;FMTTYPE=image/jpeg:https://www.discovernorthampton.co.uk/wp-content/uploads/2025/01/Northampton-Film-Festival-2025-scaled.jpeg
END:VEVENT
BEGIN:VEVENT
DTSTART;VALUE=DATE:20240308
DTEND;VALUE=DATE:20240309
DTSTAMP:20260425T203230
CREATED:20240312T111100Z
LAST-MODIFIED:20240312T111100Z
UID:118967-1709856000-1709942399@www.discovernorthampton.co.uk
SUMMARY:Northampton Film Festival 2024
DESCRIPTION:Northampton Film Festival 2024 8 – 16 March 2024 \nCheck out the Film Guide to see what we’re showing or the Schedule to book a screening. \nAnd if you want to binge on local and British cinema for less\, book a festival pass. \nSign up to their mailing list. \nThe Festival has been made possible with support from Northampton Town Council and our venues: Cineworld Northampton\, Delapre Abbey\, Lings Forum\, University of Northampton and Northampton Filmhouse.
URL:https://www.discovernorthampton.co.uk/event/northampton-film-festival-2024/2024-03-08/
LOCATION:town centre
CATEGORIES:Festival,Film
ATTACH;FMTTYPE=image/png:https://www.discovernorthampton.co.uk/wp-content/uploads/2024/03/Northampton-Film-Festival.png
END:VEVENT
BEGIN:VEVENT
DTSTART;TZID=Europe/London:20230319T170000
DTEND;TZID=Europe/London:20230319T190000
DTSTAMP:20260425T203230
CREATED:20230303T154346Z
LAST-MODIFIED:20230303T154346Z
UID:113149-1679245200-1679252400@www.discovernorthampton.co.uk
SUMMARY:European Film Club
DESCRIPTION:
URL:https://www.discovernorthampton.co.uk/event/european-film-club-2/2023-03-19/
LOCATION:VnB\, 10 St Giles' Square\, Northampton\, Northamptonshire\, NN1 1DA\, United Kingdom
CATEGORIES:Film
ATTACH;FMTTYPE=image/jpeg:https://www.discovernorthampton.co.uk/wp-content/uploads/2023/03/Image.jpeg
END:VEVENT
BEGIN:VEVENT
DTSTART;VALUE=DATE:20221214
DTEND;VALUE=DATE:20221215
DTSTAMP:20260425T203230
CREATED:20221214T150536Z
LAST-MODIFIED:20221214T150536Z
UID:111851-1670976000-1671062399@www.discovernorthampton.co.uk
SUMMARY:Scene Unseen
DESCRIPTION:Filmed byDavid Lefeberdirected byJames Dacreillustrations byThomas Hicks. \nA cutting-edge new musical about identity\, sexuality\, and what makes us who we are. \nAn hour-long song-cycle weaves a path from cabaret artistJessica Walkers (Alone in Berlin) emotionally complex childhood right up to her very particular wedding day\, with songs about early gender confusion\, sexual assault\, first love and betrayal\, and family secrets. \nIt is a powerful\, personal story with universal themes\, expressed through Atkins and Walkers uncategorisable musical mix of humour\, classicism\, torch\, and a touch of Eighties synth.
URL:https://www.discovernorthampton.co.uk/event/scene-unseen/2022-12-14/
LOCATION:Northants
CATEGORIES:Film
ATTACH;FMTTYPE=image/jpeg:https://www.discovernorthampton.co.uk/wp-content/uploads/2022/12/Scene-Unseen-WEBSITE-BANNER-2-1170x476-1.jpg
ORGANIZER;CN="Royal and Derngate":MAILTO:BoxOffice@royalandderngate.co.uk
END:VEVENT
BEGIN:VEVENT
DTSTART;TZID=Europe/London:20221027T190000
DTEND;TZID=Europe/London:20221027T220000
DTSTAMP:20260425T203230
CREATED:20220928T104532Z
LAST-MODIFIED:20220928T104658Z
UID:110493-1666897200-1666908000@www.discovernorthampton.co.uk
SUMMARY:Food and Film at The Shipmans for Halloween
DESCRIPTION:Shipmans are very excited to present the first part of their Big Halloween plans. \nSomething NEW for Northampton \nWe bring you a night of FOOD and FILM . \nScreening The iconic Beetlejuice we bring you a concept that offers our guests a unique and immersive dining experience where food and cinema is combined . \nFor 35.95 pp you will be served a timed two course set menu and two Beetlejuice inspired cocktails crafted to compliment the films most memorable moments. \nYour servers will be dressed the part and our beautiful drum room will be transformed to get you in the Halloween spirit . \nWe will be running this event on the 27th \, 30th and 31st of October . \nTickets are Limited \nDrop us a message\, email or call to book or for more information \n  \nCheck out their Facebook page for full details. \nEmail theshipmans@mcmanuspubs.co.uk \nCall 01604 806048 \n  \n12 Drapery\, \nNorthampton\, NN1 2HG \n  \n  \n 
URL:https://www.discovernorthampton.co.uk/event/food-and-film-at-the-shipmans-for-halloween/2022-10-27/
LOCATION:The Shipmans\, 12 Drapery\,\, northampton\, Northamptonshire\, NN1 2HG\, United Kingdom
CATEGORIES:Film,Food,Halloween
ATTACH;FMTTYPE=image/jpeg:https://www.discovernorthampton.co.uk/wp-content/uploads/2022/09/Shipmans-Halloween.jpg
END:VEVENT
END:VCALENDAR