BEGIN:VCALENDAR
VERSION:2.0
PRODID:-//Northampton BID - ECPv6.2.4//NONSGML v1.0//EN
CALSCALE:GREGORIAN
METHOD:PUBLISH
X-WR-CALNAME:Northampton BID
X-ORIGINAL-URL:https://www.discovernorthampton.co.uk
X-WR-CALDESC:Events for Northampton BID
REFRESH-INTERVAL;VALUE=DURATION:PT1H
X-Robots-Tag:noindex
X-PUBLISHED-TTL:PT1H
BEGIN:VTIMEZONE
TZID:Europe/London
BEGIN:DAYLIGHT
TZOFFSETFROM:+0000
TZOFFSETTO:+0100
TZNAME:BST
DTSTART:20240331T010000
END:DAYLIGHT
BEGIN:STANDARD
TZOFFSETFROM:+0100
TZOFFSETTO:+0000
TZNAME:GMT
DTSTART:20241027T010000
END:STANDARD
END:VTIMEZONE
BEGIN:VEVENT
DTSTART;TZID=Europe/London:20241102T180000
DTEND;TZID=Europe/London:20241102T220000
DTSTAMP:20260422T171534
CREATED:20241025T183021Z
LAST-MODIFIED:20241025T183021Z
UID:122181-1730570400-1730584800@www.discovernorthampton.co.uk
SUMMARY:Bonfire Night Fireworks display at Cheyne Walk Club
DESCRIPTION:Join us at the Club for a night of fireworks and fun for all the family! \nTickets are now available – just £15 for adults and £7.50 for children. Ticket price includes a burger or hotdog for each guest. \nThe event is open to all and tickets must be purchased in advance. Please note that no payments can be taken on the night. \nDue to the nature of the event\, please be advised that the Club will be closed to any Members or guests who have not purchased their tickets in advance of the night. \nTickets here: https://cheynewalkclub.co.uk/events/bonfire-night-2
URL:https://www.discovernorthampton.co.uk/event/bonfire-night-fireworks-display-at-cheyne-walk-club/
LOCATION:Cheyne Walk Club\, 2 Cheyne Walk\, northampton\, Northamptonshire\, NN1 5PU\, United Kingdom
CATEGORIES:Fireworks
ATTACH;FMTTYPE=image/png:https://www.discovernorthampton.co.uk/wp-content/uploads/2024/10/Wordpress-Featured-Image-5-300x167-1.png
END:VEVENT
END:VCALENDAR