BEGIN:VCALENDAR
VERSION:2.0
PRODID:-//Northampton BID - ECPv6.2.4//NONSGML v1.0//EN
CALSCALE:GREGORIAN
METHOD:PUBLISH
X-WR-CALNAME:Northampton BID
X-ORIGINAL-URL:https://www.discovernorthampton.co.uk
X-WR-CALDESC:Events for Northampton BID
REFRESH-INTERVAL;VALUE=DURATION:PT1H
X-Robots-Tag:noindex
X-PUBLISHED-TTL:PT1H
BEGIN:VTIMEZONE
TZID:Europe/London
BEGIN:DAYLIGHT
TZOFFSETFROM:+0000
TZOFFSETTO:+0100
TZNAME:BST
DTSTART:20250330T010000
END:DAYLIGHT
BEGIN:STANDARD
TZOFFSETFROM:+0100
TZOFFSETTO:+0000
TZNAME:GMT
DTSTART:20251026T010000
END:STANDARD
END:VTIMEZONE
BEGIN:VEVENT
DTSTART;TZID=Europe/London:20250202T110000
DTEND;TZID=Europe/London:20250202T130000
DTSTAMP:20260425T212356
CREATED:20250130T113634Z
LAST-MODIFIED:20250130T113634Z
UID:123332-1738494000-1738501200@www.discovernorthampton.co.uk
SUMMARY:Sunday Lunch
DESCRIPTION:Tom is also offering guests the opportunity to enjoy a delicious classic Sunday lunch on the first Sunday of every month. The next one is coming up on Sunday 2nd February and Members who book their table by Thursday 30th January can once again take advantage of the special offer of 2 courses for £17.50 or 3 courses for £22.50.
URL:https://www.discovernorthampton.co.uk/event/sunday-lunch/
LOCATION:Cheyne Walk Club\, 2 Cheyne Walk\, northampton\, Northamptonshire\, NN1 5PU\, United Kingdom
CATEGORIES:Food
ATTACH;FMTTYPE=image/jpeg:https://www.discovernorthampton.co.uk/wp-content/uploads/2025/01/Sunday-lunch.jpg
END:VEVENT
BEGIN:VEVENT
DTSTART;TZID=Europe/London:20250208T140000
DTEND;TZID=Europe/London:20250208T160000
DTSTAMP:20260425T212356
CREATED:20250130T093208Z
LAST-MODIFIED:20250130T093208Z
UID:123316-1739023200-1739030400@www.discovernorthampton.co.uk
SUMMARY:Steampunk Afternoon Tea
DESCRIPTION:We love a bit of steampunk\, and we know you do too!! A fully decorated venue with a three course themed afternoon tea is on offer. We will also be offering the Gentleman’s tea with this for all you savoury lovers out there. We also love you to dress up for this event and will be giving a few prizes to the best dressed.Prices are £30 prohibition or £40 tiddley with themed teapot cocktails. Deposit of £10pp is required at time of booking\, please pop us a message or give us a call.Deposits are non refundable
URL:https://www.discovernorthampton.co.uk/event/steampunk-afternoon-tea/
LOCATION:The Eccentric Englishman\, 21 St Giles' Street\, northampton\, Northamptonshire\, NN1 1JA\, United Kingdom
CATEGORIES:Afternoon Tea,Coffee Morning,Food
ATTACH;FMTTYPE=image/jpeg:https://www.discovernorthampton.co.uk/wp-content/uploads/2025/01/Some-old-bunch-sharing-tea.jpg
END:VEVENT
END:VCALENDAR