BEGIN:VCALENDAR
VERSION:2.0
PRODID:-//Northampton BID - ECPv6.2.4//NONSGML v1.0//EN
CALSCALE:GREGORIAN
METHOD:PUBLISH
X-WR-CALNAME:Northampton BID
X-ORIGINAL-URL:https://www.discovernorthampton.co.uk
X-WR-CALDESC:Events for Northampton BID
REFRESH-INTERVAL;VALUE=DURATION:PT1H
X-Robots-Tag:noindex
X-PUBLISHED-TTL:PT1H
BEGIN:VTIMEZONE
TZID:Europe/London
BEGIN:DAYLIGHT
TZOFFSETFROM:+0000
TZOFFSETTO:+0100
TZNAME:BST
DTSTART:20250330T010000
END:DAYLIGHT
BEGIN:STANDARD
TZOFFSETFROM:+0100
TZOFFSETTO:+0000
TZNAME:GMT
DTSTART:20251026T010000
END:STANDARD
END:VTIMEZONE
BEGIN:VEVENT
DTSTART;TZID=Europe/London:20250605T190000
DTEND;TZID=Europe/London:20250605T210000
DTSTAMP:20260419T224528
CREATED:20250508T070913Z
LAST-MODIFIED:20250508T070913Z
UID:126338-1749150000-1749157200@www.discovernorthampton.co.uk
SUMMARY:Masterclass: Pizza & Beer Tasting.
DESCRIPTION:Ages 18+\n\n\n\n\n\nFor this masterclass\, we’re teaming up with our pals at Santina’s Pizza to bring you a match made in heaven. \n\nPizza lovers unite – this one’s for you. We can’t wait to welcome back our friends Santina’s Woodfired Pizza to V and B Northampton. We have been fortunate enough to work with Santina’s for multiple events here on St Giles Square (who can remember our coronation party in 2023? AND our 3rd birthday celebrations this year!) and one thing’s for sure – their pizza is perfection. For this masterclass\, you can taste 6 different Santina’s pizzas\, paired with 6 different V and B beers – all expertly explained not only on how they taste\, but why they work together. This is definitely not one to miss!
URL:https://www.discovernorthampton.co.uk/event/masterclass-pizza-beer-tasting/
LOCATION:V and B\, 10 St Giles' Square\,\, Northampton\, NN1 1DA\, United Kingdom
CATEGORIES:Event,Food,Masterclass
ATTACH;FMTTYPE=image/png:https://www.discovernorthampton.co.uk/wp-content/uploads/2025/05/Screenshot-2025-05-08-080159.png
END:VEVENT
END:VCALENDAR