BEGIN:VCALENDAR
VERSION:2.0
PRODID:-//Northampton BID - ECPv6.2.4//NONSGML v1.0//EN
CALSCALE:GREGORIAN
METHOD:PUBLISH
X-WR-CALNAME:Northampton BID
X-ORIGINAL-URL:https://www.discovernorthampton.co.uk
X-WR-CALDESC:Events for Northampton BID
REFRESH-INTERVAL;VALUE=DURATION:PT1H
X-Robots-Tag:noindex
X-PUBLISHED-TTL:PT1H
BEGIN:VTIMEZONE
TZID:Europe/London
BEGIN:DAYLIGHT
TZOFFSETFROM:+0000
TZOFFSETTO:+0100
TZNAME:BST
DTSTART:20250330T010000
END:DAYLIGHT
BEGIN:STANDARD
TZOFFSETFROM:+0100
TZOFFSETTO:+0000
TZNAME:GMT
DTSTART:20251026T010000
END:STANDARD
END:VTIMEZONE
BEGIN:VEVENT
DTSTART;TZID=Europe/London:20250501T160000
DTEND;TZID=Europe/London:20250501T190000
DTSTAMP:20260426T002121
CREATED:20250425T113831Z
LAST-MODIFIED:20250425T113831Z
UID:126046-1746115200-1746126000@www.discovernorthampton.co.uk
SUMMARY:Flavour Forward Buffet
DESCRIPTION:Itâ€™s Caribbean comfort with serious attitude… Vegan Buffet. \nExpectâ€¦ \n??Sweet potato curry. \n?Crispy Shroom Steak Sliders. \n??? Escovitch Mushrooms. \nAnd MORE!! ?
URL:https://www.discovernorthampton.co.uk/event/flavour-forward-buffet/
LOCATION:Coconut Paradise\, 9 Gold Street Mews\, Northampton\, northamptonshire\, NN1 1RA\, United Kingdom
CATEGORIES:Event,Food
ATTACH;FMTTYPE=image/jpeg:https://www.discovernorthampton.co.uk/wp-content/uploads/2025/04/491439865_17898240780191491_3369320169236314468_n.jpg
END:VEVENT
BEGIN:VEVENT
DTSTART;TZID=Europe/London:20250503T140000
DTEND;TZID=Europe/London:20250504T190000
DTSTAMP:20260426T002121
CREATED:20250430T114711Z
LAST-MODIFIED:20250430T114711Z
UID:126119-1746280800-1746385200@www.discovernorthampton.co.uk
SUMMARY:Groove Island
DESCRIPTION:Weâ€™ve got a massive weekend of music and vibes Saturday and Sunday at @coconutparadisecafe free entry\, drink and cocktails and of course our delicious range of food! We have a line up of great local djs and a whole heap of vibes to go with it!
URL:https://www.discovernorthampton.co.uk/event/groove-island/
LOCATION:Coconut Paradise\, 9 Gold Street Mews\, Northampton\, northamptonshire\, NN1 1RA\, United Kingdom
CATEGORIES:Food,MUSIC
ATTACH;FMTTYPE=image/png:https://www.discovernorthampton.co.uk/wp-content/uploads/2025/04/Screenshot-2025-04-30-124113.png
END:VEVENT
BEGIN:VEVENT
DTSTART;TZID=Europe/London:20250504T123000
DTEND;TZID=Europe/London:20250504T150000
DTSTAMP:20260426T002121
CREATED:20250327T095153Z
LAST-MODIFIED:20250327T095153Z
UID:125087-1746361800-1746370800@www.discovernorthampton.co.uk
SUMMARY:Best of British VE Day Lunch
DESCRIPTION:We’re proud to be able to offer members and guests the opportunity to join us for a Best of British themed Sunday lunch to commemorate 80 years since Allied forces declared Victory in Europe\, signalling the end of World War II. \nJoin us to enjoy the following: \n\n\nStarters \n\n\n*Homemade Black Pudding Scotch Eggs served with a fresh side salad £6.75\n*Pea & Ham soup served with crusty bread £6.50\n*Farmhouse Pâté served with a fresh side salad\, crusty bread and red onion chutney £6.95 \n\n\nMains \n\n\n*British Topside of Roast Beef served with roast potatoes\, parsnips\, carrots\, green beans\, a Yorkshire pudding and red wine gravy £17.95\n*Butchers Pork Sausages served with creamy mashed potato\, carrots and green beans with a red wine gravy £15.50\n*Hand Battered Cod and chunky chips served with mushy peas and tartare sauce £16.50\n*Vegetarian Glamorgan sausage made from leek and cheese and served with creamy mashed potato and seasonal vegetables £14.25 \n\n\nDesserts \n\n\n*Eton Mess with fresh strawberries\, cream and meringues £7.50\n*Victoria Sponge with cream £5.75\n*British Cheeseboard and Biscuits £8.25
URL:https://www.discovernorthampton.co.uk/event/best-of-british-ve-day-lunch/
LOCATION:Cheyne Walk Club\, 2 Cheyne Walk\, northampton\, Northamptonshire\, NN1 5PU\, United Kingdom
CATEGORIES:Food
ATTACH;FMTTYPE=image/png:https://www.discovernorthampton.co.uk/wp-content/uploads/2025/03/CWC-Clip-Square-Images-6-600x600-1.png
END:VEVENT
END:VCALENDAR