BEGIN:VCALENDAR
VERSION:2.0
PRODID:-//Northampton BID - ECPv6.2.4//NONSGML v1.0//EN
CALSCALE:GREGORIAN
METHOD:PUBLISH
X-WR-CALNAME:Northampton BID
X-ORIGINAL-URL:https://www.discovernorthampton.co.uk
X-WR-CALDESC:Events for Northampton BID
REFRESH-INTERVAL;VALUE=DURATION:PT1H
X-Robots-Tag:noindex
X-PUBLISHED-TTL:PT1H
BEGIN:VTIMEZONE
TZID:Europe/London
BEGIN:DAYLIGHT
TZOFFSETFROM:+0000
TZOFFSETTO:+0100
TZNAME:BST
DTSTART:20250330T010000
END:DAYLIGHT
BEGIN:STANDARD
TZOFFSETFROM:+0100
TZOFFSETTO:+0000
TZNAME:GMT
DTSTART:20251026T010000
END:STANDARD
END:VTIMEZONE
BEGIN:VEVENT
DTSTART;TZID=Europe/London:20250527T100000
DTEND;TZID=Europe/London:20250527T120000
DTSTAMP:20260426T033433
CREATED:20250522T100207Z
LAST-MODIFIED:20250522T100207Z
UID:126882-1748340000-1748347200@www.discovernorthampton.co.uk
SUMMARY:Cookie Decorating
DESCRIPTION:Kidsâ€™ Cookie Decorating Workshop\nLooking for a simple\, fun activity to keep the little ones entertained? Join us for our Kidsâ€™ Cookie Decorating Workshop – the perfect treat for creative little bakers! \nChildren will get the chance to decorate their own cookies using icing\, sprinkles\, and other goodies\, creating sweet treats to take home (or enjoy right away!). \nWhile the kids get busy decorating\, hot drinks\, coffee\, and refreshments will be available for parents and carers to enjoy. \n? Simple\, fun cookie decorating for kids\n? Icing\, sprinkles\, and toppings provided\n? Coffee and drinks available for grown-ups\n? Perfect for all ages \nFree kids meal with every ticket. \nDrop in\, decorate\, and enjoy a sweet moment together. Book your place today!
URL:https://www.discovernorthampton.co.uk/event/cookie-decorating/
LOCATION:Grandbies\, 26 St Giles' St\, northampton\, Northamptonshire\, NN1 1JA\, United Kingdom
CATEGORIES:Event,Food
ATTACH;FMTTYPE=image/png:https://www.discovernorthampton.co.uk/wp-content/uploads/2025/05/Screenshot-2025-05-22-105656.png
END:VEVENT
BEGIN:VEVENT
DTSTART;TZID=Europe/London:20250528T190000
DTEND;TZID=Europe/London:20250528T190000
DTSTAMP:20260426T033433
CREATED:20250506T071639Z
LAST-MODIFIED:20250506T071639Z
UID:126322-1748458800-1748458800@www.discovernorthampton.co.uk
SUMMARY:MOVIE NIGHT
DESCRIPTION:Includes Sharing Board and Cocktails/Beers.
URL:https://www.discovernorthampton.co.uk/event/movie-night/
LOCATION:The Shipmans\, 12 Drapery\,\, northampton\, Northamptonshire\, NN1 2HG\, United Kingdom
CATEGORIES:Event,Food
ATTACH;FMTTYPE=image/png:https://www.discovernorthampton.co.uk/wp-content/uploads/2025/05/Screenshot-2025-05-06-080853.png
END:VEVENT
BEGIN:VEVENT
DTSTART;TZID=Europe/London:20250529T140000
DTEND;TZID=Europe/London:20250529T160000
DTSTAMP:20260426T033433
CREATED:20250522T101724Z
LAST-MODIFIED:20250522T101724Z
UID:126889-1748527200-1748534400@www.discovernorthampton.co.uk
SUMMARY:Build your own ice cream sundae
DESCRIPTION:Make your own icecream sundae! \nBuild Your Own Sundae â€“ The Ultimate Ice Cream Experience!\nGet ready for the sweetest activity in town – Build Your Own Sundae! \nGrab a fun sundae cup and let your imagination run wild as you choose 3 of your favourite ice cream flavours\, then pile on the yummiest toppings you can dream of! From sprinkles and sauces to chocolate chips and marshmallows – it’s your creation\, your way. \nPerfect for kids\, families\, and anyone with a sweet tooth\, this is the PERFECT PUDDING AFTER LUNCH or a fun treat to brighten your day. \n? Pick 3 ice cream flavours\n? Decorate with fun toppings\n? Take home in a colourful sundae cup (if you can resist eating it straight away!) \nFree kids meal with every ticket. \nBook your spot today – it’s happiness in a cup!
URL:https://www.discovernorthampton.co.uk/event/build-your-own-ice-cream-sundae/
LOCATION:Grandbies\, 26 St Giles' St\, northampton\, Northamptonshire\, NN1 1JA\, United Kingdom
CATEGORIES:Food
ATTACH;FMTTYPE=image/png:https://www.discovernorthampton.co.uk/wp-content/uploads/2025/05/Screenshot-2025-05-22-111343.png
END:VEVENT
END:VCALENDAR