BEGIN:VCALENDAR
VERSION:2.0
PRODID:-//Northampton BID - ECPv6.2.4//NONSGML v1.0//EN
CALSCALE:GREGORIAN
METHOD:PUBLISH
X-WR-CALNAME:Northampton BID
X-ORIGINAL-URL:https://www.discovernorthampton.co.uk
X-WR-CALDESC:Events for Northampton BID
REFRESH-INTERVAL;VALUE=DURATION:PT1H
X-Robots-Tag:noindex
X-PUBLISHED-TTL:PT1H
BEGIN:VTIMEZONE
TZID:Europe/London
BEGIN:DAYLIGHT
TZOFFSETFROM:+0000
TZOFFSETTO:+0100
TZNAME:BST
DTSTART:20240331T010000
END:DAYLIGHT
BEGIN:STANDARD
TZOFFSETFROM:+0100
TZOFFSETTO:+0000
TZNAME:GMT
DTSTART:20241027T010000
END:STANDARD
END:VTIMEZONE
BEGIN:VEVENT
DTSTART;TZID=Europe/London:20240808T190000
DTEND;TZID=Europe/London:20240808T210000
DTSTAMP:20260422T031148
CREATED:20240731T160936Z
LAST-MODIFIED:20240731T160936Z
UID:120886-1723143600-1723150800@www.discovernorthampton.co.uk
SUMMARY:Masterclass: Languedoc-Roussillon.
DESCRIPTION:Did you know that the Langudoc-Roussillon region has three times more vineyards than Bordeaux? Learn about this historic winemaking region\, and taste\, discover and explore a range of delicious wines. \nBook your space on Eventbrite.
URL:https://www.discovernorthampton.co.uk/event/masterclass-languedoc-roussillon/
LOCATION:V and B\, 10 St Giles' Square\,\, Northampton\, NN1 1DA\, United Kingdom
CATEGORIES:Masterclass
ATTACH;FMTTYPE=image/png:https://www.discovernorthampton.co.uk/wp-content/uploads/2024/07/images.png
END:VEVENT
END:VCALENDAR