BEGIN:VCALENDAR
VERSION:2.0
PRODID:-//Northampton BID - ECPv6.2.4//NONSGML v1.0//EN
CALSCALE:GREGORIAN
METHOD:PUBLISH
X-ORIGINAL-URL:https://www.discovernorthampton.co.uk
X-WR-CALDESC:Events for Northampton BID
REFRESH-INTERVAL;VALUE=DURATION:PT1H
X-Robots-Tag:noindex
X-PUBLISHED-TTL:PT1H
BEGIN:VTIMEZONE
TZID:Europe/London
BEGIN:DAYLIGHT
TZOFFSETFROM:+0000
TZOFFSETTO:+0100
TZNAME:BST
DTSTART:20240331T010000
END:DAYLIGHT
BEGIN:STANDARD
TZOFFSETFROM:+0100
TZOFFSETTO:+0000
TZNAME:GMT
DTSTART:20241027T010000
END:STANDARD
END:VTIMEZONE
BEGIN:VEVENT
DTSTART;TZID=Europe/London:20240822T190000
DTEND;TZID=Europe/London:20240822T210000
DTSTAMP:20260419T143351
CREATED:20240731T161554Z
LAST-MODIFIED:20240731T161554Z
UID:120891-1724353200-1724360400@www.discovernorthampton.co.uk
SUMMARY:Masterclass: Portugese Wine
DESCRIPTION:In our opinion\, Portugese wine is massively underrated â€“ so we canâ€™t wait to put it front and centre for this event. Learn about the history\, regions\, grapes and methods behind Portugalâ€™s finest vinho. Saúde! \nÂ  \nBook your place on Eventbrite.
URL:https://www.discovernorthampton.co.uk/event/masterclass-portugese-wine/
LOCATION:V and B\, 10 St Giles' Square\,\, Northampton\, NN1 1DA\, United Kingdom
CATEGORIES:Masterclass
ATTACH;FMTTYPE=image/png:https://www.discovernorthampton.co.uk/wp-content/uploads/2024/07/images.png
END:VEVENT
END:VCALENDAR