BEGIN:VCALENDAR
VERSION:2.0
PRODID:-//Northampton BID - ECPv6.2.4//NONSGML v1.0//EN
CALSCALE:GREGORIAN
METHOD:PUBLISH
X-WR-CALNAME:Northampton BID
X-ORIGINAL-URL:https://www.discovernorthampton.co.uk
X-WR-CALDESC:Events for Northampton BID
REFRESH-INTERVAL;VALUE=DURATION:PT1H
X-Robots-Tag:noindex
X-PUBLISHED-TTL:PT1H
BEGIN:VTIMEZONE
TZID:Europe/London
BEGIN:DAYLIGHT
TZOFFSETFROM:+0000
TZOFFSETTO:+0100
TZNAME:BST
DTSTART:20250330T010000
END:DAYLIGHT
BEGIN:STANDARD
TZOFFSETFROM:+0100
TZOFFSETTO:+0000
TZNAME:GMT
DTSTART:20251026T010000
END:STANDARD
END:VTIMEZONE
BEGIN:VEVENT
DTSTART;TZID=Europe/London:20250531T100000
DTEND;TZID=Europe/London:20250531T170000
DTSTAMP:20260425T233547
CREATED:20250515T150859Z
LAST-MODIFIED:20250515T150859Z
UID:126710-1748685600-1748710800@www.discovernorthampton.co.uk
SUMMARY:The Worst Record Covers in the World
DESCRIPTION:Get ready for a showcase of the most hilariously bad album art ever created! \n\n\n\n\n\nThe Worst Record Covers in the World exhibition features collector Steve Goldman’s unique selection of over 500 unintentionally awful record sleeves. \nFrom bizarre design choices to laugh-out-loud concepts gone wrong\, this exhibition celebrates creative risk and the joy of failure in art. Visitors can even listen to tracks from these records and vote for their favourite “worst” cover. \nAdmission is free — come for the cringe\, stay for the comedy!
URL:https://www.discovernorthampton.co.uk/event/the-worst-record-covers-in-the-world/2025-05-31/
LOCATION:Northampton Museum And Art Gallery\, 4-6 Guildhall Rd\,\, Northampton\, Northamptonshire\, NN1 1DP\, United Kingdom
CATEGORIES:Museum
ATTACH;FMTTYPE=image/png:https://www.discovernorthampton.co.uk/wp-content/uploads/2025/05/Worst_Record_Covers.png
END:VEVENT
BEGIN:VEVENT
DTSTART;TZID=Europe/London:20250531T100000
DTEND;TZID=Europe/London:20250531T170000
DTSTAMP:20260425T233547
CREATED:20250515T154202Z
LAST-MODIFIED:20250515T154202Z
UID:126737-1748685600-1748710800@www.discovernorthampton.co.uk
SUMMARY:Gladiators of Britain
DESCRIPTION:Explore the history of gladiatorial fights in Britain. \n\n\n\n\n\nÂ  \n\n\n\n\n\nThe events of the amphitheatre – its wild beasts and enslaved fighters – are one of the most enduring aspects of Roman culture that still capture the public imagination today. \nThis touring exhibition brings together some of the countryâ€™s most important objects to tell the story of Britainâ€™s entertainment venues and the people who died to the roar of the crowd. It will reveal the violence of the arena\, and the importance of spectacle within Roman culture. \nHighlights include the Colchester Vase loaned by Colchester Museums\, which records an actual battle between two real gladiators\, and the Hawkedon Helmet\, the only confirmed piece of gladiatorial armour from Roman Britain. These iconic loans will be supported by a selection of other items that reveal the popularity of gladiators throughout Roman society. \nThis tour is in partnership with Colchester and Ipswich Museums and is inspired by the recent exhibition at Colchester Castle\, Gladiators: A Day at the Roman Games which featured British Museum loans. It will explore Roman spectacle in the local region\, following in the footsteps of the gladiators who fought in the amphitheatres of Britain.
URL:https://www.discovernorthampton.co.uk/event/gladiators-of-britain/2025-05-31/
LOCATION:Northampton Museum And Art Gallery\, 4-6 Guildhall Rd\,\, Northampton\, Northamptonshire\, NN1 1DP\, United Kingdom
CATEGORIES:Museum
ATTACH;FMTTYPE=image/jpeg:https://www.discovernorthampton.co.uk/wp-content/uploads/2025/05/GoB_NMandAG_FB_Resized.jpg
END:VEVENT
BEGIN:VEVENT
DTSTART;TZID=Europe/London:20250531T100000
DTEND;TZID=Europe/London:20250531T170000
DTSTAMP:20260425T233547
CREATED:20250612T095128Z
LAST-MODIFIED:20250612T095128Z
UID:127648-1748685600-1748710800@www.discovernorthampton.co.uk
SUMMARY:An exhibition of work by final year students from Northampton College.
DESCRIPTION:Northampton Museum & Art Gallery \nSaturday 17 May â€“ Sunday 28 June 2025 \nThe exhibition F332 illustrates the work of 14 photographers who find themselves at a personal crossroads; as they move on to the next phase of their career they share with us an eclectic mix of photographs and projects that explore their unique experiences. \nÂ 
URL:https://www.discovernorthampton.co.uk/event/an-exhibition-of-work-by-final-year-students-from-northampton-college/2025-05-31/
LOCATION:Northampton Museum And Art Gallery\, 4-6 Guildhall Rd\,\, Northampton\, Northamptonshire\, NN1 1DP\, United Kingdom
CATEGORIES:Museum
ATTACH;FMTTYPE=image/jpeg:https://www.discovernorthampton.co.uk/wp-content/uploads/2025/06/Poster_Image_Damian_Kaszteranda_website.jpg
END:VEVENT
END:VCALENDAR