BEGIN:VCALENDAR
VERSION:2.0
PRODID:-//Northampton BID - ECPv6.2.4//NONSGML v1.0//EN
CALSCALE:GREGORIAN
METHOD:PUBLISH
X-WR-CALNAME:Northampton BID
X-ORIGINAL-URL:https://www.discovernorthampton.co.uk
X-WR-CALDESC:Events for Northampton BID
REFRESH-INTERVAL;VALUE=DURATION:PT1H
X-Robots-Tag:noindex
X-PUBLISHED-TTL:PT1H
BEGIN:VTIMEZONE
TZID:Europe/London
BEGIN:DAYLIGHT
TZOFFSETFROM:+0000
TZOFFSETTO:+0100
TZNAME:BST
DTSTART:20250330T010000
END:DAYLIGHT
BEGIN:STANDARD
TZOFFSETFROM:+0100
TZOFFSETTO:+0000
TZNAME:GMT
DTSTART:20251026T010000
END:STANDARD
END:VTIMEZONE
BEGIN:VEVENT
DTSTART;TZID=Europe/London:20250831T120000
DTEND;TZID=Europe/London:20250831T170000
DTSTAMP:20260425T201103
CREATED:20250515T154202Z
LAST-MODIFIED:20250515T154202Z
UID:126816-1756641600-1756659600@www.discovernorthampton.co.uk
SUMMARY:Gladiators of Britain
DESCRIPTION:Explore the history of gladiatorial fights in Britain. \n\n\n\n\n\nÂ  \n\n\n\n\n\nThe events of the amphitheatre – its wild beasts and enslaved fighters – are one of the most enduring aspects of Roman culture that still capture the public imagination today. \nThis touring exhibition brings together some of the countryâ€™s most important objects to tell the story of Britainâ€™s entertainment venues and the people who died to the roar of the crowd. It will reveal the violence of the arena\, and the importance of spectacle within Roman culture. \nHighlights include the Colchester Vase loaned by Colchester Museums\, which records an actual battle between two real gladiators\, and the Hawkedon Helmet\, the only confirmed piece of gladiatorial armour from Roman Britain. These iconic loans will be supported by a selection of other items that reveal the popularity of gladiators throughout Roman society. \nThis tour is in partnership with Colchester and Ipswich Museums and is inspired by the recent exhibition at Colchester Castle\, Gladiators: A Day at the Roman Games which featured British Museum loans. It will explore Roman spectacle in the local region\, following in the footsteps of the gladiators who fought in the amphitheatres of Britain.
URL:https://www.discovernorthampton.co.uk/event/gladiators-of-britain/2025-08-31/
LOCATION:Northampton Museum And Art Gallery\, 4-6 Guildhall Rd\,\, Northampton\, Northamptonshire\, NN1 1DP\, United Kingdom
CATEGORIES:Museum
ATTACH;FMTTYPE=image/jpeg:https://www.discovernorthampton.co.uk/wp-content/uploads/2025/05/GoB_NMandAG_FB_Resized.jpg
END:VEVENT
END:VCALENDAR