BEGIN:VCALENDAR
VERSION:2.0
PRODID:-//Northampton BID - ECPv6.2.4//NONSGML v1.0//EN
CALSCALE:GREGORIAN
METHOD:PUBLISH
X-WR-CALNAME:Northampton BID
X-ORIGINAL-URL:https://www.discovernorthampton.co.uk
X-WR-CALDESC:Events for Northampton BID
REFRESH-INTERVAL;VALUE=DURATION:PT1H
X-Robots-Tag:noindex
X-PUBLISHED-TTL:PT1H
BEGIN:VTIMEZONE
TZID:Europe/London
BEGIN:DAYLIGHT
TZOFFSETFROM:+0000
TZOFFSETTO:+0100
TZNAME:BST
DTSTART:20250330T010000
END:DAYLIGHT
BEGIN:STANDARD
TZOFFSETFROM:+0100
TZOFFSETTO:+0000
TZNAME:GMT
DTSTART:20251026T010000
END:STANDARD
END:VTIMEZONE
BEGIN:VEVENT
DTSTART;TZID=Europe/London:20251004T100000
DTEND;TZID=Europe/London:20251004T170000
DTSTAMP:20260422T163241
CREATED:20250612T095752Z
LAST-MODIFIED:20250612T095752Z
UID:127757-1759572000-1759597200@www.discovernorthampton.co.uk
SUMMARY:From the Collection: Landscapes
DESCRIPTION:For centuries\, landscape was considered an unworthy subject for serious artistic exploration. \nNorthampton Museum & Art Gallery \nUntil Sunday 4 October \nWhen landscape did appear in paintings\, it was often relegated to the background—merely a setting for religious or historical scenes. \nThis perception began to shift in the 17th century with the work of Nicolas Poussin and Claude Lorrain. These pioneering artists crafted idealised rural vistas to illustrate the myths of Ancient Greece and Rome\, imbuing natural elements with metaphorical meaning. Through their romantic and structured visions of the countryside\, landscape painting began to gain recognition as a meaningful art form. \nIt was not until the 19th century\, however\, that landscape truly came into its own. Artists such as J.M.W. Turner and John Constable redefined the genre\, capturing the drama\, emotion\, and grandeur of the natural world. Their work affirmed landscape as a powerful subject in its own right—one that continues to inspire artists to this day. \nDrawing from the museum collections\, this exhibition explores the evolution of landscape painting\, where nature takes centre stage. \nÂ 
URL:https://www.discovernorthampton.co.uk/event/from-the-collection-landscapes/2025-10-04/
LOCATION:Northampton Museum And Art Gallery\, 4-6 Guildhall Rd\,\, Northampton\, Northamptonshire\, NN1 1DP\, United Kingdom
CATEGORIES:Museum
ATTACH;FMTTYPE=image/jpeg:https://www.discovernorthampton.co.uk/wp-content/uploads/2025/06/dmas_fa1992_9_d01_960.jpg
END:VEVENT
BEGIN:VEVENT
DTSTART;TZID=Europe/London:20251004T100000
DTEND;TZID=Europe/London:20251004T170000
DTSTAMP:20260422T163241
CREATED:20250918T080814Z
LAST-MODIFIED:20251224T112014Z
UID:130434-1759572000-1759597200@www.discovernorthampton.co.uk
SUMMARY:A History of Northamptonshire in 100 Objects
DESCRIPTION:Journey through 150 million years of Northamptonshireâ€™s past. From prehistoric treasures to modern marvels\, 100 remarkable objects reveal the people\, events\, and industries that shaped the county\, each telling a unique story of its cultural\, social\, and economic heritage. Northampton Museum & Art Gallery Saturday 20 September â€“ Sunday 22 February 2026 This exhibition has been shaped by an extraordinary network of 51 guest curators from across the county\, each bringing their own expertise and local knowledge to the project. These dedicated individuals\, from historians and collectors to community groups\, have worked alongside the museum team to select objects and craft narratives. Their collaborative efforts ensure this exhibition truly reflects the breadth of Northamptonshireâ€™s heritage\, guided by those who know their communities best.
URL:https://www.discovernorthampton.co.uk/event/a-history-of-northamptonshire-in-100-objects/2025-10-04/
LOCATION:Northampton Museum And Art Gallery\, 4-6 Guildhall Rd\,\, Northampton\, Northamptonshire\, NN1 1DP\, United Kingdom
CATEGORIES:Museum
ATTACH;FMTTYPE=image/jpeg:https://www.discovernorthampton.co.uk/wp-content/uploads/2025/09/1_960x640.jpg
END:VEVENT
BEGIN:VEVENT
DTSTART;TZID=Europe/London:20251004T100000
DTEND;TZID=Europe/London:20251004T170000
DTSTAMP:20260422T163241
CREATED:20251002T102838Z
LAST-MODIFIED:20251002T102838Z
UID:131008-1759572000-1759597200@www.discovernorthampton.co.uk
SUMMARY:From Ashes to Restoration: The Great Fire that Reshaped Northampton
DESCRIPTION:Â  \n\n\n\n\n\nAn animated film to mark the 350th anniversary of the Great Fire of Northampton. \n\n\nNorthampton Museum & Art Gallery \nSaturday 20 September â€“ Sunday 5 October \n\n(Please note: the film will not be available on the afternoons of Friday 26 & Saturday 27 September) \nSaturday 20 September marks the 350th anniversary of the Great Fire of Northampton – a devastating event that tore through the town\, destroying 700 of 850 buildings in the centre and claiming 11 lives. \nExperience a digital 270° surround animated film that brings to life the events of that fateful day and the remarkable story of recovery that followed. \n\n\n\n\n\n\nÂ 
URL:https://www.discovernorthampton.co.uk/event/from-ashes-to-restoration-the-great-fire-that-reshaped-northampton/2025-10-04/
LOCATION:Northampton Museum And Art Gallery\, 4-6 Guildhall Rd\,\, Northampton\, Northamptonshire\, NN1 1DP\, United Kingdom
CATEGORIES:Great Fire of Northampton 350,Museum,The Great Fire of Northampton
ATTACH;FMTTYPE=image/jpeg:https://www.discovernorthampton.co.uk/wp-content/uploads/2025/10/Great_Fire_NMAG_Website_Image_960x640.jpg
END:VEVENT
BEGIN:VEVENT
DTSTART;TZID=Europe/London:20251004T100000
DTEND;TZID=Europe/London:20251004T170000
DTSTAMP:20260422T163241
CREATED:20251002T103121Z
LAST-MODIFIED:20251002T103121Z
UID:131026-1759572000-1759597200@www.discovernorthampton.co.uk
SUMMARY:12 Artists\, Two Venues\, Limitless Creativity
DESCRIPTION:12 artists coming together at both Northampton Museum and Art Gallery and Abington Park Museum \n\nNorthampton Museum & Art Gallery & Abington Park Museum \nSaturday 13 September â€“ Sunday 9 November 2025 \nA mix of mediums including ceramics\, sculpture\, paintings\, glass\, woodwork\, printing\, papercut illustrations\, drawing\, felted art and mixed media art. \nPart of Northampton and Rutland Open Studios\n\n\n\nÂ 
URL:https://www.discovernorthampton.co.uk/event/12-artists-two-venues-limitless-creativity/2025-10-04/
LOCATION:Northampton Museum And Art Gallery\, 4-6 Guildhall Rd\,\, Northampton\, Northamptonshire\, NN1 1DP\, United Kingdom
CATEGORIES:Museum
ATTACH;FMTTYPE=image/jpeg:https://www.discovernorthampton.co.uk/wp-content/uploads/2025/10/NMAG_POSTER_A4_NROS_PROOF_V4_CROP_NO_TEXT_960x640.jpg
END:VEVENT
END:VCALENDAR