BEGIN:VCALENDAR
VERSION:2.0
PRODID:-//Northampton BID - ECPv6.2.4//NONSGML v1.0//EN
CALSCALE:GREGORIAN
METHOD:PUBLISH
X-WR-CALNAME:Northampton BID
X-ORIGINAL-URL:https://www.discovernorthampton.co.uk
X-WR-CALDESC:Events for Northampton BID
REFRESH-INTERVAL;VALUE=DURATION:PT1H
X-Robots-Tag:noindex
X-PUBLISHED-TTL:PT1H
BEGIN:VTIMEZONE
TZID:Europe/London
BEGIN:DAYLIGHT
TZOFFSETFROM:+0000
TZOFFSETTO:+0100
TZNAME:BST
DTSTART:20250330T010000
END:DAYLIGHT
BEGIN:STANDARD
TZOFFSETFROM:+0100
TZOFFSETTO:+0000
TZNAME:GMT
DTSTART:20251026T010000
END:STANDARD
END:VTIMEZONE
BEGIN:VEVENT
DTSTART;TZID=Europe/London:20251104T100000
DTEND;TZID=Europe/London:20251104T170000
DTSTAMP:20260425T211824
CREATED:20250918T080814Z
LAST-MODIFIED:20251224T112019Z
UID:130465-1762250400-1762275600@www.discovernorthampton.co.uk
SUMMARY:A History of Northamptonshire in 100 Objects
DESCRIPTION:Journey through 150 million years of Northamptonshireâ€™s past. From prehistoric treasures to modern marvels\, 100 remarkable objects reveal the people\, events\, and industries that shaped the county\, each telling a unique story of its cultural\, social\, and economic heritage. Northampton Museum & Art Gallery Saturday 20 September â€“ Sunday 22 February 2026 This exhibition has been shaped by an extraordinary network of 51 guest curators from across the county\, each bringing their own expertise and local knowledge to the project. These dedicated individuals\, from historians and collectors to community groups\, have worked alongside the museum team to select objects and craft narratives. Their collaborative efforts ensure this exhibition truly reflects the breadth of Northamptonshireâ€™s heritage\, guided by those who know their communities best.
URL:https://www.discovernorthampton.co.uk/event/a-history-of-northamptonshire-in-100-objects/2025-11-04/
LOCATION:Northampton Museum And Art Gallery\, 4-6 Guildhall Rd\,\, Northampton\, Northamptonshire\, NN1 1DP\, United Kingdom
CATEGORIES:Museum
ATTACH;FMTTYPE=image/jpeg:https://www.discovernorthampton.co.uk/wp-content/uploads/2025/09/1_960x640.jpg
END:VEVENT
BEGIN:VEVENT
DTSTART;TZID=Europe/London:20251104T100000
DTEND;TZID=Europe/London:20251104T170000
DTSTAMP:20260425T211824
CREATED:20251002T103121Z
LAST-MODIFIED:20251002T103121Z
UID:131047-1762250400-1762275600@www.discovernorthampton.co.uk
SUMMARY:12 Artists\, Two Venues\, Limitless Creativity
DESCRIPTION:12 artists coming together at both Northampton Museum and Art Gallery and Abington Park Museum \n\nNorthampton Museum & Art Gallery & Abington Park Museum \nSaturday 13 September â€“ Sunday 9 November 2025 \nA mix of mediums including ceramics\, sculpture\, paintings\, glass\, woodwork\, printing\, papercut illustrations\, drawing\, felted art and mixed media art. \nPart of Northampton and Rutland Open Studios\n\n\n\nÂ 
URL:https://www.discovernorthampton.co.uk/event/12-artists-two-venues-limitless-creativity/2025-11-04/
LOCATION:Northampton Museum And Art Gallery\, 4-6 Guildhall Rd\,\, Northampton\, Northamptonshire\, NN1 1DP\, United Kingdom
CATEGORIES:Museum
ATTACH;FMTTYPE=image/jpeg:https://www.discovernorthampton.co.uk/wp-content/uploads/2025/10/NMAG_POSTER_A4_NROS_PROOF_V4_CROP_NO_TEXT_960x640.jpg
END:VEVENT
BEGIN:VEVENT
DTSTART;TZID=Europe/London:20251105T100000
DTEND;TZID=Europe/London:20251105T170000
DTSTAMP:20260425T211824
CREATED:20250918T080814Z
LAST-MODIFIED:20251224T112019Z
UID:130466-1762336800-1762362000@www.discovernorthampton.co.uk
SUMMARY:A History of Northamptonshire in 100 Objects
DESCRIPTION:Journey through 150 million years of Northamptonshireâ€™s past. From prehistoric treasures to modern marvels\, 100 remarkable objects reveal the people\, events\, and industries that shaped the county\, each telling a unique story of its cultural\, social\, and economic heritage. Northampton Museum & Art Gallery Saturday 20 September â€“ Sunday 22 February 2026 This exhibition has been shaped by an extraordinary network of 51 guest curators from across the county\, each bringing their own expertise and local knowledge to the project. These dedicated individuals\, from historians and collectors to community groups\, have worked alongside the museum team to select objects and craft narratives. Their collaborative efforts ensure this exhibition truly reflects the breadth of Northamptonshireâ€™s heritage\, guided by those who know their communities best.
URL:https://www.discovernorthampton.co.uk/event/a-history-of-northamptonshire-in-100-objects/2025-11-05/
LOCATION:Northampton Museum And Art Gallery\, 4-6 Guildhall Rd\,\, Northampton\, Northamptonshire\, NN1 1DP\, United Kingdom
CATEGORIES:Museum
ATTACH;FMTTYPE=image/jpeg:https://www.discovernorthampton.co.uk/wp-content/uploads/2025/09/1_960x640.jpg
END:VEVENT
BEGIN:VEVENT
DTSTART;TZID=Europe/London:20251105T100000
DTEND;TZID=Europe/London:20251105T170000
DTSTAMP:20260425T211824
CREATED:20251002T103121Z
LAST-MODIFIED:20251002T103121Z
UID:131048-1762336800-1762362000@www.discovernorthampton.co.uk
SUMMARY:12 Artists\, Two Venues\, Limitless Creativity
DESCRIPTION:12 artists coming together at both Northampton Museum and Art Gallery and Abington Park Museum \n\nNorthampton Museum & Art Gallery & Abington Park Museum \nSaturday 13 September â€“ Sunday 9 November 2025 \nA mix of mediums including ceramics\, sculpture\, paintings\, glass\, woodwork\, printing\, papercut illustrations\, drawing\, felted art and mixed media art. \nPart of Northampton and Rutland Open Studios\n\n\n\nÂ 
URL:https://www.discovernorthampton.co.uk/event/12-artists-two-venues-limitless-creativity/2025-11-05/
LOCATION:Northampton Museum And Art Gallery\, 4-6 Guildhall Rd\,\, Northampton\, Northamptonshire\, NN1 1DP\, United Kingdom
CATEGORIES:Museum
ATTACH;FMTTYPE=image/jpeg:https://www.discovernorthampton.co.uk/wp-content/uploads/2025/10/NMAG_POSTER_A4_NROS_PROOF_V4_CROP_NO_TEXT_960x640.jpg
END:VEVENT
BEGIN:VEVENT
DTSTART;TZID=Europe/London:20251106T100000
DTEND;TZID=Europe/London:20251106T170000
DTSTAMP:20260425T211824
CREATED:20250918T080814Z
LAST-MODIFIED:20251224T112019Z
UID:130467-1762423200-1762448400@www.discovernorthampton.co.uk
SUMMARY:A History of Northamptonshire in 100 Objects
DESCRIPTION:Journey through 150 million years of Northamptonshireâ€™s past. From prehistoric treasures to modern marvels\, 100 remarkable objects reveal the people\, events\, and industries that shaped the county\, each telling a unique story of its cultural\, social\, and economic heritage. Northampton Museum & Art Gallery Saturday 20 September â€“ Sunday 22 February 2026 This exhibition has been shaped by an extraordinary network of 51 guest curators from across the county\, each bringing their own expertise and local knowledge to the project. These dedicated individuals\, from historians and collectors to community groups\, have worked alongside the museum team to select objects and craft narratives. Their collaborative efforts ensure this exhibition truly reflects the breadth of Northamptonshireâ€™s heritage\, guided by those who know their communities best.
URL:https://www.discovernorthampton.co.uk/event/a-history-of-northamptonshire-in-100-objects/2025-11-06/
LOCATION:Northampton Museum And Art Gallery\, 4-6 Guildhall Rd\,\, Northampton\, Northamptonshire\, NN1 1DP\, United Kingdom
CATEGORIES:Museum
ATTACH;FMTTYPE=image/jpeg:https://www.discovernorthampton.co.uk/wp-content/uploads/2025/09/1_960x640.jpg
END:VEVENT
BEGIN:VEVENT
DTSTART;TZID=Europe/London:20251106T100000
DTEND;TZID=Europe/London:20251106T170000
DTSTAMP:20260425T211824
CREATED:20251002T103121Z
LAST-MODIFIED:20251002T103121Z
UID:131049-1762423200-1762448400@www.discovernorthampton.co.uk
SUMMARY:12 Artists\, Two Venues\, Limitless Creativity
DESCRIPTION:12 artists coming together at both Northampton Museum and Art Gallery and Abington Park Museum \n\nNorthampton Museum & Art Gallery & Abington Park Museum \nSaturday 13 September â€“ Sunday 9 November 2025 \nA mix of mediums including ceramics\, sculpture\, paintings\, glass\, woodwork\, printing\, papercut illustrations\, drawing\, felted art and mixed media art. \nPart of Northampton and Rutland Open Studios\n\n\n\nÂ 
URL:https://www.discovernorthampton.co.uk/event/12-artists-two-venues-limitless-creativity/2025-11-06/
LOCATION:Northampton Museum And Art Gallery\, 4-6 Guildhall Rd\,\, Northampton\, Northamptonshire\, NN1 1DP\, United Kingdom
CATEGORIES:Museum
ATTACH;FMTTYPE=image/jpeg:https://www.discovernorthampton.co.uk/wp-content/uploads/2025/10/NMAG_POSTER_A4_NROS_PROOF_V4_CROP_NO_TEXT_960x640.jpg
END:VEVENT
BEGIN:VEVENT
DTSTART;TZID=Europe/London:20251107T100000
DTEND;TZID=Europe/London:20251107T170000
DTSTAMP:20260425T211824
CREATED:20250918T080814Z
LAST-MODIFIED:20251224T112019Z
UID:130468-1762509600-1762534800@www.discovernorthampton.co.uk
SUMMARY:A History of Northamptonshire in 100 Objects
DESCRIPTION:Journey through 150 million years of Northamptonshireâ€™s past. From prehistoric treasures to modern marvels\, 100 remarkable objects reveal the people\, events\, and industries that shaped the county\, each telling a unique story of its cultural\, social\, and economic heritage. Northampton Museum & Art Gallery Saturday 20 September â€“ Sunday 22 February 2026 This exhibition has been shaped by an extraordinary network of 51 guest curators from across the county\, each bringing their own expertise and local knowledge to the project. These dedicated individuals\, from historians and collectors to community groups\, have worked alongside the museum team to select objects and craft narratives. Their collaborative efforts ensure this exhibition truly reflects the breadth of Northamptonshireâ€™s heritage\, guided by those who know their communities best.
URL:https://www.discovernorthampton.co.uk/event/a-history-of-northamptonshire-in-100-objects/2025-11-07/
LOCATION:Northampton Museum And Art Gallery\, 4-6 Guildhall Rd\,\, Northampton\, Northamptonshire\, NN1 1DP\, United Kingdom
CATEGORIES:Museum
ATTACH;FMTTYPE=image/jpeg:https://www.discovernorthampton.co.uk/wp-content/uploads/2025/09/1_960x640.jpg
END:VEVENT
BEGIN:VEVENT
DTSTART;TZID=Europe/London:20251107T100000
DTEND;TZID=Europe/London:20251107T170000
DTSTAMP:20260425T211824
CREATED:20251002T103121Z
LAST-MODIFIED:20251002T103121Z
UID:131050-1762509600-1762534800@www.discovernorthampton.co.uk
SUMMARY:12 Artists\, Two Venues\, Limitless Creativity
DESCRIPTION:12 artists coming together at both Northampton Museum and Art Gallery and Abington Park Museum \n\nNorthampton Museum & Art Gallery & Abington Park Museum \nSaturday 13 September â€“ Sunday 9 November 2025 \nA mix of mediums including ceramics\, sculpture\, paintings\, glass\, woodwork\, printing\, papercut illustrations\, drawing\, felted art and mixed media art. \nPart of Northampton and Rutland Open Studios\n\n\n\nÂ 
URL:https://www.discovernorthampton.co.uk/event/12-artists-two-venues-limitless-creativity/2025-11-07/
LOCATION:Northampton Museum And Art Gallery\, 4-6 Guildhall Rd\,\, Northampton\, Northamptonshire\, NN1 1DP\, United Kingdom
CATEGORIES:Museum
ATTACH;FMTTYPE=image/jpeg:https://www.discovernorthampton.co.uk/wp-content/uploads/2025/10/NMAG_POSTER_A4_NROS_PROOF_V4_CROP_NO_TEXT_960x640.jpg
END:VEVENT
BEGIN:VEVENT
DTSTART;TZID=Europe/London:20251108T100000
DTEND;TZID=Europe/London:20251108T170000
DTSTAMP:20260425T211824
CREATED:20250918T080814Z
LAST-MODIFIED:20251224T112019Z
UID:130469-1762596000-1762621200@www.discovernorthampton.co.uk
SUMMARY:A History of Northamptonshire in 100 Objects
DESCRIPTION:Journey through 150 million years of Northamptonshireâ€™s past. From prehistoric treasures to modern marvels\, 100 remarkable objects reveal the people\, events\, and industries that shaped the county\, each telling a unique story of its cultural\, social\, and economic heritage. Northampton Museum & Art Gallery Saturday 20 September â€“ Sunday 22 February 2026 This exhibition has been shaped by an extraordinary network of 51 guest curators from across the county\, each bringing their own expertise and local knowledge to the project. These dedicated individuals\, from historians and collectors to community groups\, have worked alongside the museum team to select objects and craft narratives. Their collaborative efforts ensure this exhibition truly reflects the breadth of Northamptonshireâ€™s heritage\, guided by those who know their communities best.
URL:https://www.discovernorthampton.co.uk/event/a-history-of-northamptonshire-in-100-objects/2025-11-08/
LOCATION:Northampton Museum And Art Gallery\, 4-6 Guildhall Rd\,\, Northampton\, Northamptonshire\, NN1 1DP\, United Kingdom
CATEGORIES:Museum
ATTACH;FMTTYPE=image/jpeg:https://www.discovernorthampton.co.uk/wp-content/uploads/2025/09/1_960x640.jpg
END:VEVENT
BEGIN:VEVENT
DTSTART;TZID=Europe/London:20251108T100000
DTEND;TZID=Europe/London:20251108T170000
DTSTAMP:20260425T211824
CREATED:20251002T103121Z
LAST-MODIFIED:20251002T103121Z
UID:131051-1762596000-1762621200@www.discovernorthampton.co.uk
SUMMARY:12 Artists\, Two Venues\, Limitless Creativity
DESCRIPTION:12 artists coming together at both Northampton Museum and Art Gallery and Abington Park Museum \n\nNorthampton Museum & Art Gallery & Abington Park Museum \nSaturday 13 September â€“ Sunday 9 November 2025 \nA mix of mediums including ceramics\, sculpture\, paintings\, glass\, woodwork\, printing\, papercut illustrations\, drawing\, felted art and mixed media art. \nPart of Northampton and Rutland Open Studios\n\n\n\nÂ 
URL:https://www.discovernorthampton.co.uk/event/12-artists-two-venues-limitless-creativity/2025-11-08/
LOCATION:Northampton Museum And Art Gallery\, 4-6 Guildhall Rd\,\, Northampton\, Northamptonshire\, NN1 1DP\, United Kingdom
CATEGORIES:Museum
ATTACH;FMTTYPE=image/jpeg:https://www.discovernorthampton.co.uk/wp-content/uploads/2025/10/NMAG_POSTER_A4_NROS_PROOF_V4_CROP_NO_TEXT_960x640.jpg
END:VEVENT
BEGIN:VEVENT
DTSTART;TZID=Europe/London:20251108T100000
DTEND;TZID=Europe/London:20251108T170000
DTSTAMP:20260425T211824
CREATED:20251120T094033Z
LAST-MODIFIED:20251224T112110Z
UID:131907-1762596000-1762621200@www.discovernorthampton.co.uk
SUMMARY:Northampton Town and County Art Society: 108th Open Annual Exhibition
DESCRIPTION:Northampton Town and County Art Society: 108th Open Annual Exhibition \nAn exhibition in Art Gallery 1 \nNorthampton Museum & Art Gallery \nSaturday 8 November â€“ Sunday 11 January 2026 \nThe Northampton Town & County Art Society presents its 108th Annual Exhibition\, showcasing paintings\, sculptures\, and original prints by leading and emerging Northamptonshire artists. \nThis long-running exhibition features works by society members and selected non-members\, offering a rich variety of styles and media. Most pieces are available for sale\, providing an ideal opportunity to purchase original art. \nFree entry
URL:https://www.discovernorthampton.co.uk/event/northampton-town-and-county-art-society-108th-open-annual-exhibition/2025-11-08/
LOCATION:Northampton Museum And Art Gallery\, 4-6 Guildhall Rd\,\, Northampton\, Northamptonshire\, NN1 1DP\, United Kingdom
CATEGORIES:Exhibition,Museum
ATTACH;FMTTYPE=image/jpeg:https://www.discovernorthampton.co.uk/wp-content/uploads/2025/11/TandC_2025_Web_Image960x640.jpg
END:VEVENT
BEGIN:VEVENT
DTSTART;TZID=Europe/London:20251109T120000
DTEND;TZID=Europe/London:20251109T170000
DTSTAMP:20260425T211824
CREATED:20250918T080814Z
LAST-MODIFIED:20251224T112019Z
UID:130471-1762689600-1762707600@www.discovernorthampton.co.uk
SUMMARY:A History of Northamptonshire in 100 Objects
DESCRIPTION:Journey through 150 million years of Northamptonshireâ€™s past. From prehistoric treasures to modern marvels\, 100 remarkable objects reveal the people\, events\, and industries that shaped the county\, each telling a unique story of its cultural\, social\, and economic heritage. Northampton Museum & Art Gallery Saturday 20 September â€“ Sunday 22 February 2026 This exhibition has been shaped by an extraordinary network of 51 guest curators from across the county\, each bringing their own expertise and local knowledge to the project. These dedicated individuals\, from historians and collectors to community groups\, have worked alongside the museum team to select objects and craft narratives. Their collaborative efforts ensure this exhibition truly reflects the breadth of Northamptonshireâ€™s heritage\, guided by those who know their communities best.
URL:https://www.discovernorthampton.co.uk/event/a-history-of-northamptonshire-in-100-objects/2025-11-09/
LOCATION:Northampton Museum And Art Gallery\, 4-6 Guildhall Rd\,\, Northampton\, Northamptonshire\, NN1 1DP\, United Kingdom
CATEGORIES:Museum
ATTACH;FMTTYPE=image/jpeg:https://www.discovernorthampton.co.uk/wp-content/uploads/2025/09/1_960x640.jpg
END:VEVENT
BEGIN:VEVENT
DTSTART;TZID=Europe/London:20251109T120000
DTEND;TZID=Europe/London:20251109T170000
DTSTAMP:20260425T211824
CREATED:20251120T094033Z
LAST-MODIFIED:20251224T112111Z
UID:131910-1762689600-1762707600@www.discovernorthampton.co.uk
SUMMARY:Northampton Town and County Art Society: 108th Open Annual Exhibition
DESCRIPTION:Northampton Town and County Art Society: 108th Open Annual Exhibition \nAn exhibition in Art Gallery 1 \nNorthampton Museum & Art Gallery \nSaturday 8 November â€“ Sunday 11 January 2026 \nThe Northampton Town & County Art Society presents its 108th Annual Exhibition\, showcasing paintings\, sculptures\, and original prints by leading and emerging Northamptonshire artists. \nThis long-running exhibition features works by society members and selected non-members\, offering a rich variety of styles and media. Most pieces are available for sale\, providing an ideal opportunity to purchase original art. \nFree entry
URL:https://www.discovernorthampton.co.uk/event/northampton-town-and-county-art-society-108th-open-annual-exhibition/2025-11-09/
LOCATION:Northampton Museum And Art Gallery\, 4-6 Guildhall Rd\,\, Northampton\, Northamptonshire\, NN1 1DP\, United Kingdom
CATEGORIES:Exhibition,Museum
ATTACH;FMTTYPE=image/jpeg:https://www.discovernorthampton.co.uk/wp-content/uploads/2025/11/TandC_2025_Web_Image960x640.jpg
END:VEVENT
END:VCALENDAR