BEGIN:VCALENDAR
VERSION:2.0
PRODID:-//Northampton BID - ECPv6.2.4//NONSGML v1.0//EN
CALSCALE:GREGORIAN
METHOD:PUBLISH
X-ORIGINAL-URL:https://www.discovernorthampton.co.uk
X-WR-CALDESC:Events for Northampton BID
REFRESH-INTERVAL;VALUE=DURATION:PT1H
X-Robots-Tag:noindex
X-PUBLISHED-TTL:PT1H
BEGIN:VTIMEZONE
TZID:Europe/London
BEGIN:DAYLIGHT
TZOFFSETFROM:+0000
TZOFFSETTO:+0100
TZNAME:BST
DTSTART:20240331T010000
END:DAYLIGHT
BEGIN:STANDARD
TZOFFSETFROM:+0100
TZOFFSETTO:+0000
TZNAME:GMT
DTSTART:20241027T010000
END:STANDARD
END:VTIMEZONE
BEGIN:VEVENT
DTSTART;TZID=Europe/London:20240202T210000
DTEND;TZID=Europe/London:20240202T210000
DTSTAMP:20260419T232739
CREATED:20240201T101708Z
LAST-MODIFIED:20240201T101708Z
UID:118041-1706907600-1706907600@www.discovernorthampton.co.uk
SUMMARY:Allergy @ The Wig & Pen
DESCRIPTION:Live Music at The Wig & Pen.
URL:https://www.discovernorthampton.co.uk/event/allergy-the-wig-pen/
LOCATION:The Wig And Pen\, 19 St Giles' St\, northampton\, Northamptonshire\, NN1 1JA\, United Kingdom
CATEGORIES:MUSIC
ATTACH;FMTTYPE=image/jpeg:https://www.discovernorthampton.co.uk/wp-content/uploads/2024/02/Allergy.jpg
END:VEVENT
BEGIN:VEVENT
DTSTART;TZID=Europe/London:20240202T213000
DTEND;TZID=Europe/London:20240202T234500
DTSTAMP:20260419T232739
CREATED:20240201T094322Z
LAST-MODIFIED:20240201T094322Z
UID:118029-1706909400-1706917500@www.discovernorthampton.co.uk
SUMMARY:Kickstart live at the King Billy Rock Bar
DESCRIPTION:KICKSTART playing classic Who\, Kinks\,Small Faces\, Jam\, Specials\, Undertones\, Buzzcocks 60s soul ska & more
URL:https://www.discovernorthampton.co.uk/event/kickstart-live-at-the-king-billy-rock-bar/
LOCATION:The King Billy Music Bar\, 2 Commercial Street\, Northampton\, NN1 1PJ\, United Kingdom
CATEGORIES:MUSIC
ATTACH;FMTTYPE=image/jpeg:https://www.discovernorthampton.co.uk/wp-content/uploads/2024/02/Kickstart.jpg
END:VEVENT
BEGIN:VEVENT
DTSTART;TZID=Europe/London:20240203T000000
DTEND;TZID=Europe/London:20240203T000000
DTSTAMP:20260419T232739
CREATED:20240201T095316Z
LAST-MODIFIED:20240201T095316Z
UID:118035-1706918400-1706918400@www.discovernorthampton.co.uk
SUMMARY:Live Music @ The King Billy
DESCRIPTION:
URL:https://www.discovernorthampton.co.uk/event/live-music-the-king-billy/
LOCATION:The King Billy Music Bar\, 2 Commercial Street\, Northampton\, NN1 1PJ\, United Kingdom
CATEGORIES:MUSIC
ATTACH;FMTTYPE=image/jpeg:https://www.discovernorthampton.co.uk/wp-content/uploads/2024/02/The-Mudsharks.jpg
END:VEVENT
BEGIN:VEVENT
DTSTART;TZID=Europe/London:20240203T210000
DTEND;TZID=Europe/London:20240203T210000
DTSTAMP:20260419T232739
CREATED:20240201T101955Z
LAST-MODIFIED:20240201T101955Z
UID:118044-1706994000-1706994000@www.discovernorthampton.co.uk
SUMMARY:Sonic Vultures @ The Wig & Pen
DESCRIPTION:Live at The Wig & Pen.
URL:https://www.discovernorthampton.co.uk/event/sonic-vultures-the-wig-pen/
LOCATION:The Wig And Pen\, 19 St Giles' St\, northampton\, Northamptonshire\, NN1 1JA\, United Kingdom
CATEGORIES:MUSIC
ATTACH;FMTTYPE=image/jpeg:https://www.discovernorthampton.co.uk/wp-content/uploads/2024/02/Sonic-Vultures.jpg
END:VEVENT
BEGIN:VEVENT
DTSTART;TZID=Europe/London:20240204T000000
DTEND;TZID=Europe/London:20240204T000000
DTSTAMP:20260419T232739
CREATED:20240201T102152Z
LAST-MODIFIED:20240201T102152Z
UID:118047-1707004800-1707004800@www.discovernorthampton.co.uk
SUMMARY:Red Thunder Rock n Roll
DESCRIPTION:Live music at The Wig & Pen.
URL:https://www.discovernorthampton.co.uk/event/red-thunder-rock-n-roll/
LOCATION:The Wig And Pen\, 19 St Giles' St\, northampton\, Northamptonshire\, NN1 1JA\, United Kingdom
CATEGORIES:MUSIC
ATTACH;FMTTYPE=image/jpeg:https://www.discovernorthampton.co.uk/wp-content/uploads/2023/11/wig-pen-2.jpg
END:VEVENT
BEGIN:VEVENT
DTSTART;TZID=Europe/London:20240209T210000
DTEND;TZID=Europe/London:20240209T210000
DTSTAMP:20260419T232739
CREATED:20240201T102359Z
LAST-MODIFIED:20240201T102359Z
UID:118049-1707512400-1707512400@www.discovernorthampton.co.uk
SUMMARY:Soul D @ The Wig & Pen
DESCRIPTION:Live music at The Wig & Pen.
URL:https://www.discovernorthampton.co.uk/event/soul-d-the-wig-pen/
LOCATION:The Wig And Pen\, 19 St Giles' St\, northampton\, Northamptonshire\, NN1 1JA\, United Kingdom
CATEGORIES:MUSIC
ATTACH;FMTTYPE=image/jpeg:https://www.discovernorthampton.co.uk/wp-content/uploads/2024/02/Soul-D.jpg
END:VEVENT
BEGIN:VEVENT
DTSTART;TZID=Europe/London:20240209T213000
DTEND;TZID=Europe/London:20240209T213000
DTSTAMP:20260419T232739
CREATED:20240201T094559Z
LAST-MODIFIED:20240201T094559Z
UID:118032-1707514200-1707514200@www.discovernorthampton.co.uk
SUMMARY:X-Rated @ The Billy
DESCRIPTION:Their first time at The Billy. Free entry.\nCome & give them a big Billy welcome.
URL:https://www.discovernorthampton.co.uk/event/x-rated-the-billy/
LOCATION:The King Billy Music Bar\, 2 Commercial Street\, Northampton\, NN1 1PJ\, United Kingdom
CATEGORIES:MUSIC
ATTACH;FMTTYPE=image/jpeg:https://www.discovernorthampton.co.uk/wp-content/uploads/2024/02/X-Rated.jpg
END:VEVENT
END:VCALENDAR