BEGIN:VCALENDAR
VERSION:2.0
PRODID:-//Northampton BID - ECPv6.2.4//NONSGML v1.0//EN
CALSCALE:GREGORIAN
METHOD:PUBLISH
X-WR-CALNAME:Northampton BID
X-ORIGINAL-URL:https://www.discovernorthampton.co.uk
X-WR-CALDESC:Events for Northampton BID
REFRESH-INTERVAL;VALUE=DURATION:PT1H
X-Robots-Tag:noindex
X-PUBLISHED-TTL:PT1H
BEGIN:VTIMEZONE
TZID:Europe/London
BEGIN:DAYLIGHT
TZOFFSETFROM:+0000
TZOFFSETTO:+0100
TZNAME:BST
DTSTART:20230326T010000
END:DAYLIGHT
BEGIN:STANDARD
TZOFFSETFROM:+0100
TZOFFSETTO:+0000
TZNAME:GMT
DTSTART:20231029T010000
END:STANDARD
END:VTIMEZONE
BEGIN:VEVENT
DTSTART;TZID=Europe/London:20230526T210000
DTEND;TZID=Europe/London:20230526T230000
DTSTAMP:20260426T012702
CREATED:20230525T091930Z
LAST-MODIFIED:20230525T091930Z
UID:114132-1685134800-1685142000@www.discovernorthampton.co.uk
SUMMARY:Rockin' Dave @ The King Billy Rock Bar
DESCRIPTION:It has been 3 years since the last Rockinâ€™ Dave show\, but now I am pleased to announce my return to the stage! \nBest known these days as the energetic lead guitarist of Let There B/DC\, it will be a treat to perform my solo works. \nBe prepared for some much loved classic rock hits and original material to boogie with all night long! \n9:00 pm start \nFree entry \nÂ  \nVisit the Facebook Event Page \nÂ  \nEvent by Rockinâ€™ Dave and The King Billy Rock bar
URL:https://www.discovernorthampton.co.uk/event/rockin-dave-the-king-billy-rock-bar/
LOCATION:The King Billy Music Bar\, 2 Commercial Street\, Northampton\, NN1 1PJ\, United Kingdom
CATEGORIES:Event,MUSIC
ATTACH;FMTTYPE=image/jpeg:https://www.discovernorthampton.co.uk/wp-content/uploads/2023/05/Rockin-Dave.jpg
END:VEVENT
BEGIN:VEVENT
DTSTART;TZID=Europe/London:20230527T200000
DTEND;TZID=Europe/London:20230528T000000
DTSTAMP:20260426T012702
CREATED:20230525T090537Z
LAST-MODIFIED:20230525T090537Z
UID:114122-1685217600-1685232000@www.discovernorthampton.co.uk
SUMMARY:Magic of Motown @ O'Neill's Northampton
DESCRIPTION:Magic of motown\, soul and moreâ€¦.. \nCome and see David Falshaw and join along with all the sing songs
URL:https://www.discovernorthampton.co.uk/event/magic-of-motown-oneills-northampton/
LOCATION:Oâ€™Neillâ€™s\, 45-47 The Drapery\, Northampton\, NN1 2EU\, United Kingdom
CATEGORIES:Event,MUSIC
ATTACH;FMTTYPE=image/png:https://www.discovernorthampton.co.uk/wp-content/uploads/2023/05/Motown.png
END:VEVENT
BEGIN:VEVENT
DTSTART;TZID=Europe/London:20230527T213000
DTEND;TZID=Europe/London:20230527T233000
DTSTAMP:20260426T012702
CREATED:20230525T091633Z
LAST-MODIFIED:20230525T091633Z
UID:114128-1685223000-1685230200@www.discovernorthampton.co.uk
SUMMARY:The Jexit Live at King Billy
DESCRIPTION:The Jexit is THE JAM tribute from Japan. \nVisit the Facebook Event Page \nHosted by The Jexit and The King Billy Rock bar
URL:https://www.discovernorthampton.co.uk/event/the-jexit-live-at-king-billy/
LOCATION:The King Billy Music Bar\, 2 Commercial Street\, Northampton\, NN1 1PJ\, United Kingdom
CATEGORIES:Event,MUSIC
ATTACH;FMTTYPE=image/jpeg:https://www.discovernorthampton.co.uk/wp-content/uploads/2023/05/The-Jexit.jpg
END:VEVENT
END:VCALENDAR