BEGIN:VCALENDAR
VERSION:2.0
PRODID:-//Northampton BID - ECPv6.2.4//NONSGML v1.0//EN
CALSCALE:GREGORIAN
METHOD:PUBLISH
X-WR-CALNAME:Northampton BID
X-ORIGINAL-URL:https://www.discovernorthampton.co.uk
X-WR-CALDESC:Events for Northampton BID
REFRESH-INTERVAL;VALUE=DURATION:PT1H
X-Robots-Tag:noindex
X-PUBLISHED-TTL:PT1H
BEGIN:VTIMEZONE
TZID:Europe/London
BEGIN:DAYLIGHT
TZOFFSETFROM:+0000
TZOFFSETTO:+0100
TZNAME:BST
DTSTART:20260329T010000
END:DAYLIGHT
BEGIN:STANDARD
TZOFFSETFROM:+0100
TZOFFSETTO:+0000
TZNAME:GMT
DTSTART:20261025T010000
END:STANDARD
END:VTIMEZONE
BEGIN:VEVENT
DTSTART;TZID=Europe/London:20260311T200000
DTEND;TZID=Europe/London:20260311T220000
DTSTAMP:20260425T194202
CREATED:20260305T130015Z
LAST-MODIFIED:20260305T130015Z
UID:134844-1773259200-1773266400@www.discovernorthampton.co.uk
SUMMARY:PHOTOGRAPHY
DESCRIPTION:INSTANT DIGITAL IMAGE BATTLE Our annual photo matching competition with Northampton Camera Club. An invited judge will join us for an entertaining evening\, and to give an informative critique of each photo. Hosted by the NNHS in the Humfrey Rooms.
URL:https://www.discovernorthampton.co.uk/event/photography-39/
LOCATION:Northamptonshire
CATEGORIES:Natural History
ATTACH;FMTTYPE=image/png:https://www.discovernorthampton.co.uk/wp-content/uploads/2024/07/Northamptonshire-Natural-History-Society.png
END:VEVENT
BEGIN:VEVENT
DTSTART;TZID=Europe/London:20260311T200000
DTEND;TZID=Europe/London:20260311T220000
DTSTAMP:20260425T194202
CREATED:20260319T091923Z
LAST-MODIFIED:20260319T091923Z
UID:134913-1773259200-1773266400@www.discovernorthampton.co.uk
SUMMARY:PHOTOGRAPHY
DESCRIPTION:INSTANT DIGITAL IMAGE BATTLE Our annual photo matching competition with Northampton Camera Club. An invited judge will join us for an entertaining evening\, and to give an informative critique of each photo. Hosted by the NNHS in the Humfrey Rooms.
URL:https://www.discovernorthampton.co.uk/event/photography-40/
LOCATION:Northamptonshire Natural History Society\, The Humfrey Rooms\, 10 Castilian Terrace\, Northampton\, Northampton\, Northamptonshire\, NN1 1LD\, United Kingdom
CATEGORIES:Natural History
ATTACH;FMTTYPE=image/png:https://www.discovernorthampton.co.uk/wp-content/uploads/2024/07/Northamptonshire-Natural-History-Society.png
END:VEVENT
BEGIN:VEVENT
DTSTART;TZID=Europe/London:20260312T143000
DTEND;TZID=Europe/London:20260319T163000
DTSTAMP:20260425T194202
CREATED:20260305T130121Z
LAST-MODIFIED:20260305T130121Z
UID:134846-1773325800-1773937800@www.discovernorthampton.co.uk
SUMMARY:GENERAL
DESCRIPTION:A QUIRKY LITTLE VILLAGE IN NORTH WALES by Mike Walsh. Was it one man’s dream or the rich people’s playground?
URL:https://www.discovernorthampton.co.uk/event/general-11/
LOCATION:Northamptonshire Natural History Society\, The Humfrey Rooms\, 10 Castilian Terrace\, Northampton\, Northampton\, Northamptonshire\, NN1 1LD\, United Kingdom
CATEGORIES:Natural History
ATTACH;FMTTYPE=image/png:https://www.discovernorthampton.co.uk/wp-content/uploads/2024/07/Northamptonshire-Natural-History-Society.png
END:VEVENT
BEGIN:VEVENT
DTSTART;TZID=Europe/London:20260319T143000
DTEND;TZID=Europe/London:20260319T163000
DTSTAMP:20260425T194202
CREATED:20260319T092053Z
LAST-MODIFIED:20260319T092053Z
UID:134915-1773930600-1773937800@www.discovernorthampton.co.uk
SUMMARY:GEOLOGY
DESCRIPTION:Change to advertised programme – THE NATURE AND ORIGIN OF GRANITE by Sue Barker From Land’s End to Peterhead\, granite is one of our most important igneous rocks. How is it formed\, how is it categorised and what is its story? Sue Barker will lead us through an historical account of our understanding of this important rock as well as some of its present day uses.
URL:https://www.discovernorthampton.co.uk/event/geology-12/
LOCATION:Northamptonshire Natural History Society\, The Humfrey Rooms\, 10 Castilian Terrace\, Northampton\, Northampton\, Northamptonshire\, NN1 1LD\, United Kingdom
CATEGORIES:Natural History
ATTACH;FMTTYPE=image/png:https://www.discovernorthampton.co.uk/wp-content/uploads/2024/07/Northamptonshire-Natural-History-Society.png
END:VEVENT
BEGIN:VEVENT
DTSTART;TZID=Europe/London:20260325T200000
DTEND;TZID=Europe/London:20260325T220000
DTSTAMP:20260425T194202
CREATED:20260319T092151Z
LAST-MODIFIED:20260319T092151Z
UID:134917-1774468800-1774476000@www.discovernorthampton.co.uk
SUMMARY:PHOTOGRAPHY
DESCRIPTION:In a change to the published program tonight’s meeting will be a talk by Stephen Dean LRPS\, APAGB.  “Themes and Journeys”\, Stephen will discuss various themes across mainly landscape and urban photography both monochrome and colour images.  The presentation will be by zoom\, but please join us in the Humfrey Rooms.
URL:https://www.discovernorthampton.co.uk/event/photography-41/
LOCATION:Northamptonshire Natural History Society\, The Humfrey Rooms\, 10 Castilian Terrace\, Northampton\, Northampton\, Northamptonshire\, NN1 1LD\, United Kingdom
CATEGORIES:Natural History
ATTACH;FMTTYPE=image/png:https://www.discovernorthampton.co.uk/wp-content/uploads/2024/07/Northamptonshire-Natural-History-Society.png
END:VEVENT
BEGIN:VEVENT
DTSTART;TZID=Europe/London:20260326T143000
DTEND;TZID=Europe/London:20260326T163000
DTSTAMP:20260425T194202
CREATED:20260319T092252Z
LAST-MODIFIED:20260319T092252Z
UID:134919-1774535400-1774542600@www.discovernorthampton.co.uk
SUMMARY:ARCHAEOLOGY/HISTORY
DESCRIPTION:A RANDOM TOUR OF EUROPE The society holds a large number of old glass slides. This is a new selection featuring many historic and interesting images of Europe taken in or around 1905.
URL:https://www.discovernorthampton.co.uk/event/archaeology-history-9/
LOCATION:Northamptonshire Natural History Society\, The Humfrey Rooms\, 10 Castilian Terrace\, Northampton\, Northampton\, Northamptonshire\, NN1 1LD\, United Kingdom
CATEGORIES:Natural History
ATTACH;FMTTYPE=image/png:https://www.discovernorthampton.co.uk/wp-content/uploads/2024/07/Northamptonshire-Natural-History-Society.png
END:VEVENT
BEGIN:VEVENT
DTSTART;TZID=Europe/London:20260330T110000
DTEND;TZID=Europe/London:20260330T130000
DTSTAMP:20260425T194202
CREATED:20260319T092349Z
LAST-MODIFIED:20260319T092349Z
UID:134921-1774868400-1774875600@www.discovernorthampton.co.uk
SUMMARY:CURATION
DESCRIPTION:EXPLORING THE SOCIETY’S COLLECTIONS. The society has important collections including butterflies\, shells\, eggs\, sands\, microscope slides\, rocks\, minerals and Northamptonshire fossils. This is a great opportunity to look at our extensive collections\, to draw\, study them or just appreciate their beauty. Also\, if you wish to assist us conserving or documenting you would be welcome.
URL:https://www.discovernorthampton.co.uk/event/curation-21/
LOCATION:Northamptonshire Natural History Society\, The Humfrey Rooms\, 10 Castilian Terrace\, Northampton\, Northampton\, Northamptonshire\, NN1 1LD\, United Kingdom
CATEGORIES:Natural History
ATTACH;FMTTYPE=image/png:https://www.discovernorthampton.co.uk/wp-content/uploads/2024/07/Northamptonshire-Natural-History-Society.png
END:VEVENT
BEGIN:VEVENT
DTSTART;TZID=Europe/London:20260330T193000
DTEND;TZID=Europe/London:20260330T213000
DTSTAMP:20260425T194202
CREATED:20260319T092502Z
LAST-MODIFIED:20260319T092502Z
UID:134923-1774899000-1774906200@www.discovernorthampton.co.uk
SUMMARY:ASTRONOMY
DESCRIPTION:RECENT COMETS by Nick James. Nick is comet section Director of the BAA. He will talk about recent comets including C/2025 A6 (Lemmon) and 3I (ATLAS). “Comets are like cats: they have tails\, and they do precisely what they want”. David H. Levy. Guests and visitors welcome.
URL:https://www.discovernorthampton.co.uk/event/astronomy-22/
LOCATION:Northamptonshire Natural History Society\, The Humfrey Rooms\, 10 Castilian Terrace\, Northampton\, Northampton\, Northamptonshire\, NN1 1LD\, United Kingdom
CATEGORIES:Natural History
ATTACH;FMTTYPE=image/png:https://www.discovernorthampton.co.uk/wp-content/uploads/2024/07/Northamptonshire-Natural-History-Society.png
END:VEVENT
END:VCALENDAR