BEGIN:VCALENDAR
VERSION:2.0
PRODID:-//Northampton BID - ECPv6.2.4//NONSGML v1.0//EN
CALSCALE:GREGORIAN
METHOD:PUBLISH
X-WR-CALNAME:Northampton BID
X-ORIGINAL-URL:https://www.discovernorthampton.co.uk
X-WR-CALDESC:Events for Northampton BID
REFRESH-INTERVAL;VALUE=DURATION:PT1H
X-Robots-Tag:noindex
X-PUBLISHED-TTL:PT1H
BEGIN:VTIMEZONE
TZID:Europe/London
BEGIN:DAYLIGHT
TZOFFSETFROM:+0000
TZOFFSETTO:+0100
TZNAME:BST
DTSTART:20260329T010000
END:DAYLIGHT
BEGIN:STANDARD
TZOFFSETFROM:+0100
TZOFFSETTO:+0000
TZNAME:GMT
DTSTART:20261025T010000
END:STANDARD
END:VTIMEZONE
BEGIN:VEVENT
DTSTART;TZID=Europe/London:20260408T200000
DTEND;TZID=Europe/London:20260408T220000
DTSTAMP:20260421T034140
CREATED:20260402T093221Z
LAST-MODIFIED:20260402T093221Z
UID:135604-1775678400-1775685600@www.discovernorthampton.co.uk
SUMMARY:PHOTOGRAPHY
DESCRIPTION:ZIMBABWE THE PATH TO THE SMOKE THAT THUNDERS by Robert Snary. Robert will show us the images he took on his 2022 trip to Zimbabwe and includes Lake Kariba\, Hwange National Park\, Victoria Falls\, people\, wildlife and culture. (Lecture in person or zoom TBC).
URL:https://www.discovernorthampton.co.uk/event/photography-42/
LOCATION:Northamptonshire Natural History Society\, The Humfrey Rooms\, 10 Castilian Terrace\, Northampton\, Northampton\, Northamptonshire\, NN1 1LD\, United Kingdom
CATEGORIES:Natural History
ATTACH;FMTTYPE=image/png:https://www.discovernorthampton.co.uk/wp-content/uploads/2024/07/Northamptonshire-Natural-History-Society.png
END:VEVENT
END:VCALENDAR