BEGIN:VCALENDAR
VERSION:2.0
PRODID:-//Northampton BID - ECPv6.2.4//NONSGML v1.0//EN
CALSCALE:GREGORIAN
METHOD:PUBLISH
X-WR-CALNAME:Northampton BID
X-ORIGINAL-URL:https://www.discovernorthampton.co.uk
X-WR-CALDESC:Events for Northampton BID
REFRESH-INTERVAL;VALUE=DURATION:PT1H
X-Robots-Tag:noindex
X-PUBLISHED-TTL:PT1H
BEGIN:VTIMEZONE
TZID:Europe/London
BEGIN:DAYLIGHT
TZOFFSETFROM:+0000
TZOFFSETTO:+0100
TZNAME:BST
DTSTART:20250330T010000
END:DAYLIGHT
BEGIN:STANDARD
TZOFFSETFROM:+0100
TZOFFSETTO:+0000
TZNAME:GMT
DTSTART:20251026T010000
END:STANDARD
BEGIN:DAYLIGHT
TZOFFSETFROM:+0000
TZOFFSETTO:+0100
TZNAME:BST
DTSTART:20260329T010000
END:DAYLIGHT
BEGIN:STANDARD
TZOFFSETFROM:+0100
TZOFFSETTO:+0000
TZNAME:GMT
DTSTART:20261025T010000
END:STANDARD
END:VTIMEZONE
BEGIN:VEVENT
DTSTART;TZID=Europe/London:20260212T143000
DTEND;TZID=Europe/London:20260212T163000
DTSTAMP:20260420T124541
CREATED:20260204T151613Z
LAST-MODIFIED:20260204T151613Z
UID:134425-1770906600-1770913800@www.discovernorthampton.co.uk
SUMMARY:GENERAL
DESCRIPTION:A TOUR OF CHURCHES IN NORTHERN NORTHAMPTONSHIRE by Paul Hayes The annual Ride and Stride day gives a great opportunity to explore many churches that are either disused or not normally open outside service times. A photographic exploration of the architectural\, interesting or historic features found at many of the churches.
URL:https://www.discovernorthampton.co.uk/event/general-10/
LOCATION:Northamptonshire Natural History Society\, The Humfrey Rooms\, 10 Castilian Terrace\, Northampton\, Northampton\, Northamptonshire\, NN1 1LD\, United Kingdom
CATEGORIES:Natural History
ATTACH;FMTTYPE=image/png:https://www.discovernorthampton.co.uk/wp-content/uploads/2024/07/Northamptonshire-Natural-History-Society.png
END:VEVENT
BEGIN:VEVENT
DTSTART;TZID=Europe/London:20260211T200000
DTEND;TZID=Europe/London:20260211T220000
DTSTAMP:20260420T124541
CREATED:20260204T151052Z
LAST-MODIFIED:20260204T151052Z
UID:134423-1770840000-1770847200@www.discovernorthampton.co.uk
SUMMARY:PHOTOGRAPHY
DESCRIPTION:CRITIQUING NIGHT Members should bring in up to 2 digital images or prints on the night. The images can be any they would like critiqued\, or maybe ones they are thinking of entering into a future competition. Each person in turn will be asked to critique an image and to discuss how it may be improved. This isnâ€™t a competition but an opportunity to practice critiquing and to learn from our own and each otherâ€™s images. 2 of 4 critique evenings.
URL:https://www.discovernorthampton.co.uk/event/photography-36/
LOCATION:Northampton Museum And Art Gallery\, 4-6 Guildhall Rd\,\, Northampton\, Northamptonshire\, NN1 1DP\, United Kingdom
CATEGORIES:Natural History
ATTACH;FMTTYPE=image/png:https://www.discovernorthampton.co.uk/wp-content/uploads/2024/07/Northamptonshire-Natural-History-Society.png
END:VEVENT
BEGIN:VEVENT
DTSTART;TZID=Europe/London:20260209T193000
DTEND;TZID=Europe/London:20260209T213000
DTSTAMP:20260420T124541
CREATED:20260203T152041Z
LAST-MODIFIED:20260203T152041Z
UID:134209-1770665400-1770672600@www.discovernorthampton.co.uk
SUMMARY:ASTRONOMY
DESCRIPTION:TELESCOPIC TOPICS A meeting comprising member contributions on various astronomy themes. Your chance to show the section observations you have made\, equipment you are using or anything else that has interested you enough to share it with the section. Guests are very welcome.
URL:https://www.discovernorthampton.co.uk/event/astronomy-19/
LOCATION:Northamptonshire Natural History Society\, The Humfrey Rooms\, 10 Castilian Terrace\, Northampton\, Northampton\, Northamptonshire\, NN1 1LD\, United Kingdom
CATEGORIES:Natural History
ATTACH;FMTTYPE=image/png:https://www.discovernorthampton.co.uk/wp-content/uploads/2024/07/Northamptonshire-Natural-History-Society.png
END:VEVENT
BEGIN:VEVENT
DTSTART;TZID=Europe/London:20260205T143000
DTEND;TZID=Europe/London:20260205T163000
DTSTAMP:20260420T124541
CREATED:20260203T151932Z
LAST-MODIFIED:20260203T151932Z
UID:134207-1770301800-1770309000@www.discovernorthampton.co.uk
SUMMARY:BOTANY
DESCRIPTION:AN ABERRANT BOTANIST IN GREECE by Sean Karley A highly illustrated tour of the flora (and some fauna) of Greece with occasional diversions to some of the landmarks the country is famous for.
URL:https://www.discovernorthampton.co.uk/event/botany-9/
LOCATION:Northamptonshire Natural History Society\, The Humfrey Rooms\, 10 Castilian Terrace\, Northampton\, Northampton\, Northamptonshire\, NN1 1LD\, United Kingdom
CATEGORIES:Natural History
ATTACH;FMTTYPE=image/png:https://www.discovernorthampton.co.uk/wp-content/uploads/2024/07/Northamptonshire-Natural-History-Society.png
END:VEVENT
BEGIN:VEVENT
DTSTART;TZID=Europe/London:20260205T143000
DTEND;TZID=Europe/London:20260205T163000
DTSTAMP:20260420T124541
CREATED:20260129T134008Z
LAST-MODIFIED:20260129T134008Z
UID:134113-1770301800-1770309000@www.discovernorthampton.co.uk
SUMMARY:BOTANY
DESCRIPTION:AN ABERRANT BOTANIST IN GREECE by Sean Karley A highly illustrated tour of the flora (and some fauna) of Greece with occasional diversions to some of the landmarks the country is famous for.
URL:https://www.discovernorthampton.co.uk/event/botany-8/
LOCATION:Northamptonshire Natural History Society\, The Humfrey Rooms\, 10 Castilian Terrace\, Northampton\, Northampton\, Northamptonshire\, NN1 1LD\, United Kingdom
CATEGORIES:Natural History
ATTACH;FMTTYPE=image/png:https://www.discovernorthampton.co.uk/wp-content/uploads/2024/07/Northamptonshire-Natural-History-Society.png
END:VEVENT
BEGIN:VEVENT
DTSTART;TZID=Europe/London:20260204T200000
DTEND;TZID=Europe/London:20260204T220000
DTSTAMP:20260420T124541
CREATED:20260203T151809Z
LAST-MODIFIED:20260203T151809Z
UID:134205-1770235200-1770242400@www.discovernorthampton.co.uk
SUMMARY:PHOTOGRAPHY
DESCRIPTION:UNDERWOOD CUP A competition for members to submit pictorial images on any subject. Up to three projected images allowed per member. Round 3 of 3.
URL:https://www.discovernorthampton.co.uk/event/photography-35/
LOCATION:Northamptonshire Natural History Society\, The Humfrey Rooms\, 10 Castilian Terrace\, Northampton\, Northampton\, Northamptonshire\, NN1 1LD\, United Kingdom
CATEGORIES:Natural History
ATTACH;FMTTYPE=image/png:https://www.discovernorthampton.co.uk/wp-content/uploads/2024/07/Northamptonshire-Natural-History-Society.png
END:VEVENT
BEGIN:VEVENT
DTSTART;TZID=Europe/London:20260203T193000
DTEND;TZID=Europe/London:20260203T213000
DTSTAMP:20260420T124541
CREATED:20260129T133702Z
LAST-MODIFIED:20260129T133702Z
UID:134111-1770147000-1770154200@www.discovernorthampton.co.uk
SUMMARY:MICROSCOPY
DESCRIPTION:HYMENOPTERA by Ian Wilson The wasps\, bees\, ants and sawflies are a huge group of fascinating insects which includes some that live in huge colonies as well as many that are solitary. We will look at their behaviour and structure before putting some under the microscope to learn more.
URL:https://www.discovernorthampton.co.uk/event/microscopy-20/
LOCATION:Northamptonshire Natural History Society\, The Humfrey Rooms\, 10 Castilian Terrace\, Northampton\, Northampton\, Northamptonshire\, NN1 1LD\, United Kingdom
CATEGORIES:Natural History
ATTACH;FMTTYPE=image/png:https://www.discovernorthampton.co.uk/wp-content/uploads/2024/07/Northamptonshire-Natural-History-Society.png
END:VEVENT
BEGIN:VEVENT
DTSTART;TZID=Europe/London:20260202T110000
DTEND;TZID=Europe/London:20260202T130000
DTSTAMP:20260420T124541
CREATED:20260129T133412Z
LAST-MODIFIED:20260129T133412Z
UID:134107-1770030000-1770037200@www.discovernorthampton.co.uk
SUMMARY:CURATION
DESCRIPTION:EXPLORING THE SOCIETYâ€™S COLLECTIONS. The society has important collections including butterflies\, shells\, eggs\, sands\, microscope slides\, rocks\, minerals and Northamptonshire fossils. This is a great opportunity to look at our extensive collections\, to draw\, study them or just appreciate their beauty. Also\, if you wish to assist us conserving or documenting you would be welcome.
URL:https://www.discovernorthampton.co.uk/event/curation-19/
LOCATION:Northamptonshire Natural History Society\, The Humfrey Rooms\, 10 Castilian Terrace\, Northampton\, Northampton\, Northamptonshire\, NN1 1LD\, United Kingdom
CATEGORIES:Natural History
ATTACH;FMTTYPE=image/png:https://www.discovernorthampton.co.uk/wp-content/uploads/2024/07/Northamptonshire-Natural-History-Society.png
END:VEVENT
BEGIN:VEVENT
DTSTART;TZID=Europe/London:20260201T143000
DTEND;TZID=Europe/London:20260201T163000
DTSTAMP:20260420T124541
CREATED:20260129T133247Z
LAST-MODIFIED:20260129T133247Z
UID:134104-1769956200-1769963400@www.discovernorthampton.co.uk
SUMMARY:METEOROLOGY
DESCRIPTION:WHATâ€™S GOING ON WITH THE WEATHER? Our monthly meeting to discuss all weather and climate issues past present and future. All are welcome.
URL:https://www.discovernorthampton.co.uk/event/meteorology-9/
LOCATION:Northamptonshire Natural History Society\, The Humfrey Rooms\, 10 Castilian Terrace\, Northampton\, Northampton\, Northamptonshire\, NN1 1LD\, United Kingdom
CATEGORIES:Natural History
ATTACH;FMTTYPE=image/png:https://www.discovernorthampton.co.uk/wp-content/uploads/2024/07/Northamptonshire-Natural-History-Society.png
END:VEVENT
BEGIN:VEVENT
DTSTART;TZID=Europe/London:20260130T190000
DTEND;TZID=Europe/London:20260130T210000
DTSTAMP:20260420T124541
CREATED:20260122T141218Z
LAST-MODIFIED:20260122T141218Z
UID:134027-1769799600-1769806800@www.discovernorthampton.co.uk
SUMMARY:ASTRONOMY
DESCRIPTION:STARGAZING EVENING at Delepre AbbeyÂ  7pm to 9pm Free entry. A chance to lookthrough a selection of our telescopes at celestial objects. Meeting isdependent on the weather.
URL:https://www.discovernorthampton.co.uk/event/astronomy-18/
LOCATION:Northamptonshire Natural History Society\, The Humfrey Rooms\, 10 Castilian Terrace\, Northampton\, Northampton\, Northamptonshire\, NN1 1LD\, United Kingdom
CATEGORIES:Natural History
ATTACH;FMTTYPE=image/png:https://www.discovernorthampton.co.uk/wp-content/uploads/2024/07/Northamptonshire-Natural-History-Society.png
END:VEVENT
BEGIN:VEVENT
DTSTART;TZID=Europe/London:20260128T200000
DTEND;TZID=Europe/London:20260128T220000
DTSTAMP:20260420T124541
CREATED:20260122T141107Z
LAST-MODIFIED:20260122T141107Z
UID:134025-1769630400-1769637600@www.discovernorthampton.co.uk
SUMMARY:PHOTOGRAPHY
DESCRIPTION:Change to the advertised meeting: My Journey Into Street PhotographyÂ This Wide Ranging Subject.Â by Mike Walsh. He will talk about how he became interested in street photography\, and his sources of inspiration. The pitfalls along the way and the myths perpetrated often by other photographers. His growth in confidence and the joy of his rekindled enthusiasm.
URL:https://www.discovernorthampton.co.uk/event/photography-34/
LOCATION:Northamptonshire Natural History Society\, The Humfrey Rooms\, 10 Castilian Terrace\, Northampton\, Northampton\, Northamptonshire\, NN1 1LD\, United Kingdom
CATEGORIES:Natural History
ATTACH;FMTTYPE=image/png:https://www.discovernorthampton.co.uk/wp-content/uploads/2024/07/Northamptonshire-Natural-History-Society.png
END:VEVENT
BEGIN:VEVENT
DTSTART;TZID=Europe/London:20260126T193000
DTEND;TZID=Europe/London:20260126T213000
DTSTAMP:20260420T124541
CREATED:20260122T141000Z
LAST-MODIFIED:20260122T141000Z
UID:134023-1769455800-1769463000@www.discovernorthampton.co.uk
SUMMARY:ASTRONOMY
DESCRIPTION:40 YEARS ON â€“ PART 2 AN OVERVIEW OF THE SECOND 20 YEARS OF MY TIME AT THE NNHS by Nick Hewitt Nick concludes his journey through his time at the NNHS with this second instalment after his fascinating first instalment. Guests and visitors welcome.
URL:https://www.discovernorthampton.co.uk/event/astronomy-17/
LOCATION:Northamptonshire Natural History Society\, The Humfrey Rooms\, 10 Castilian Terrace\, Northampton\, Northampton\, Northamptonshire\, NN1 1LD\, United Kingdom
CATEGORIES:Natural History
ATTACH;FMTTYPE=image/png:https://www.discovernorthampton.co.uk/wp-content/uploads/2024/07/Northamptonshire-Natural-History-Society.png
END:VEVENT
BEGIN:VEVENT
DTSTART;TZID=Europe/London:20260123T180000
DTEND;TZID=Europe/London:20260123T200000
DTSTAMP:20260420T124541
CREATED:20260116T130305Z
LAST-MODIFIED:20260116T130305Z
UID:133908-1769191200-1769198400@www.discovernorthampton.co.uk
SUMMARY:ASTRONOMY
DESCRIPTION:STARGAZING EVENING Please check our web site for further details and location. A chance to look through a selection of our telescopes at celestial objects. Meeting is weather dependent.
URL:https://www.discovernorthampton.co.uk/event/astronomy-16/
LOCATION:Northamptonshire Natural History Society\, The Humfrey Rooms\, 10 Castilian Terrace\, Northampton\, Northampton\, Northamptonshire\, NN1 1LD\, United Kingdom
CATEGORIES:Natural History
ATTACH;FMTTYPE=image/png:https://www.discovernorthampton.co.uk/wp-content/uploads/2024/07/Northamptonshire-Natural-History-Society.png
END:VEVENT
BEGIN:VEVENT
DTSTART;TZID=Europe/London:20260122T143000
DTEND;TZID=Europe/London:20260122T163000
DTSTAMP:20260420T124541
CREATED:20260116T121506Z
LAST-MODIFIED:20260116T121506Z
UID:133906-1769092200-1769099400@www.discovernorthampton.co.uk
SUMMARY:ARCHAEOLOGY/HISTORY
DESCRIPTION:A FAMILY THROUGH OLD GLASS SLIDES We take a first look at a set of large format monochrome glass slides of what appears to be a family and their surroundings taken possibly at the very beginning of the last century.
URL:https://www.discovernorthampton.co.uk/event/archaeology-history-7/
LOCATION:Northamptonshire Natural History Society\, The Humfrey Rooms\, 10 Castilian Terrace\, Northampton\, Northampton\, Northamptonshire\, NN1 1LD\, United Kingdom
CATEGORIES:Natural History
ATTACH;FMTTYPE=image/png:https://www.discovernorthampton.co.uk/wp-content/uploads/2024/07/Northamptonshire-Natural-History-Society.png
END:VEVENT
BEGIN:VEVENT
DTSTART;TZID=Europe/London:20260121T200000
DTEND;TZID=Europe/London:20260121T220000
DTSTAMP:20260420T124541
CREATED:20260116T121359Z
LAST-MODIFIED:20260116T121359Z
UID:133904-1769025600-1769032800@www.discovernorthampton.co.uk
SUMMARY:PHOTOGRAPHY
DESCRIPTION:PRINT COMPETITION â€“ COLOUR AND MONO This year\, as agreed at the AGM\, the competition will consist of a colour and a mono competition. Up to 4 entries per member per round for each of the competitions. Round 2 of 3.
URL:https://www.discovernorthampton.co.uk/event/photography-33/
LOCATION:Northamptonshire Natural History Society\, The Humfrey Rooms\, 10 Castilian Terrace\, Northampton\, Northampton\, Northamptonshire\, NN1 1LD\, United Kingdom
CATEGORIES:Natural History
ATTACH;FMTTYPE=image/png:https://www.discovernorthampton.co.uk/wp-content/uploads/2024/07/Northamptonshire-Natural-History-Society.png
END:VEVENT
BEGIN:VEVENT
DTSTART;TZID=Europe/London:20260120T193000
DTEND;TZID=Europe/London:20260120T213000
DTSTAMP:20260420T124541
CREATED:20260116T121230Z
LAST-MODIFIED:20260116T121230Z
UID:133902-1768937400-1768944600@www.discovernorthampton.co.uk
SUMMARY:MICROSCOPY
DESCRIPTION:MAKING SLIDES OF EVERYDAY MATERIALS Different materials often need slightly different treatment. We shall look at various everyday items and decide how best to make a preparation of the item or substance for studying under the microscope.
URL:https://www.discovernorthampton.co.uk/event/microscopy-17/
LOCATION:Northamptonshire Natural History Society\, The Humfrey Rooms\, 10 Castilian Terrace\, Northampton\, Northampton\, Northamptonshire\, NN1 1LD\, United Kingdom
CATEGORIES:Natural History
ATTACH;FMTTYPE=image/png:https://www.discovernorthampton.co.uk/wp-content/uploads/2024/07/Northamptonshire-Natural-History-Society.png
END:VEVENT
BEGIN:VEVENT
DTSTART;TZID=Europe/London:20260119T110000
DTEND;TZID=Europe/London:20260119T130000
DTSTAMP:20260420T124541
CREATED:20260116T121034Z
LAST-MODIFIED:20260116T121034Z
UID:133900-1768820400-1768827600@www.discovernorthampton.co.uk
SUMMARY:CURATION
DESCRIPTION:EXPLORING THE SOCIETYâ€™S COLLECTIONS. The society has important collections including butterflies\, shells\, eggs\, sands\, microscope slides\, rocks\, minerals and Northamptonshire fossils. This is a great opportunity to look at our extensive collections\, to draw\, study them or just appreciate their beauty. Also\, if you wish to assist us conserving or documenting you would be welcome.
URL:https://www.discovernorthampton.co.uk/event/curation-18/
LOCATION:Northamptonshire Natural History Society\, The Humfrey Rooms\, 10 Castilian Terrace\, Northampton\, Northampton\, Northamptonshire\, NN1 1LD\, United Kingdom
CATEGORIES:Natural History
ATTACH;FMTTYPE=image/png:https://www.discovernorthampton.co.uk/wp-content/uploads/2024/07/Northamptonshire-Natural-History-Society.png
END:VEVENT
BEGIN:VEVENT
DTSTART;TZID=Europe/London:20260115T143000
DTEND;TZID=Europe/London:20260115T163000
DTSTAMP:20260420T124541
CREATED:20260108T155234Z
LAST-MODIFIED:20260108T155234Z
UID:133690-1768487400-1768494600@www.discovernorthampton.co.uk
SUMMARY:GEOLOGY
DESCRIPTION:THE BURGESS SHALES THEIR FOSSILS AND THE CAMBRIAN EXPLOSION by Ian Clarke High in the Rocky Mountains of Canada are found the Burgess Shales one of the worldâ€™s most important and enigmatic fossil deposits. Ian will tell us about his exciting journey to the Rocky Mountains in search of the Burgess Shales and then will explain their significance in our developing understanding of the Cambrian explosion.
URL:https://www.discovernorthampton.co.uk/event/geology-10/
LOCATION:Northamptonshire Natural History Society\, The Humfrey Rooms\, 10 Castilian Terrace\, Northampton\, Northampton\, Northamptonshire\, NN1 1LD\, United Kingdom
CATEGORIES:Natural History
ATTACH;FMTTYPE=image/png:https://www.discovernorthampton.co.uk/wp-content/uploads/2024/07/Northamptonshire-Natural-History-Society.png
END:VEVENT
BEGIN:VEVENT
DTSTART;TZID=Europe/London:20260114T200000
DTEND;TZID=Europe/London:20260114T220000
DTSTAMP:20260420T124541
CREATED:20260108T155115Z
LAST-MODIFIED:20260108T155115Z
UID:133688-1768420800-1768428000@www.discovernorthampton.co.uk
SUMMARY:PHOTOGRAPHY
DESCRIPTION:180 YEARS OF PHOTOSHOPPING by Sue Clark The camera never lies but the photograph can! This lavishly illustrated talk looks at how and why photographs have been edited for at least 180 years. This lecture is presented by Sue Clark via Zoom. Join us in the Humfrey Rooms in the company of other members or check our web site for the Zoom link.
URL:https://www.discovernorthampton.co.uk/event/photography-31/
LOCATION:Northamptonshire Natural History Society\, The Humfrey Rooms\, 10 Castilian Terrace\, Northampton\, Northampton\, Northamptonshire\, NN1 1LD\, United Kingdom
CATEGORIES:Natural History
ATTACH;FMTTYPE=image/png:https://www.discovernorthampton.co.uk/wp-content/uploads/2024/07/Northamptonshire-Natural-History-Society.png
END:VEVENT
BEGIN:VEVENT
DTSTART;TZID=Europe/London:20260112T193000
DTEND;TZID=Europe/London:20260112T213000
DTSTAMP:20260420T124541
CREATED:20260108T154954Z
LAST-MODIFIED:20260108T154954Z
UID:133686-1768246200-1768253400@www.discovernorthampton.co.uk
SUMMARY:ASTRONOMY
DESCRIPTION:TELESCOPIC TOPICS A meeting comprising member contributions on various astronomy themes. Your chance to show the section observations you have made\, equipment you are using or anything else that has interested you enough to share it with the section. Guests are very welcome.
URL:https://www.discovernorthampton.co.uk/event/astronomy-15/
LOCATION:Northamptonshire Natural History Society\, The Humfrey Rooms\, 10 Castilian Terrace\, Northampton\, Northampton\, Northamptonshire\, NN1 1LD\, United Kingdom
CATEGORIES:Natural History
ATTACH;FMTTYPE=image/png:https://www.discovernorthampton.co.uk/wp-content/uploads/2024/07/Northamptonshire-Natural-History-Society.png
END:VEVENT
BEGIN:VEVENT
DTSTART;TZID=Europe/London:20251218T143000
DTEND;TZID=Europe/London:20251218T163000
DTSTAMP:20260420T124541
CREATED:20251127T151204Z
LAST-MODIFIED:20251204T143701Z
UID:132271-1766068200-1766075400@www.discovernorthampton.co.uk
SUMMARY:GEOLOGY
DESCRIPTION:The Geology of South Devon. Devon marble features in Northamptonâ€™s splendid Victorian Guildhall and Bob Purser will describe the conditions underwhich this limestone was laid down during the Devonian period\, the geology between Torquay in the south and emplaced Dartmoor granite in the north and the covering Triassic red sandstones seen in the railway cuttings at Dawlish and Teignmouth.
URL:https://www.discovernorthampton.co.uk/event/geology-9/
LOCATION:Northamptonshire Natural History Society\, The Humfrey Rooms\, 10 Castilian Terrace\, Northampton\, Northampton\, Northamptonshire\, NN1 1LD\, United Kingdom
CATEGORIES:Natural History
ATTACH;FMTTYPE=image/png:https://www.discovernorthampton.co.uk/wp-content/uploads/2024/07/Northamptonshire-Natural-History-Society.png
END:VEVENT
BEGIN:VEVENT
DTSTART;TZID=Europe/London:20251216T193000
DTEND;TZID=Europe/London:20251216T213000
DTSTAMP:20260420T124541
CREATED:20251127T151025Z
LAST-MODIFIED:20251204T143602Z
UID:132269-1765913400-1765920600@www.discovernorthampton.co.uk
SUMMARY:MICROSCOPY
DESCRIPTION:Starchin Foods by Mike Asquith. Mike continues his annual exploration of the seasonâ€™s foods. Starch is the material whereby plants store energy. That energy store can be plundered by animals (especially man) as a food source. Starch also makes an interesting subject for microscopy. You may bring seasonal nibbles to share or study under the microscope.
URL:https://www.discovernorthampton.co.uk/event/microscopy-19/
LOCATION:Northamptonshire Natural History Society\, The Humfrey Rooms\, 10 Castilian Terrace\, Northampton\, Northampton\, Northamptonshire\, NN1 1LD\, United Kingdom
CATEGORIES:Natural History
ATTACH;FMTTYPE=image/png:https://www.discovernorthampton.co.uk/wp-content/uploads/2024/07/Northamptonshire-Natural-History-Society.png
END:VEVENT
BEGIN:VEVENT
DTSTART;TZID=Europe/London:20251211T143000
DTEND;TZID=Europe/London:20251211T163000
DTSTAMP:20260420T124541
CREATED:20251127T150933Z
LAST-MODIFIED:20251127T150933Z
UID:132267-1765463400-1765470600@www.discovernorthampton.co.uk
SUMMARY:GENERAL
DESCRIPTION:My Journey Into Street Photography This Wide Ranging Subject. by Mike Walsh. He will talk about: how he became interested in street photography\, and his sources of inspiration. The pitfalls along the way and the myths perpetrated often by other photographers. His growth in confidence and the joy of his rekindled enthusiasm.
URL:https://www.discovernorthampton.co.uk/event/general-9/
LOCATION:Northamptonshire Natural History Society\, The Humfrey Rooms\, 10 Castilian Terrace\, Northampton\, Northampton\, Northamptonshire\, NN1 1LD\, United Kingdom
CATEGORIES:Natural History
ATTACH;FMTTYPE=image/png:https://www.discovernorthampton.co.uk/wp-content/uploads/2024/07/Northamptonshire-Natural-History-Society.png
END:VEVENT
BEGIN:VEVENT
DTSTART;TZID=Europe/London:20251210T200000
DTEND;TZID=Europe/London:20251210T220000
DTSTAMP:20260420T124541
CREATED:20251127T150835Z
LAST-MODIFIED:20251127T150835Z
UID:132265-1765396800-1765404000@www.discovernorthampton.co.uk
SUMMARY:PHOTOGRAPHY
DESCRIPTION:Christmas Workshop An In-House Practical Evening. Depending on the weather and what the members want on the night\, we will either take images in the Humfrey Rooms or out around the town centre. Bring your camera etc. Please check our web site www.nnhs.info/Whats-On/ nearer the date for meeting details
URL:https://www.discovernorthampton.co.uk/event/photography-32/
LOCATION:Northamptonshire Natural History Society\, The Humfrey Rooms\, 10 Castilian Terrace\, Northampton\, Northampton\, Northamptonshire\, NN1 1LD\, United Kingdom
CATEGORIES:Natural History
ATTACH;FMTTYPE=image/png:https://www.discovernorthampton.co.uk/wp-content/uploads/2024/07/Northamptonshire-Natural-History-Society.png
END:VEVENT
BEGIN:VEVENT
DTSTART;TZID=Europe/London:20251208T193000
DTEND;TZID=Europe/London:20251208T213000
DTSTAMP:20260420T124541
CREATED:20251127T150736Z
LAST-MODIFIED:20251204T143001Z
UID:132263-1765222200-1765229400@www.discovernorthampton.co.uk
SUMMARY:ASTRONOMY
DESCRIPTION:Christmas Activities\, Time For a Bit of Astronomical Fun. The season of goodwill. the skies are dark\, more opportunity for observing\, weather permitting. But tonight\, we celebrate with festive cheer! Feel free to bring seasonal nibbles. Guests are very welcome
URL:https://www.discovernorthampton.co.uk/event/astronomy-14/
LOCATION:Northamptonshire Natural History Society\, The Humfrey Rooms\, 10 Castilian Terrace\, Northampton\, Northampton\, Northamptonshire\, NN1 1LD\, United Kingdom
CATEGORIES:Natural History
ATTACH;FMTTYPE=image/png:https://www.discovernorthampton.co.uk/wp-content/uploads/2024/07/Northamptonshire-Natural-History-Society.png
END:VEVENT
BEGIN:VEVENT
DTSTART;TZID=Europe/London:20251208T110000
DTEND;TZID=Europe/London:20251208T130000
DTSTAMP:20260420T124541
CREATED:20251127T150630Z
LAST-MODIFIED:20251127T150630Z
UID:132261-1765191600-1765198800@www.discovernorthampton.co.uk
SUMMARY:CURATION
DESCRIPTION:EXPLORING THE SOCIETYâ€™S COLLECTIONS. The society has important collections including butterflies\, shells\, eggs\, sands\, microscope slides\, rocks\, minerals and Northamptonshire fossils. This is a great opportunity to look at our extensive collections\, to draw\, study them or just appreciate their beauty. Also\, if you wish to assist us conserving or documenting you would be welcome.
URL:https://www.discovernorthampton.co.uk/event/curation-17/
LOCATION:Northamptonshire Natural History Society\, The Humfrey Rooms\, 10 Castilian Terrace\, Northampton\, Northampton\, Northamptonshire\, NN1 1LD\, United Kingdom
CATEGORIES:Natural History
ATTACH;FMTTYPE=image/png:https://www.discovernorthampton.co.uk/wp-content/uploads/2024/07/Northamptonshire-Natural-History-Society.png
END:VEVENT
BEGIN:VEVENT
DTSTART;TZID=Europe/London:20251207T143000
DTEND;TZID=Europe/London:20251207T163000
DTSTAMP:20260420T124541
CREATED:20251127T150043Z
LAST-MODIFIED:20251204T142854Z
UID:132259-1765117800-1765125000@www.discovernorthampton.co.uk
SUMMARY:METEOROLOGY
DESCRIPTION:Whatâ€™s Going on with The Weather? Has Global Warming Come toan End. President Trump has ordered the National Atmospheric and Space Administration (NASA) to stop monitoring the atmosphere and to destroy its climate monitoring satellites. At the same time the National Oceanographic and Atmospheric Administration (NOAA) have had their funding dramatically reduced. What does this mean for ClimateChange?
URL:https://www.discovernorthampton.co.uk/event/meteorology-8/
LOCATION:Northamptonshire Natural History Society\, The Humfrey Rooms\, 10 Castilian Terrace\, Northampton\, Northampton\, Northamptonshire\, NN1 1LD\, United Kingdom
CATEGORIES:Natural History
ATTACH;FMTTYPE=image/png:https://www.discovernorthampton.co.uk/wp-content/uploads/2024/07/Northamptonshire-Natural-History-Society.png
END:VEVENT
BEGIN:VEVENT
DTSTART;TZID=Europe/London:20251204T143000
DTEND;TZID=Europe/London:20251204T163000
DTSTAMP:20260420T124541
CREATED:20251127T144717Z
LAST-MODIFIED:20251204T135806Z
UID:132251-1764858600-1764865800@www.discovernorthampton.co.uk
SUMMARY:BOTANY
DESCRIPTION:Selenitein the Land of the Spaghetti Western by Sean Karley. The area of Spaina round Almeria is used for extraction of Selenite and Gypsum. It also produces some very interesting plant species\, and some of them do not occur anywhere else in the World. A photographic tour of the region featuring its flora and geology.
URL:https://www.discovernorthampton.co.uk/event/botany-7/
LOCATION:Northamptonshire Natural History Society\, The Humfrey Rooms\, 10 Castilian Terrace\, Northampton\, Northampton\, Northamptonshire\, NN1 1LD\, United Kingdom
CATEGORIES:Natural History
ATTACH;FMTTYPE=image/png:https://www.discovernorthampton.co.uk/wp-content/uploads/2024/07/Northamptonshire-Natural-History-Society.png
END:VEVENT
BEGIN:VEVENT
DTSTART;TZID=Europe/London:20251203T200000
DTEND;TZID=Europe/London:20251203T220000
DTSTAMP:20260420T124541
CREATED:20251127T144511Z
LAST-MODIFIED:20251127T144511Z
UID:132249-1764792000-1764799200@www.discovernorthampton.co.uk
SUMMARY:PHOTOGRAPHY
DESCRIPTION:Underwood Cup A competition for members to submit pictorial images on any subject. Up to three projected images allowed per member.   Round 2 of 3.
URL:https://www.discovernorthampton.co.uk/event/photography-30/
LOCATION:Northamptonshire Natural History Society\, The Humfrey Rooms\, 10 Castilian Terrace\, Northampton\, Northampton\, Northamptonshire\, NN1 1LD\, United Kingdom
CATEGORIES:Natural History
ATTACH;FMTTYPE=image/png:https://www.discovernorthampton.co.uk/wp-content/uploads/2024/07/Northamptonshire-Natural-History-Society.png
END:VEVENT
BEGIN:VEVENT
DTSTART;TZID=Europe/London:20251202T193000
DTEND;TZID=Europe/London:20251202T213000
DTSTAMP:20260420T124541
CREATED:20251127T145624Z
LAST-MODIFIED:20251127T145624Z
UID:132253-1764703800-1764711000@www.discovernorthampton.co.uk
SUMMARY:MICROSCOPY
DESCRIPTION:Some Aspects of the NNHS Historic Microscope Slide Collections by Mike Gibson. Mike will introduce us to some of the wonders of the Societyâ€™s microscope slide collections. Ranging from slides made in Victorian times to modern examples
URL:https://www.discovernorthampton.co.uk/event/microscopy-18/
LOCATION:Northamptonshire Natural History Society\, The Humfrey Rooms\, 10 Castilian Terrace\, Northampton\, Northampton\, Northamptonshire\, NN1 1LD\, United Kingdom
CATEGORIES:Natural History
ATTACH;FMTTYPE=image/png:https://www.discovernorthampton.co.uk/wp-content/uploads/2024/07/Northamptonshire-Natural-History-Society.png
END:VEVENT
END:VCALENDAR