BEGIN:VCALENDAR
VERSION:2.0
PRODID:-//Northampton BID - ECPv6.2.4//NONSGML v1.0//EN
CALSCALE:GREGORIAN
METHOD:PUBLISH
X-WR-CALNAME:Northampton BID
X-ORIGINAL-URL:https://www.discovernorthampton.co.uk
X-WR-CALDESC:Events for Northampton BID
REFRESH-INTERVAL;VALUE=DURATION:PT1H
X-Robots-Tag:noindex
X-PUBLISHED-TTL:PT1H
BEGIN:VTIMEZONE
TZID:Europe/London
BEGIN:DAYLIGHT
TZOFFSETFROM:+0000
TZOFFSETTO:+0100
TZNAME:BST
DTSTART:20260329T010000
END:DAYLIGHT
BEGIN:STANDARD
TZOFFSETFROM:+0100
TZOFFSETTO:+0000
TZNAME:GMT
DTSTART:20261025T010000
END:STANDARD
END:VTIMEZONE
BEGIN:VEVENT
DTSTART;TZID=Europe/London:20260413T193000
DTEND;TZID=Europe/London:20260413T213000
DTSTAMP:20260420T045758
CREATED:20260409T130650Z
LAST-MODIFIED:20260409T130650Z
UID:136027-1776108600-1776115800@www.discovernorthampton.co.uk
SUMMARY:ASTRONOMY
DESCRIPTION:TELESCOPIC TOPICS A meeting comprising member contributions on various astronomy themes. Your chance to show the section observations you have made\, equipment you are using or anything else that has interested you enough to share it with the section. Guests are very welcome.
URL:https://www.discovernorthampton.co.uk/event/astronomy-23/
LOCATION:Northamptonshire Natural History Society\, The Humfrey Rooms\, 10 Castilian Terrace\, Northampton\, Northampton\, Northamptonshire\, NN1 1LD\, United Kingdom
CATEGORIES:Natural History
ATTACH;FMTTYPE=image/png:https://www.discovernorthampton.co.uk/wp-content/uploads/2024/07/Northamptonshire-Natural-History-Society.png
END:VEVENT
BEGIN:VEVENT
DTSTART;TZID=Europe/London:20260416T143000
DTEND;TZID=Europe/London:20260416T163000
DTSTAMP:20260420T045758
CREATED:20260409T130956Z
LAST-MODIFIED:20260409T130956Z
UID:136033-1776349800-1776357000@www.discovernorthampton.co.uk
SUMMARY:GEOLOGY
DESCRIPTION:NORTHAMPTONSHIRE’S IRONSTONE INDUSTRY Whilst ironstone has been quarried in Northamptonshire’s since Roman times\, it was following the Great Exhibition of 1851 that iron and steel became significant in Northamptonshire’ industrial history. In this joint meeting with the Northamptonshire Industrial Archaeology Group\, Ian Clarke and Mike Ringwood will tell the story of the iron and steel industry\, relating it to the Jurassic geology of Northamptonshire.
URL:https://www.discovernorthampton.co.uk/event/geology-13/
LOCATION:Northamptonshire Natural History Society\, The Humfrey Rooms\, 10 Castilian Terrace\, Northampton\, Northampton\, Northamptonshire\, NN1 1LD\, United Kingdom
CATEGORIES:Natural History
ATTACH;FMTTYPE=image/png:https://www.discovernorthampton.co.uk/wp-content/uploads/2024/07/Northamptonshire-Natural-History-Society.png
END:VEVENT
END:VCALENDAR