BEGIN:VCALENDAR
VERSION:2.0
PRODID:-//Northampton BID - ECPv6.2.4//NONSGML v1.0//EN
CALSCALE:GREGORIAN
METHOD:PUBLISH
X-WR-CALNAME:Northampton BID
X-ORIGINAL-URL:https://www.discovernorthampton.co.uk
X-WR-CALDESC:Events for Northampton BID
REFRESH-INTERVAL;VALUE=DURATION:PT1H
X-Robots-Tag:noindex
X-PUBLISHED-TTL:PT1H
BEGIN:VTIMEZONE
TZID:Europe/London
BEGIN:DAYLIGHT
TZOFFSETFROM:+0000
TZOFFSETTO:+0100
TZNAME:BST
DTSTART:20220327T010000
END:DAYLIGHT
BEGIN:STANDARD
TZOFFSETFROM:+0100
TZOFFSETTO:+0000
TZNAME:GMT
DTSTART:20221030T010000
END:STANDARD
BEGIN:DAYLIGHT
TZOFFSETFROM:+0000
TZOFFSETTO:+0100
TZNAME:BST
DTSTART:20230326T010000
END:DAYLIGHT
BEGIN:STANDARD
TZOFFSETFROM:+0100
TZOFFSETTO:+0000
TZNAME:GMT
DTSTART:20231029T010000
END:STANDARD
BEGIN:DAYLIGHT
TZOFFSETFROM:+0000
TZOFFSETTO:+0100
TZNAME:BST
DTSTART:20240331T010000
END:DAYLIGHT
BEGIN:STANDARD
TZOFFSETFROM:+0100
TZOFFSETTO:+0000
TZNAME:GMT
DTSTART:20241027T010000
END:STANDARD
BEGIN:DAYLIGHT
TZOFFSETFROM:+0000
TZOFFSETTO:+0100
TZNAME:BST
DTSTART:20250330T010000
END:DAYLIGHT
BEGIN:STANDARD
TZOFFSETFROM:+0100
TZOFFSETTO:+0000
TZNAME:GMT
DTSTART:20251026T010000
END:STANDARD
END:VTIMEZONE
BEGIN:VEVENT
DTSTART;TZID=Europe/London:20250504T120000
DTEND;TZID=Europe/London:20250504T220000
DTSTAMP:20260420T082540
CREATED:20250211T081535Z
LAST-MODIFIED:20250211T081535Z
UID:123443-1746360000-1746396000@www.discovernorthampton.co.uk
SUMMARY:Delasole Festival
DESCRIPTION:Delasole Festival 2025 \nAn exciting and extravagant music festival this May Bank Holiday weekend\, set in the beautiful historic grounds and woodlands of Delapré Abbey. Expect over 40 incredible artists\, breathtaking performances\, fire breathers\, stilt walkers\, giant robots\, rides\, inflatables\, and an array of delicious street food to keep the party going all weekend long! \nSaturday 3rd May\nA vibrant Family Music Festival\, perfect for all ages\, packed with family-friendly activities\, live music\, and entertainment for everyone to enjoy. \nSunday 4th May\nAn unforgettable Over 18’s Music Festival\, featuring a diverse line-up of incredible music\, performances\, and immersive experiences for adults ready to celebrate in style. \nMay the 3rd and 4th be with you\, don’t miss out!
URL:https://www.discovernorthampton.co.uk/event/delasole-festival/2025-05-04/
LOCATION:Delepre Abbey\, London Rd\, Northampton\, Northants\, NN4 8AW\, United Kingdom
CATEGORIES:Club,Concert,dance,DJ,Festival,MUSIC,Night Out
ATTACH;FMTTYPE=image/jpeg:https://www.discovernorthampton.co.uk/wp-content/uploads/2025/02/image-1.jpeg
END:VEVENT
BEGIN:VEVENT
DTSTART;TZID=Europe/London:20250503T120000
DTEND;TZID=Europe/London:20250503T220000
DTSTAMP:20260420T082540
CREATED:20250211T081535Z
LAST-MODIFIED:20250211T081535Z
UID:123440-1746273600-1746309600@www.discovernorthampton.co.uk
SUMMARY:Delasole Festival
DESCRIPTION:Delasole Festival 2025 \nAn exciting and extravagant music festival this May Bank Holiday weekend\, set in the beautiful historic grounds and woodlands of Delapré Abbey. Expect over 40 incredible artists\, breathtaking performances\, fire breathers\, stilt walkers\, giant robots\, rides\, inflatables\, and an array of delicious street food to keep the party going all weekend long! \nSaturday 3rd May\nA vibrant Family Music Festival\, perfect for all ages\, packed with family-friendly activities\, live music\, and entertainment for everyone to enjoy. \nSunday 4th May\nAn unforgettable Over 18’s Music Festival\, featuring a diverse line-up of incredible music\, performances\, and immersive experiences for adults ready to celebrate in style. \nMay the 3rd and 4th be with you\, don’t miss out!
URL:https://www.discovernorthampton.co.uk/event/delasole-festival/2025-05-03/
LOCATION:Delepre Abbey\, London Rd\, Northampton\, Northants\, NN4 8AW\, United Kingdom
CATEGORIES:Club,Concert,dance,DJ,Festival,MUSIC,Night Out
ATTACH;FMTTYPE=image/jpeg:https://www.discovernorthampton.co.uk/wp-content/uploads/2025/02/image-1.jpeg
END:VEVENT
BEGIN:VEVENT
DTSTART;TZID=Europe/London:20250201T180000
DTEND;TZID=Europe/London:20250201T220000
DTSTAMP:20260420T082540
CREATED:20250130T110827Z
LAST-MODIFIED:20250130T110827Z
UID:123326-1738432800-1738447200@www.discovernorthampton.co.uk
SUMMARY:Apéro DJ: Noahmono
DESCRIPTION:01/02:  apéro DJ: Noahmono. Kick February off with a bang and @_noahmono ‘s set of Balearic\, soul\, Latin & reggae. 6-10.
URL:https://www.discovernorthampton.co.uk/event/apero-dj-noahmono-9/
LOCATION:V and B\, 10 St Giles' Square\,\, Northampton\, NN1 1DA\, United Kingdom
CATEGORIES:Club,DJ,Night Out
ATTACH;FMTTYPE=image/jpeg:https://www.discovernorthampton.co.uk/wp-content/uploads/2025/01/V-and-B-events.jpg
END:VEVENT
BEGIN:VEVENT
DTSTART;TZID=Europe/London:20250131T193000
DTEND;TZID=Europe/London:20250131T223000
DTSTAMP:20260420T082540
CREATED:20250102T110652Z
LAST-MODIFIED:20250102T110652Z
UID:122922-1738351800-1738362600@www.discovernorthampton.co.uk
SUMMARY:GOLDIE LOOKING CHAIN & GUESTS
DESCRIPTION:STRAIGHT OUTTA NEWPORT AND BEST KNOWN FOR CLASSICS “GUNS DON’T KILL PEOPLE RAPPERS DO” AND “YOUR MOTHER’S GOT A PENIS”\, THE GLC ARE OFFICIALLY BRITAIN’S BIGGEST RAP GROUP . \nMAGGOT\, EGGSY\, DWAIN XAIN ZEDONG\, MIKE BALLS\, ADRIAN FANDANGO\, 2HATS\, THE WIBBLER\, MYSTKAL AND GRAYHAM THE BEAR ARE COMING TO ROADMENDER IN NORTHAMPTON AND KEEPING IT REAL. \nFUELLED BY LAMBRINI\, FAGS\, CHICKEN TIKKA MASALA AND WEED THEY ALL TOOK TO THE MIC AND IN 2001 THE GLC’S FIRST ALBUM “DON’T BLAME THE CHAIN” WAS BORN. \nAND SO IT BEGAN\, A JOURNEY WHICH HAS SEEN THE GLC TOP THE CHARTS\, PERFORM AROUND THE WORLD AND AT EVERY MAJOR FESTIVAL IN THE WESTERN HEMISPHERE MAKING MILLIONS OF PEOPLE LAUGH ALONG THE WAY. \nTO DATE THE GLC HAVE RELEASED 18 ALBUMS… AND AMAZINGLY NONE OF THEM HAVE DIED YET
URL:https://www.discovernorthampton.co.uk/event/goldie-looking-chain-guests/
LOCATION:Roadmender\, 1 Lady's Ln\, Northampton\, Northamptonshire\, NN1 3AH\, United Kingdom
CATEGORIES:Club,Concert,dance,DJ,Event,Festival,MUSIC,Night Out,Party
ATTACH;FMTTYPE=image/png:https://www.discovernorthampton.co.uk/wp-content/uploads/2025/01/Bunch-of-goons.png
END:VEVENT
BEGIN:VEVENT
DTSTART;TZID=Europe/London:20250131T180000
DTEND;TZID=Europe/London:20250131T200000
DTSTAMP:20260420T082540
CREATED:20250130T112946Z
LAST-MODIFIED:20250130T112946Z
UID:123329-1738346400-1738353600@www.discovernorthampton.co.uk
SUMMARY:Cheyne Walk Club
DESCRIPTION:We’re holding an open evening for those who want to find out more about the Club. Interested in coming along? 6pm\, Friday 31st January. Drop us a message\, @followers to come along.
URL:https://www.discovernorthampton.co.uk/event/cheyne-walk-club/
LOCATION:Cheyne Walk Club\, 2 Cheyne Walk\, northampton\, Northamptonshire\, NN1 5PU\, United Kingdom
CATEGORIES:Club,Event,Night Out
ATTACH;FMTTYPE=image/jpeg:https://www.discovernorthampton.co.uk/wp-content/uploads/2025/01/Cheyne.jpg
END:VEVENT
BEGIN:VEVENT
DTSTART;TZID=Europe/London:20250117T210000
DTEND;TZID=Europe/London:20250117T230000
DTSTAMP:20260420T082540
CREATED:20250109T104225Z
LAST-MODIFIED:20250109T104225Z
UID:123064-1737147600-1737154800@www.discovernorthampton.co.uk
SUMMARY:Ivor Johnson
DESCRIPTION:Friday 17th January\, the Wig and Pen are hosting Ivor Johnson from 9pm.
URL:https://www.discovernorthampton.co.uk/event/ivor-johnson-2/
LOCATION:The Wig And Pen\, 19 St Giles' St\, northampton\, Northamptonshire\, NN1 1JA\, United Kingdom
CATEGORIES:Event,MUSIC,Night Out
ATTACH;FMTTYPE=image/jpeg:https://www.discovernorthampton.co.uk/wp-content/uploads/2025/01/Wigs-off.jpg
END:VEVENT
BEGIN:VEVENT
DTSTART;TZID=Europe/London:20250117T190000
DTEND;TZID=Europe/London:20250117T223000
DTSTAMP:20260420T082540
CREATED:20250102T110225Z
LAST-MODIFIED:20250102T110225Z
UID:122918-1737140400-1737153000@www.discovernorthampton.co.uk
SUMMARY:FROM THE JAM ‘SETTING SONS’ TOUR
DESCRIPTION:FROM THE JAM ‘Setting Sons’ 45th Anniversary Tour  \nFrom the Jam WERE FORMED IN 2006 WHEN Russell Hastings AND Rick Buckler (EX-THE JAM DRUMMER)\, WHO WERE TOURING AS The Gift\, JOINED FORCES WITH Bruce Foxton (EX-THE JAM BASSIST AND SONGWRITER)\, TO FORM From The Jam. Russell Hastings HAS BEEN THE ONLY FRONTMAN TO WORK WITH BOTH Rick Buckler AND Bruce Foxton SINCE Paul Weller. \nFrom the Jam WILL TOUR THE UK CELEBRATING THE 45TH ANNIVERSARY OF The Jam’S FOURTH STUDIO ALBUM SETTING SONS. THE CRITICALLY ACCLAIMED ALBUM REACHED #4 IN THE UK AND WAS THE BAND’S FIRST ALBUM TO ENTER THE US CHARTS. SUCCEEDING ALL MOD CONS\, THE ALBUM BECAME A COMMERCIAL SUCCESS\, EARNING THEM THEIR FIRST TOP TEN HIT SINGLE THE ETON RIFLES. ”IT SEEMS THAT EVEN THE OBSCURE ALBUM TRACKS LIKE LITTLE BOY SOLDIERS AND THICK AS THIEVES ARE AS POPULAR WHEN WE PLAY THEM LIVE AS THE HIT SINGLES.” SAYS Russell Hastings
URL:https://www.discovernorthampton.co.uk/event/from-the-jam-setting-sons-tour/
LOCATION:Roadmender\, 1 Lady's Ln\, Northampton\, Northamptonshire\, NN1 3AH\, United Kingdom
CATEGORIES:Club,Concert,dance,DJ,Event,MUSIC,Night Out
ATTACH;FMTTYPE=image/jpeg:https://www.discovernorthampton.co.uk/wp-content/uploads/2025/01/FTJ-Setting-Sons-2024-IG21.jpg
END:VEVENT
BEGIN:VEVENT
DTSTART;TZID=Europe/London:20250110T210000
DTEND;TZID=Europe/London:20250110T223000
DTSTAMP:20260420T082540
CREATED:20250109T102854Z
LAST-MODIFIED:20250109T102854Z
UID:123056-1736542800-1736548200@www.discovernorthampton.co.uk
SUMMARY:That's What She Said
DESCRIPTION:Friday 10th January\, Thatâ€™s What She Said event taking place at the Wig and Pen from 9pm.
URL:https://www.discovernorthampton.co.uk/event/thats-what-she-said-2/
LOCATION:The Wig And Pen\, 19 St Giles' St\, northampton\, Northamptonshire\, NN1 1JA\, United Kingdom
CATEGORIES:Event,Night Out
ATTACH;FMTTYPE=image/jpeg:https://www.discovernorthampton.co.uk/wp-content/uploads/2025/01/Wigs-off.jpg
END:VEVENT
BEGIN:VEVENT
DTSTART;TZID=Europe/London:20250109T190000
DTEND;TZID=Europe/London:20250109T210000
DTSTAMP:20260420T082540
CREATED:20250109T105115Z
LAST-MODIFIED:20250109T105115Z
UID:123066-1736449200-1736456400@www.discovernorthampton.co.uk
SUMMARY:Open Mic
DESCRIPTION:09/01:  Open Mic. Join us this Thursday from 7pm for our super popular Open Mic night\, hosted by the great @tukayandryan . Enjoy a night of top NN talent\, right here in the heart of the cultural quarter.
URL:https://www.discovernorthampton.co.uk/event/open-mic-12/
LOCATION:V and B\, 10 St Giles' Square\,\, Northampton\, NN1 1DA\, United Kingdom
CATEGORIES:Event,Karaoke,MUSIC,Night Out
ATTACH;FMTTYPE=image/jpeg:https://www.discovernorthampton.co.uk/wp-content/uploads/2025/01/Flowing-through-my-veins.jpg
END:VEVENT
BEGIN:VEVENT
DTSTART;TZID=Europe/London:20241224T120000
DTEND;TZID=Europe/London:20241224T235900
DTSTAMP:20260420T082540
CREATED:20241217T142010Z
LAST-MODIFIED:20241217T142010Z
UID:122730-1735041600-1735084740@www.discovernorthampton.co.uk
SUMMARY:Christmas Eve Celebrations
DESCRIPTION:“ Join us this Christmas Eve from 12 PM to 12 AM for a day packed with music\, fun\, and games! Let’s celebrate together and count down to Christmas Day in style. Don’t miss out on the festive cheer—see you there!
URL:https://www.discovernorthampton.co.uk/event/christmas-eve-celebrations/
LOCATION:Penny Loafer\, 10-12 Market Sq\, Northampton\, Northampton\, northamptonshire\, NN1 2DL\, United Kingdom
CATEGORIES:Christmas,Food,Night Out,Party
ATTACH;FMTTYPE=image/jpeg:https://www.discovernorthampton.co.uk/wp-content/uploads/2024/12/Penny-boys.jpg
END:VEVENT
BEGIN:VEVENT
DTSTART;TZID=Europe/London:20241220T210000
DTEND;TZID=Europe/London:20241221T010000
DTSTAMP:20260420T082540
CREATED:20241217T144417Z
LAST-MODIFIED:20241217T144417Z
UID:122738-1734728400-1734742800@www.discovernorthampton.co.uk
SUMMARY:TREVOR NELSON SOUL NATION--SOUL RnB--CLUB CLASSICS AT THE ROADMENDER
DESCRIPTION:AFTER ANOTHER SELL OUT EVENT “TREVOR NELSON-SOUL NATION” IS JOINING US AGAIN FOR A  NIGHT OF SOUL/RNB AND CLUB CLASSICS. \nTrevor Nelson holds a cornerstone in UK music history with a career that spans decades and genres. London native began on then pirate radio station which we’ve come to know as Kiss FM. Nelsons took fans through his collection of Soul\, R&B\, Reggae and Dancehall daily with his BBC Radio 1 Extra stint. Now that he’s moved to only presenting on Sundays he’s ready to grace fans with something special. \nThis Xmas  he’ll be taking Northampton by storm again for one night only. \nTake this rare opportunity to see one  UK’s soul masters spin for die-hard fans and grab a ticket before they sell out. \n9pm to 1am
URL:https://www.discovernorthampton.co.uk/event/trevor-nelson-soul-nation-soul-rnb-club-classics-at-the-roadmender/
LOCATION:Roadmender\, 1 Lady's Ln\, Northampton\, Northamptonshire\, NN1 3AH\, United Kingdom
CATEGORIES:Club,Concert,dance,DJ,Event,Festival,MUSIC,Night Out,Party,show
ATTACH;FMTTYPE=image/jpeg:https://www.discovernorthampton.co.uk/wp-content/uploads/2024/12/Trevor-Nelson_540x540-1.jpg
END:VEVENT
BEGIN:VEVENT
DTSTART;TZID=Europe/London:20241218T200000
DTEND;TZID=Europe/London:20241218T220000
DTSTAMP:20260420T082540
CREATED:20241217T145209Z
LAST-MODIFIED:20241217T145209Z
UID:122742-1734552000-1734559200@www.discovernorthampton.co.uk
SUMMARY:Open Mic
DESCRIPTION:For those making their break up weekend plans why not come and pay us a visit
URL:https://www.discovernorthampton.co.uk/event/open-mic-11/
LOCATION:The Wig And Pen\, 19 St Giles' St\, northampton\, Northamptonshire\, NN1 1JA\, United Kingdom
CATEGORIES:Christmas,Club,DJ,Event,MUSIC,Night Out,Party
ATTACH;FMTTYPE=image/jpeg:https://www.discovernorthampton.co.uk/wp-content/uploads/2024/12/wigged-him.jpg
END:VEVENT
BEGIN:VEVENT
DTSTART;TZID=Europe/London:20230331T210000
DTEND;TZID=Europe/London:20230331T230000
DTSTAMP:20260420T082540
CREATED:20230301T100920Z
LAST-MODIFIED:20230301T100920Z
UID:113002-1680296400-1680303600@www.discovernorthampton.co.uk
SUMMARY:Gunslingers
DESCRIPTION:
URL:https://www.discovernorthampton.co.uk/event/gunslingers/
LOCATION:The Wig And Pen\, 19 St Giles' St\, northampton\, Northamptonshire\, NN1 1JA\, United Kingdom
CATEGORIES:Night Out
ATTACH;FMTTYPE=image/jpeg:https://www.discovernorthampton.co.uk/wp-content/uploads/2023/03/1cdaecae-a39a-40a4-9270-aa6a51534966.jpg
END:VEVENT
BEGIN:VEVENT
DTSTART;TZID=Europe/London:20230326T160000
DTEND;TZID=Europe/London:20230326T180000
DTSTAMP:20260420T082540
CREATED:20230301T100731Z
LAST-MODIFIED:20230301T100731Z
UID:112999-1679846400-1679853600@www.discovernorthampton.co.uk
SUMMARY:Accrington Stanley
DESCRIPTION:
URL:https://www.discovernorthampton.co.uk/event/accrington-stanley/
LOCATION:The Wig And Pen\, 19 St Giles' St\, northampton\, Northamptonshire\, NN1 1JA\, United Kingdom
CATEGORIES:Night Out
ATTACH;FMTTYPE=image/png:https://www.discovernorthampton.co.uk/wp-content/uploads/2023/03/c0e221bf-2a63-4fc6-8c22-5fddfd3774d1.png
END:VEVENT
BEGIN:VEVENT
DTSTART;TZID=Europe/London:20230325T210000
DTEND;TZID=Europe/London:20230325T230000
DTSTAMP:20260420T082540
CREATED:20230301T100536Z
LAST-MODIFIED:20230301T100536Z
UID:112996-1679778000-1679785200@www.discovernorthampton.co.uk
SUMMARY:The Reformers
DESCRIPTION:
URL:https://www.discovernorthampton.co.uk/event/the-reformers/
LOCATION:The Wig And Pen\, 19 St Giles' St\, northampton\, Northamptonshire\, NN1 1JA\, United Kingdom
CATEGORIES:Night Out
ATTACH;FMTTYPE=image/jpeg:https://www.discovernorthampton.co.uk/wp-content/uploads/2023/03/6ae66de8-d5e7-4865-912a-121d3347c95d.jpg
END:VEVENT
BEGIN:VEVENT
DTSTART;TZID=Europe/London:20230324T210000
DTEND;TZID=Europe/London:20230324T230000
DTSTAMP:20260420T082540
CREATED:20230301T100152Z
LAST-MODIFIED:20230301T100152Z
UID:112993-1679691600-1679698800@www.discovernorthampton.co.uk
SUMMARY:Hannah Faulkner and Friends
DESCRIPTION:I am a singer & acoustic guitarist who performs a mixture of soul\, motown\, pop\, jazz\, and indie from old to modern classics with over 10+ years experience performing in bars\, restaurants\, wedding venues\, football & rugby clubs\, and private events up and down the Country\, making me a versatile performer.
URL:https://www.discovernorthampton.co.uk/event/hannah-faulkner-and-friends/
LOCATION:The Wig And Pen\, 19 St Giles' St\, northampton\, Northamptonshire\, NN1 1JA\, United Kingdom
CATEGORIES:Night Out
ATTACH;FMTTYPE=image/jpeg:https://www.discovernorthampton.co.uk/wp-content/uploads/2023/03/a05531f9-6c5f-415e-b23d-edd7746ae515.jpg
END:VEVENT
BEGIN:VEVENT
DTSTART;TZID=Europe/London:20230319T160000
DTEND;TZID=Europe/London:20230319T180000
DTSTAMP:20260420T082540
CREATED:20230301T095544Z
LAST-MODIFIED:20230301T095544Z
UID:112990-1679241600-1679248800@www.discovernorthampton.co.uk
SUMMARY:The Other Kind
DESCRIPTION:
URL:https://www.discovernorthampton.co.uk/event/the-other-kind/
LOCATION:The Wig And Pen\, 19 St Giles' St\, northampton\, Northamptonshire\, NN1 1JA\, United Kingdom
CATEGORIES:Night Out
ATTACH;FMTTYPE=image/jpeg:https://www.discovernorthampton.co.uk/wp-content/uploads/2023/03/ae2322e7-b2f0-4e73-a23e-211951a9165a.jpg
END:VEVENT
BEGIN:VEVENT
DTSTART;TZID=Europe/London:20230318T210000
DTEND;TZID=Europe/London:20230318T230000
DTSTAMP:20260420T082540
CREATED:20230301T095323Z
LAST-MODIFIED:20230301T095323Z
UID:112987-1679173200-1679180400@www.discovernorthampton.co.uk
SUMMARY:Cheap Thrills
DESCRIPTION:
URL:https://www.discovernorthampton.co.uk/event/cheap-thrills/
LOCATION:The Wig And Pen\, 19 St Giles' St\, northampton\, Northamptonshire\, NN1 1JA\, United Kingdom
CATEGORIES:Night Out
ATTACH;FMTTYPE=image/jpeg:https://www.discovernorthampton.co.uk/wp-content/uploads/2023/03/57f877a4-253b-42b0-aa8d-0f0b79a25bd4.jpg
END:VEVENT
BEGIN:VEVENT
DTSTART;TZID=Europe/London:20230317T210000
DTEND;TZID=Europe/London:20230317T230000
DTSTAMP:20260420T082540
CREATED:20230301T095141Z
LAST-MODIFIED:20230301T095141Z
UID:112984-1679086800-1679094000@www.discovernorthampton.co.uk
SUMMARY:Mod Story
DESCRIPTION:
URL:https://www.discovernorthampton.co.uk/event/mod-story/
LOCATION:The Wig And Pen\, 19 St Giles' St\, northampton\, Northamptonshire\, NN1 1JA\, United Kingdom
CATEGORIES:Night Out
ATTACH;FMTTYPE=image/jpeg:https://www.discovernorthampton.co.uk/wp-content/uploads/2023/03/36ac5b98-4ba5-462e-9834-255abe86c68e.jpg
END:VEVENT
BEGIN:VEVENT
DTSTART;TZID=Europe/London:20230312T160000
DTEND;TZID=Europe/London:20230312T180000
DTSTAMP:20260420T082540
CREATED:20230301T094945Z
LAST-MODIFIED:20230301T094945Z
UID:112981-1678636800-1678644000@www.discovernorthampton.co.uk
SUMMARY:40 Watt?
DESCRIPTION:
URL:https://www.discovernorthampton.co.uk/event/40-watt/
LOCATION:The Wig And Pen\, 19 St Giles' St\, northampton\, Northamptonshire\, NN1 1JA\, United Kingdom
CATEGORIES:Night Out
ATTACH;FMTTYPE=image/jpeg:https://www.discovernorthampton.co.uk/wp-content/uploads/2023/03/4c8484c6-90d4-431e-b089-f9fc86934cf2-1.jpg
END:VEVENT
BEGIN:VEVENT
DTSTART;TZID=Europe/London:20230311T210000
DTEND;TZID=Europe/London:20230311T230000
DTSTAMP:20260420T082540
CREATED:20230301T094735Z
LAST-MODIFIED:20230301T094735Z
UID:112978-1678568400-1678575600@www.discovernorthampton.co.uk
SUMMARY:The Conumdrum
DESCRIPTION:
URL:https://www.discovernorthampton.co.uk/event/the-conumdrum/
LOCATION:The Wig And Pen\, 19 St Giles' St\, northampton\, Northamptonshire\, NN1 1JA\, United Kingdom
CATEGORIES:Night Out
ATTACH;FMTTYPE=image/jpeg:https://www.discovernorthampton.co.uk/wp-content/uploads/2023/03/1649b35a-b3f3-4dba-868c-c01e224e0cbb.jpg
END:VEVENT
BEGIN:VEVENT
DTSTART;TZID=Europe/London:20230310T210000
DTEND;TZID=Europe/London:20230310T230000
DTSTAMP:20260420T082540
CREATED:20230301T094613Z
LAST-MODIFIED:20230301T094613Z
UID:112975-1678482000-1678489200@www.discovernorthampton.co.uk
SUMMARY:Echoplane
DESCRIPTION:
URL:https://www.discovernorthampton.co.uk/event/echoplane/
LOCATION:The Wig And Pen\, 19 St Giles' St\, northampton\, Northamptonshire\, NN1 1JA\, United Kingdom
CATEGORIES:Night Out
ATTACH;FMTTYPE=image/png:https://www.discovernorthampton.co.uk/wp-content/uploads/2023/03/f0080288-327d-4386-9e69-68e03a83066a.png
END:VEVENT
BEGIN:VEVENT
DTSTART;TZID=Europe/London:20230305T160000
DTEND;TZID=Europe/London:20230305T180000
DTSTAMP:20260420T082540
CREATED:20230301T094406Z
LAST-MODIFIED:20230301T094406Z
UID:112972-1678032000-1678039200@www.discovernorthampton.co.uk
SUMMARY:May Contain Nutz
DESCRIPTION:
URL:https://www.discovernorthampton.co.uk/event/may-contain-nutz/
LOCATION:The Wig And Pen\, 19 St Giles' St\, northampton\, Northamptonshire\, NN1 1JA\, United Kingdom
CATEGORIES:Night Out
ATTACH;FMTTYPE=image/jpeg:https://www.discovernorthampton.co.uk/wp-content/uploads/2023/03/866a7024-7419-4e2c-95f1-97cb4f14aa28.jpg
END:VEVENT
BEGIN:VEVENT
DTSTART;TZID=Europe/London:20230304T210000
DTEND;TZID=Europe/London:20230304T230000
DTSTAMP:20260420T082540
CREATED:20230301T094232Z
LAST-MODIFIED:20230301T094232Z
UID:112969-1677963600-1677970800@www.discovernorthampton.co.uk
SUMMARY:Down South
DESCRIPTION:
URL:https://www.discovernorthampton.co.uk/event/down-south/
LOCATION:The Wig And Pen\, 19 St Giles' St\, northampton\, Northamptonshire\, NN1 1JA\, United Kingdom
CATEGORIES:Night Out
ATTACH;FMTTYPE=image/jpeg:https://www.discovernorthampton.co.uk/wp-content/uploads/2023/03/a882e6cc-4e33-43ef-8f32-54404216a04b.jpg
END:VEVENT
BEGIN:VEVENT
DTSTART;TZID=Europe/London:20230303T210000
DTEND;TZID=Europe/London:20230303T230000
DTSTAMP:20260420T082540
CREATED:20230301T093925Z
LAST-MODIFIED:20230301T093925Z
UID:112966-1677877200-1677884400@www.discovernorthampton.co.uk
SUMMARY:Pure Genius
DESCRIPTION:Pure Genius are a 5/6 piece party band playing music from all decades and genres. Fronted by Northamptonshireâ€™s finest vocalist along with a slick band and tight harmonies.
URL:https://www.discovernorthampton.co.uk/event/pure-genius/
LOCATION:The Wig And Pen\, 19 St Giles' St\, northampton\, Northamptonshire\, NN1 1JA\, United Kingdom
CATEGORIES:Night Out
ATTACH;FMTTYPE=image/jpeg:https://www.discovernorthampton.co.uk/wp-content/uploads/2023/03/1917eac1-0562-4eaf-92bd-f731fcb7c402.jpg
END:VEVENT
BEGIN:VEVENT
DTSTART;TZID=Europe/London:20230205T160000
DTEND;TZID=Europe/London:20230205T180000
DTSTAMP:20260420T082540
CREATED:20230202T110912Z
LAST-MODIFIED:20230202T110912Z
UID:112330-1675612800-1675620000@www.discovernorthampton.co.uk
SUMMARY:The Oscillators/Stoned Hillbillies
DESCRIPTION:
URL:https://www.discovernorthampton.co.uk/event/the-oscillators-stoned-hillbillies/
LOCATION:The Wig And Pen\, 19 St Giles' St\, northampton\, Northamptonshire\, NN1 1JA\, United Kingdom
CATEGORIES:Night Out
ATTACH;FMTTYPE=image/png:https://www.discovernorthampton.co.uk/wp-content/uploads/2023/02/aeacbbce-234b-4d18-a992-8fc570e177c0.png
END:VEVENT
BEGIN:VEVENT
DTSTART;TZID=Europe/London:20230204T190000
DTEND;TZID=Europe/London:20230204T220000
DTSTAMP:20260420T082540
CREATED:20230202T115435Z
LAST-MODIFIED:20230202T115435Z
UID:112373-1675537200-1675548000@www.discovernorthampton.co.uk
SUMMARY:Noahmono
DESCRIPTION:Join us as we show Wales vs Ireland\, then England vs Scotland on the big screen upstairs
URL:https://www.discovernorthampton.co.uk/event/noahmono/
LOCATION:VnB\, 10 St Giles' Square\, Northampton\, Northamptonshire\, NN1 1DA\, United Kingdom
CATEGORIES:Night Out
ATTACH;FMTTYPE=image/png:https://www.discovernorthampton.co.uk/wp-content/uploads/2023/02/images-1.png
END:VEVENT
BEGIN:VEVENT
DTSTART;TZID=Europe/London:20230128T220000
DTEND;TZID=Europe/London:20230128T235900
DTSTAMP:20260420T082540
CREATED:20230104T120759Z
LAST-MODIFIED:20230104T120759Z
UID:112034-1674943200-1674950340@www.discovernorthampton.co.uk
SUMMARY:Royal Rumble 2023- Barry Windham Fundraiser
DESCRIPTION:ALL MONEY RAISED goes to Barry Windhams Go Fund
URL:https://www.discovernorthampton.co.uk/event/royal-rumble-2023-barry-windham-fundraiser/
LOCATION:The Charles Bradlaugh\, 1 Earl St\, northampton\, Northamptonshire\, NN1 3AU\, United Kingdom
CATEGORIES:Night Out
ATTACH;FMTTYPE=image/jpeg:https://www.discovernorthampton.co.uk/wp-content/uploads/2023/01/scaled_768-2.jpg
END:VEVENT
BEGIN:VEVENT
DTSTART;TZID=Europe/London:20221103T190000
DTEND;TZID=Europe/London:20221103T210000
DTSTAMP:20260420T082540
CREATED:20221102T084020Z
LAST-MODIFIED:20221102T084020Z
UID:111423-1667502000-1667509200@www.discovernorthampton.co.uk
SUMMARY:South African Wine Tasting Night - V and B
DESCRIPTION:
URL:https://www.discovernorthampton.co.uk/event/south-african-wine-tasting-night-v-and-b/
LOCATION:VnB\, 10 St Giles' Square\, Northampton\, Northamptonshire\, NN1 1DA\, United Kingdom
CATEGORIES:Night Out
ATTACH;FMTTYPE=image/jpeg:https://www.discovernorthampton.co.uk/wp-content/uploads/2022/11/fxrfgtrws.jpeg
END:VEVENT
BEGIN:VEVENT
DTSTART;TZID=Europe/London:20221029T210000
DTEND;TZID=Europe/London:20221029T233000
DTSTAMP:20260420T082540
CREATED:20221003T111324Z
LAST-MODIFIED:20221003T111324Z
UID:110685-1667077200-1667086200@www.discovernorthampton.co.uk
SUMMARY:DAVID RODIGAN – The Roadmender
DESCRIPTION:FOR OVER 40 YEARS DAVID RODIGAN HAS BEEN THE TOP DOG IN THE GANJA-SCENTED\, BASS HEAVY-ATMOSPHERE\nOF BRITAIN’S REGGAE DANCE-HALLS. THE KEY TO HIS SUCCESS HAS BEEN AN UNSINKABLE PASSION FOR REGGAE\nMUSIC\, WHICH FIRST TOOK A HOLD OF HIM AS A SCHOOLBOY WHEN HE HEARD SKA MUSIC IN THE EARLY ’60S. HE\nDEVELOPED AN OBSESSION WITH THE MUSIC OF JAMAICA THAT GENERATED AN ENCYCLOPAEDIC KNOWLEDGE OF\nTHE ISLAND’S EVERY ARTIST\, EVERY SONG AND EVERY RHYTHM TRACK.
URL:https://www.discovernorthampton.co.uk/event/david-rodigan-the-roadmender/
LOCATION:Roadmender\, 1 Lady's Ln\, Northampton\, Northamptonshire\, NN1 3AH\, United Kingdom
CATEGORIES:Night Out
ATTACH;FMTTYPE=image/png:https://www.discovernorthampton.co.uk/wp-content/uploads/2022/10/540-SQUARE-DAVID-RODIGAN-1.png
END:VEVENT
END:VCALENDAR