BEGIN:VCALENDAR
VERSION:2.0
PRODID:-//Northampton BID - ECPv6.2.4//NONSGML v1.0//EN
CALSCALE:GREGORIAN
METHOD:PUBLISH
X-WR-CALNAME:Northampton BID
X-ORIGINAL-URL:https://www.discovernorthampton.co.uk
X-WR-CALDESC:Events for Northampton BID
REFRESH-INTERVAL;VALUE=DURATION:PT1H
X-Robots-Tag:noindex
X-PUBLISHED-TTL:PT1H
BEGIN:VTIMEZONE
TZID:Europe/London
BEGIN:DAYLIGHT
TZOFFSETFROM:+0000
TZOFFSETTO:+0100
TZNAME:BST
DTSTART:20220327T010000
END:DAYLIGHT
BEGIN:STANDARD
TZOFFSETFROM:+0100
TZOFFSETTO:+0000
TZNAME:GMT
DTSTART:20221030T010000
END:STANDARD
END:VTIMEZONE
BEGIN:VEVENT
DTSTART;TZID=Europe/London:20220528T210000
DTEND;TZID=Europe/London:20220528T230000
DTSTAMP:20260425T180305
CREATED:20220519T145627Z
LAST-MODIFIED:20220519T145627Z
UID:108718-1653771600-1653778800@www.discovernorthampton.co.uk
SUMMARY:The Big Head Ska Band - The Wig And Pen
DESCRIPTION:The Big Head Ska Band perform at The Wig And Pen
URL:https://www.discovernorthampton.co.uk/event/the-big-head-ska-band-the-wig-and-pen/
LOCATION:The Wig And Pen\, 19 St Giles' St\, northampton\, Northamptonshire\, NN1 1JA\, United Kingdom
CATEGORIES:Night Out
ATTACH;FMTTYPE=image/jpeg:https://www.discovernorthampton.co.uk/wp-content/uploads/2022/05/download-1.jpg
END:VEVENT
BEGIN:VEVENT
DTSTART;TZID=Europe/London:20220527T210000
DTEND;TZID=Europe/London:20220527T230000
DTSTAMP:20260425T180305
CREATED:20220519T145357Z
LAST-MODIFIED:20220519T145357Z
UID:108716-1653685200-1653692400@www.discovernorthampton.co.uk
SUMMARY:The Reverend Ramoo Show - The Wig And Pen
DESCRIPTION:The Reverend Ramoo Show performed at The Wig And Pen
URL:https://www.discovernorthampton.co.uk/event/the-reverend-ramoo-show-the-wig-and-pen/
LOCATION:The Wig And Pen\, 19 St Giles' St\, northampton\, Northamptonshire\, NN1 1JA\, United Kingdom
CATEGORIES:Night Out
ATTACH;FMTTYPE=image/jpeg:https://www.discovernorthampton.co.uk/wp-content/uploads/2022/05/download-1.jpg
END:VEVENT
BEGIN:VEVENT
DTSTART;TZID=Europe/London:20220527T210000
DTEND;TZID=Europe/London:20220527T230000
DTSTAMP:20260425T180305
CREATED:20220517T081858Z
LAST-MODIFIED:20220517T081858Z
UID:108643-1653685200-1653692400@www.discovernorthampton.co.uk
SUMMARY:Reggae Daz - Retro Bar
DESCRIPTION:Join Retro Bar on their reggae night with Reggae Daz
URL:https://www.discovernorthampton.co.uk/event/reggae-daz-retro-bar-2/
LOCATION:Retro Bar\, 16 Bridge St\, Northampton\, Northants\, NN1 1NW\, United Kingdom
CATEGORIES:Night Out
ATTACH;FMTTYPE=image/png:https://www.discovernorthampton.co.uk/wp-content/uploads/2022/05/poster_2022-05-03-072729-1.png
END:VEVENT
BEGIN:VEVENT
DTSTART;TZID=Europe/London:20220527T210000
DTEND;TZID=Europe/London:20220527T230000
DTSTAMP:20260425T180305
CREATED:20220504T124241Z
LAST-MODIFIED:20220504T124241Z
UID:108306-1653685200-1653692400@www.discovernorthampton.co.uk
SUMMARY:Reggae Daz - Retro Bar
DESCRIPTION:Reggae night 9-11pm free entry at Retro Bar
URL:https://www.discovernorthampton.co.uk/event/reggae-daz-retro-bar/
LOCATION:Retro Bar\, 16 Bridge St\, Northampton\, Northants\, NN1 1NW\, United Kingdom
CATEGORIES:Night Out
ATTACH;FMTTYPE=image/png:https://www.discovernorthampton.co.uk/wp-content/uploads/2022/05/poster_2022-05-03-072729.png
END:VEVENT
BEGIN:VEVENT
DTSTART;TZID=Europe/London:20220522T160000
DTEND;TZID=Europe/London:20220522T180000
DTSTAMP:20260425T180305
CREATED:20220519T145122Z
LAST-MODIFIED:20220519T145135Z
UID:108713-1653235200-1653242400@www.discovernorthampton.co.uk
SUMMARY:Tj Johnson & The Preachers - The Wig And Pen
DESCRIPTION:Tj Johnson and The Preachers perform at The Wig And Pen
URL:https://www.discovernorthampton.co.uk/event/tj-johnson-the-preachers-the-wig-and-pen/
LOCATION:The Wig And Pen\, 19 St Giles' St\, northampton\, Northamptonshire\, NN1 1JA\, United Kingdom
CATEGORIES:Night Out
ATTACH;FMTTYPE=image/jpeg:https://www.discovernorthampton.co.uk/wp-content/uploads/2022/05/download-1.jpg
END:VEVENT
BEGIN:VEVENT
DTSTART;TZID=Europe/London:20220521T210000
DTEND;TZID=Europe/London:20220521T230000
DTSTAMP:20260425T180305
CREATED:20220519T144831Z
LAST-MODIFIED:20220519T144831Z
UID:108711-1653166800-1653174000@www.discovernorthampton.co.uk
SUMMARY:Down South - The Wig And Pen
DESCRIPTION:Watch Down South Perform at The Wig and Pen
URL:https://www.discovernorthampton.co.uk/event/down-south-the-wig-and-pen/
LOCATION:The Wig And Pen\, 19 St Giles' St\, northampton\, Northamptonshire\, NN1 1JA\, United Kingdom
CATEGORIES:Night Out
ATTACH;FMTTYPE=image/jpeg:https://www.discovernorthampton.co.uk/wp-content/uploads/2022/05/download-1.jpg
END:VEVENT
BEGIN:VEVENT
DTSTART;TZID=Europe/London:20220520T200000
DTEND;TZID=Europe/London:20220520T220000
DTSTAMP:20260425T180305
CREATED:20220519T144207Z
LAST-MODIFIED:20220519T144207Z
UID:108706-1653076800-1653084000@www.discovernorthampton.co.uk
SUMMARY:DJ Andy - The Wig And Pen
DESCRIPTION:DJ Andy playing at The Wig and Pen for a fun night out
URL:https://www.discovernorthampton.co.uk/event/dj-andy-the-wig-and-pen/
LOCATION:The Wig And Pen\, 19 St Giles' St\, northampton\, Northamptonshire\, NN1 1JA\, United Kingdom
CATEGORIES:Night Out
ATTACH;FMTTYPE=image/jpeg:https://www.discovernorthampton.co.uk/wp-content/uploads/2022/05/download-1.jpg
END:VEVENT
BEGIN:VEVENT
DTSTART;TZID=Europe/London:20220518T210000
DTEND;TZID=Europe/London:20220518T230000
DTSTAMP:20260425T180305
CREATED:20220517T082949Z
LAST-MODIFIED:20220519T150249Z
UID:108646-1652907600-1652914800@www.discovernorthampton.co.uk
SUMMARY:Karaoke with Traya Buns
DESCRIPTION:Join Retro Bar Every Wednesday Night for a night of Karaoke with Traya Buns
URL:https://www.discovernorthampton.co.uk/event/karaoke-with-traya-buns/2022-05-18/
LOCATION:Retro Bar\, 16 Bridge St\, Northampton\, Northants\, NN1 1NW\, United Kingdom
CATEGORIES:Club,Karaoke,Night Out
ATTACH;FMTTYPE=image/jpeg:https://www.discovernorthampton.co.uk/wp-content/uploads/2022/05/Screenshot_20220513-203403_Facebook-1.jpg
END:VEVENT
BEGIN:VEVENT
DTSTART;TZID=Europe/London:20220506T210000
DTEND;TZID=Europe/London:20220506T230000
DTSTAMP:20260425T180305
CREATED:20220419T151749Z
LAST-MODIFIED:20220419T151749Z
UID:107970-1651870800-1651878000@www.discovernorthampton.co.uk
SUMMARY:Sean Connolly - Retro Bar
DESCRIPTION:Join Retro Bar watching Sean Connolly perform live!
URL:https://www.discovernorthampton.co.uk/event/sean-connolly-retro-bar/
LOCATION:Retro Bar\, 16 Bridge St\, Northampton\, Northants\, NN1 1NW\, United Kingdom
CATEGORIES:Night Out
ATTACH;FMTTYPE=image/png:https://www.discovernorthampton.co.uk/wp-content/uploads/2022/04/poster_2022-04-13-102646.png
END:VEVENT
BEGIN:VEVENT
DTSTART;TZID=Europe/London:20220429T200000
DTEND;TZID=Europe/London:20220429T220000
DTSTAMP:20260425T180305
CREATED:20220419T151447Z
LAST-MODIFIED:20220419T151447Z
UID:107967-1651262400-1651269600@www.discovernorthampton.co.uk
SUMMARY:The Oscillators - Retro Bar
DESCRIPTION:Join Retro bar to watch The Oscillators play some rock and roll!
URL:https://www.discovernorthampton.co.uk/event/the-oscillators-retro-bar/
LOCATION:Retro Bar\, 16 Bridge St\, Northampton\, Northants\, NN1 1NW\, United Kingdom
CATEGORIES:Night Out
ATTACH;FMTTYPE=image/jpeg:https://www.discovernorthampton.co.uk/wp-content/uploads/2022/04/IMG-20220414-WA0004.jpg
END:VEVENT
BEGIN:VEVENT
DTSTART;TZID=Europe/London:20220227T190000
DTEND;TZID=Europe/London:20220227T210000
DTSTAMP:20260425T180305
CREATED:20220223T131807Z
LAST-MODIFIED:20220223T131807Z
UID:107387-1645988400-1645995600@www.discovernorthampton.co.uk
SUMMARY:Stevie Jones live at The Auctioneers
DESCRIPTION:Solo and acoustic playing a classic covers set 60s-90s and beyond…from Bowie to the Stones to The Verve\, REM and much more
URL:https://www.discovernorthampton.co.uk/event/stevie-jones-live-at-the-auctioneers/
LOCATION:The Auctioneers\, 10-12 Market Square\, Northampton\, Northants\, NN1 2DL\, United Kingdom
CATEGORIES:Night Out
ATTACH;FMTTYPE=image/jpeg:https://www.discovernorthampton.co.uk/wp-content/uploads/2022/02/4c7296ab8f20983b87a30ae07664abbf323594d695e2f7d4e87cff945f1bf28c-rimg-w526-h372-gmir.jpg
END:VEVENT
BEGIN:VEVENT
DTSTART;TZID=Europe/London:20220226T220000
DTEND;TZID=Europe/London:20220227T040000
DTSTAMP:20260425T180305
CREATED:20220223T131024Z
LAST-MODIFIED:20220223T131024Z
UID:107382-1645912800-1645934400@www.discovernorthampton.co.uk
SUMMARY:Champagne Spray
DESCRIPTION:Half Price Champagne all night at  Illuminatiâ€™s Northampton for a fun night out with friends
URL:https://www.discovernorthampton.co.uk/event/champagne-spray/
LOCATION:Illuminati\, 94 Bridge St\, Northampton\, Northants\, NN1 1PD\, United Kingdom
CATEGORIES:Night Out
ATTACH;FMTTYPE=image/jpeg:https://www.discovernorthampton.co.uk/wp-content/uploads/2022/02/1400526_3_champagne-spray_1024.jpg
END:VEVENT
BEGIN:VEVENT
DTSTART;TZID=Europe/London:20220226T120000
DTEND;TZID=Europe/London:20220226T190000
DTSTAMP:20260425T180305
CREATED:20220223T132837Z
LAST-MODIFIED:20220223T132837Z
UID:107395-1645876800-1645902000@www.discovernorthampton.co.uk
SUMMARY:Come As You Are
DESCRIPTION:Come As You Are happening at The Black Prince
URL:https://www.discovernorthampton.co.uk/event/come-as-you-are/
LOCATION:The Black Prince\, 15 Abington Square\,\, Northampton\, Northants\, NN1 4AE\, United Kingdom
CATEGORIES:Night Out
ATTACH;FMTTYPE=image/jpeg:https://www.discovernorthampton.co.uk/wp-content/uploads/2022/02/8599eaaf59da737ce93c4f77e2a549a6ea8c3a8ca484202d1e11a1d0cd83e8cc-rimg-w512-h640-gmir.jpg
END:VEVENT
BEGIN:VEVENT
DTSTART;TZID=Europe/London:20220225T220000
DTEND;TZID=Europe/London:20220226T040000
DTSTAMP:20260425T180305
CREATED:20220223T140735Z
LAST-MODIFIED:20220223T140735Z
UID:107411-1645826400-1645848000@www.discovernorthampton.co.uk
SUMMARY:UV Student Party
DESCRIPTION:UV Student Party After a series of sold out events over the years\, welcoming over 400\,000 freshers into our events. UV Freshers Party is an experience you CANNOT miss out on!
URL:https://www.discovernorthampton.co.uk/event/uv-student-party/
LOCATION:Illuminati\, 94 Bridge St\, Northampton\, Northants\, NN1 1PD\, United Kingdom
CATEGORIES:Night Out
ATTACH;FMTTYPE=image/jpeg:https://www.discovernorthampton.co.uk/wp-content/uploads/2022/02/W1siZiIsInB1YmxpYy8yMDIyLzIvMTcvMTQvNDAvNDAvMTU5LzBCODJEMTBCLUI1MkMtNDA2NS1BQzg1LTZCOEE3RjE5OTcxQS5qcGVnIl1d.jpeg
END:VEVENT
BEGIN:VEVENT
DTSTART;TZID=Europe/London:20220225T220000
DTEND;TZID=Europe/London:20220226T040000
DTSTAMP:20260425T180305
CREATED:20220223T132352Z
LAST-MODIFIED:20220223T132352Z
UID:107392-1645826400-1645848000@www.discovernorthampton.co.uk
SUMMARY:Get Wasted NN2
DESCRIPTION:Get Wasted NN2 Northampton’s Biggest Party Of The Year This Event Will 100% Sell Out DJâ€™s On The Night: TBA Music Policy: R&B\, Hip-Hop\, Afro Beats\, Bashment\, Old Skool + More Attractions:-
URL:https://www.discovernorthampton.co.uk/event/get-wasted-nn2/
LOCATION:Illuminati\, 94 Bridge St\, Northampton\, Northants\, NN1 1PD\, United Kingdom
CATEGORIES:Night Out
ATTACH;FMTTYPE=image/jpeg:https://www.discovernorthampton.co.uk/wp-content/uploads/2022/02/W1siZiIsInB1YmxpYy8yMDIyLzIvMTQvMjAvNi8yMi84NDMvQUY5MkNCQzMtOUJFQS00MUMwLThEMjktMEM2NEU5RkY2MEY4LmpwZWciXV0.jpeg
END:VEVENT
END:VCALENDAR