BEGIN:VCALENDAR
VERSION:2.0
PRODID:-//Northampton BID - ECPv6.2.4//NONSGML v1.0//EN
CALSCALE:GREGORIAN
METHOD:PUBLISH
X-WR-CALNAME:Northampton BID
X-ORIGINAL-URL:https://www.discovernorthampton.co.uk
X-WR-CALDESC:Events for Northampton BID
REFRESH-INTERVAL;VALUE=DURATION:PT1H
X-Robots-Tag:noindex
X-PUBLISHED-TTL:PT1H
BEGIN:VTIMEZONE
TZID:Europe/London
BEGIN:DAYLIGHT
TZOFFSETFROM:+0000
TZOFFSETTO:+0100
TZNAME:BST
DTSTART:20250330T010000
END:DAYLIGHT
BEGIN:STANDARD
TZOFFSETFROM:+0100
TZOFFSETTO:+0000
TZNAME:GMT
DTSTART:20251026T010000
END:STANDARD
END:VTIMEZONE
BEGIN:VEVENT
DTSTART;TZID=Europe/London:20250918T190000
DTEND;TZID=Europe/London:20250918T210000
DTSTAMP:20260421T234103
CREATED:20250911T114227Z
LAST-MODIFIED:20250911T114227Z
UID:130250-1758222000-1758229200@www.discovernorthampton.co.uk
SUMMARY:Open Mic
DESCRIPTION:Open Mic. Hosted by @tukayandryan. 7-9. Free entry.
URL:https://www.discovernorthampton.co.uk/event/open-mic-27/
LOCATION:V and B\, 10 St Giles' Square\,\, Northampton\, NN1 1DA\, United Kingdom
CATEGORIES:Open Mic
ATTACH;FMTTYPE=image/jpeg:https://www.discovernorthampton.co.uk/wp-content/uploads/2025/09/544773369_18042950261672891_6522554728295383710_n.jpg
END:VEVENT
BEGIN:VEVENT
DTSTART;TZID=Europe/London:20250917T200000
DTEND;TZID=Europe/London:20250917T200000
DTSTAMP:20260421T234103
CREATED:20250909T064628Z
LAST-MODIFIED:20250909T064628Z
UID:130152-1758139200-1758139200@www.discovernorthampton.co.uk
SUMMARY:OPEN MIC
DESCRIPTION:Open Mic Night from 8pm
URL:https://www.discovernorthampton.co.uk/event/open-mic-26/
LOCATION:The Wig And Pen\, 19 St Giles' St\, northampton\, Northamptonshire\, NN1 1JA\, United Kingdom
CATEGORIES:Open Mic
ATTACH;FMTTYPE=image/png:https://www.discovernorthampton.co.uk/wp-content/uploads/2025/09/Screenshot-2025-09-01-131004.png
END:VEVENT
BEGIN:VEVENT
DTSTART;TZID=Europe/London:20250820T200000
DTEND;TZID=Europe/London:20250820T200000
DTSTAMP:20260421T234103
CREATED:20250726T101217Z
LAST-MODIFIED:20250726T101217Z
UID:128805-1755720000-1755720000@www.discovernorthampton.co.uk
SUMMARY:OPEN MIC
DESCRIPTION:Join us from 8pm
URL:https://www.discovernorthampton.co.uk/event/open-mic-24/
LOCATION:The Wig And Pen\, 19 St Giles' St\, northampton\, Northamptonshire\, NN1 1JA\, United Kingdom
CATEGORIES:Open Mic
ATTACH;FMTTYPE=image/png:https://www.discovernorthampton.co.uk/wp-content/uploads/2025/07/Screenshot-2025-07-26-102635.png
END:VEVENT
BEGIN:VEVENT
DTSTART;TZID=Europe/London:20250814T190000
DTEND;TZID=Europe/London:20250814T210000
DTSTAMP:20260421T234103
CREATED:20250807T133645Z
LAST-MODIFIED:20250807T133645Z
UID:129010-1755198000-1755205200@www.discovernorthampton.co.uk
SUMMARY:Open Mic.
DESCRIPTION:Open Mic. Hosted by @tukayandryan . 7-9pm. Free entry.
URL:https://www.discovernorthampton.co.uk/event/open-mic-25/
LOCATION:V and B\, 10 St Giles' Square\,\, Northampton\, NN1 1DA\, United Kingdom
CATEGORIES:Open Mic
ATTACH;FMTTYPE=image/jpeg:https://www.discovernorthampton.co.uk/wp-content/uploads/2025/08/527437516_18038901434672891_1538824718486308596_n.jpg
END:VEVENT
BEGIN:VEVENT
DTSTART;TZID=Europe/London:20250806T200000
DTEND;TZID=Europe/London:20250806T200000
DTSTAMP:20260421T234103
CREATED:20250726T094556Z
LAST-MODIFIED:20250726T094556Z
UID:128791-1754510400-1754510400@www.discovernorthampton.co.uk
SUMMARY:OPEN MIC
DESCRIPTION:Join us from 8pm
URL:https://www.discovernorthampton.co.uk/event/open-mic-23/
LOCATION:The Wig And Pen\, 19 St Giles' St\, northampton\, Northamptonshire\, NN1 1JA\, United Kingdom
CATEGORIES:Open Mic
ATTACH;FMTTYPE=image/png:https://www.discovernorthampton.co.uk/wp-content/uploads/2025/07/Screenshot-2025-07-26-102635.png
END:VEVENT
BEGIN:VEVENT
DTSTART;TZID=Europe/London:20250710T190000
DTEND;TZID=Europe/London:20250710T210000
DTSTAMP:20260421T234103
CREATED:20250704T121049Z
LAST-MODIFIED:20250704T121049Z
UID:128105-1752174000-1752181200@www.discovernorthampton.co.uk
SUMMARY:Open Mic
DESCRIPTION:Open Mic. Hosted by @tukayandryan . 7-9pm. Free entry.
URL:https://www.discovernorthampton.co.uk/event/open-mic-21/
LOCATION:V and B\, 10 St Giles' Square\,\, Northampton\, NN1 1DA\, United Kingdom
CATEGORIES:Open Mic
ATTACH;FMTTYPE=image/jpeg:https://www.discovernorthampton.co.uk/wp-content/uploads/2025/07/514624258_18034964867672891_2624470793226485539_n.jpg
END:VEVENT
BEGIN:VEVENT
DTSTART;TZID=Europe/London:20250612T190000
DTEND;TZID=Europe/London:20250612T210000
DTSTAMP:20260421T234103
CREATED:20250605T140350Z
LAST-MODIFIED:20250605T140350Z
UID:127501-1749754800-1749762000@www.discovernorthampton.co.uk
SUMMARY:Open Mic.
DESCRIPTION:12/06: Open Mic. Hosted by @tukayandryan . 7-9pm. Free entry.
URL:https://www.discovernorthampton.co.uk/event/open-mic-19/
LOCATION:V and B\, 10 St Giles' Square\,\, Northampton\, NN1 1DA\, United Kingdom
CATEGORIES:Open Mic
ATTACH;FMTTYPE=image/jpeg:https://www.discovernorthampton.co.uk/wp-content/uploads/2025/06/503382262_18031776290672891_5782406116248350320_n.jpg
END:VEVENT
BEGIN:VEVENT
DTSTART;TZID=Europe/London:20250416T200000
DTEND;TZID=Europe/London:20250416T200000
DTSTAMP:20260421T234103
CREATED:20250407T101416Z
LAST-MODIFIED:20250407T101416Z
UID:125641-1744833600-1744833600@www.discovernorthampton.co.uk
SUMMARY:OPEN MIC
DESCRIPTION:
URL:https://www.discovernorthampton.co.uk/event/open-mic-14/
LOCATION:The Wig And Pen\, 19 St Giles' St\, northampton\, Northamptonshire\, NN1 1JA\, United Kingdom
CATEGORIES:Event,Open Mic
ATTACH;FMTTYPE=image/jpeg:https://www.discovernorthampton.co.uk/wp-content/uploads/2025/04/Wig-Pen-April.jpg
END:VEVENT
BEGIN:VEVENT
DTSTART;TZID=Europe/London:20250406T193000
DTEND;TZID=Europe/London:20250406T193000
DTSTAMP:20260421T234103
CREATED:20250403T085652Z
LAST-MODIFIED:20250403T085652Z
UID:125605-1743967800-1743967800@www.discovernorthampton.co.uk
SUMMARY:Shipmans Open Mic!
DESCRIPTION:We’re back at the wonderful Shipmans pub for the open mic! All welcome!
URL:https://www.discovernorthampton.co.uk/event/shipmans-open-mic/
LOCATION:The Shipmans\, 12 Drapery\,\, northampton\, Northamptonshire\, NN1 2HG\, United Kingdom
CATEGORIES:Open Mic
ATTACH;FMTTYPE=image/jpeg:https://www.discovernorthampton.co.uk/wp-content/uploads/2025/04/Shipmans.jpg
END:VEVENT
END:VCALENDAR